BEGIN:VCALENDAR
VERSION:2.0
PRODID:-//Curtis Baptist Church - ECPv6.15.20//NONSGML v1.0//EN
CALSCALE:GREGORIAN
METHOD:PUBLISH
X-ORIGINAL-URL:https://curtisbc.org
X-WR-CALDESC:Events for Curtis Baptist Church
REFRESH-INTERVAL;VALUE=DURATION:PT1H
X-Robots-Tag:noindex
X-PUBLISHED-TTL:PT1H
BEGIN:VTIMEZONE
TZID:America/Halifax
BEGIN:DAYLIGHT
TZOFFSETFROM:-0400
TZOFFSETTO:-0300
TZNAME:ADT
DTSTART:20240310T060000
END:DAYLIGHT
BEGIN:STANDARD
TZOFFSETFROM:-0300
TZOFFSETTO:-0400
TZNAME:AST
DTSTART:20241103T050000
END:STANDARD
BEGIN:DAYLIGHT
TZOFFSETFROM:-0400
TZOFFSETTO:-0300
TZNAME:ADT
DTSTART:20250309T060000
END:DAYLIGHT
BEGIN:STANDARD
TZOFFSETFROM:-0300
TZOFFSETTO:-0400
TZNAME:AST
DTSTART:20251102T050000
END:STANDARD
BEGIN:DAYLIGHT
TZOFFSETFROM:-0400
TZOFFSETTO:-0300
TZNAME:ADT
DTSTART:20260308T060000
END:DAYLIGHT
BEGIN:STANDARD
TZOFFSETFROM:-0300
TZOFFSETTO:-0400
TZNAME:AST
DTSTART:20261101T050000
END:STANDARD
END:VTIMEZONE
BEGIN:VEVENT
DTSTART;TZID=America/Halifax:20250806T180000
DTEND;TZID=America/Halifax:20250806T190000
DTSTAMP:20260419T170714
CREATED:20250724T175824Z
LAST-MODIFIED:20250724T175824Z
UID:10001570-1754503200-1754506800@curtisbc.org
SUMMARY:2025 Summer Share
DESCRIPTION:Make sure to mark your calendar for our 2025 Summer Share Time on Wednesday\, August 6th at 6 PM! We will gather in the church gym for a time of sharing in worship led by our students\, testimonies from VBS\, CSM Camp\, Kentucky and Alaska Mission Trips. Ice cream will be provided for you to enjoy! The nursery will be available but all other discipleship classes will not meet. Invite someone to come enjoy this time of sharing together!
URL:https://curtisbc.org/event/2025-summer-share/
ATTACH;FMTTYPE=image/png:https://curtisbc.org/wp-content/uploads/2025/07/unnamed-2025-07-24T124112.685.png
END:VEVENT
END:VCALENDAR