BEGIN:VCALENDAR
VERSION:2.0
PRODID:-//Curtis Baptist Church - ECPv6.15.20//NONSGML v1.0//EN
CALSCALE:GREGORIAN
METHOD:PUBLISH
X-ORIGINAL-URL:https://curtisbc.org
X-WR-CALDESC:Events for Curtis Baptist Church
REFRESH-INTERVAL;VALUE=DURATION:PT1H
X-Robots-Tag:noindex
X-PUBLISHED-TTL:PT1H
BEGIN:VTIMEZONE
TZID:America/Halifax
BEGIN:DAYLIGHT
TZOFFSETFROM:-0400
TZOFFSETTO:-0300
TZNAME:ADT
DTSTART:20240310T060000
END:DAYLIGHT
BEGIN:STANDARD
TZOFFSETFROM:-0300
TZOFFSETTO:-0400
TZNAME:AST
DTSTART:20241103T050000
END:STANDARD
BEGIN:DAYLIGHT
TZOFFSETFROM:-0400
TZOFFSETTO:-0300
TZNAME:ADT
DTSTART:20250309T060000
END:DAYLIGHT
BEGIN:STANDARD
TZOFFSETFROM:-0300
TZOFFSETTO:-0400
TZNAME:AST
DTSTART:20251102T050000
END:STANDARD
BEGIN:DAYLIGHT
TZOFFSETFROM:-0400
TZOFFSETTO:-0300
TZNAME:ADT
DTSTART:20260308T060000
END:DAYLIGHT
BEGIN:STANDARD
TZOFFSETFROM:-0300
TZOFFSETTO:-0400
TZNAME:AST
DTSTART:20261101T050000
END:STANDARD
END:VTIMEZONE
BEGIN:VEVENT
DTSTART;TZID=America/Halifax:20250821T183000
DTEND;TZID=America/Halifax:20250821T210000
DTSTAMP:20260419T170716
CREATED:20250814T140419Z
LAST-MODIFIED:20250814T140419Z
UID:10001579-1755801000-1755810000@curtisbc.org
SUMMARY:CYA Hangout
DESCRIPTION:Pastor Mark and Michelle will host the next CYA Hangout at the their house on August 21st at 6:30 PM. Text Alan at 803-292-9779 for directions and to let him know you will be attending.
URL:https://curtisbc.org/event/cya-hangout-21/
ATTACH;FMTTYPE=image/png:https://curtisbc.org/wp-content/uploads/2025/08/unnamed-2025-08-14T100219.631.png
END:VEVENT
BEGIN:VEVENT
DTSTART;TZID=America/Halifax:20250821T183000
DTEND;TZID=America/Halifax:20250821T210000
DTSTAMP:20260419T170716
CREATED:20250814T140727Z
LAST-MODIFIED:20250814T140727Z
UID:10001580-1755801000-1755810000@curtisbc.org
SUMMARY:3rd Thursday Singles' Gathering
DESCRIPTION:Marie Wilson will host the next 3rd Thursday Singles’ Gathering on August 21st at 6:30 PM. Please text her by August 19th to let her know you are planning to attend – 803-640-2776.
URL:https://curtisbc.org/event/3rd-thursday-singles-gathering-24/
ATTACH;FMTTYPE=image/png:https://curtisbc.org/wp-content/uploads/2025/08/unnamed-2025-08-14T100446.814.png
END:VEVENT
END:VCALENDAR