BEGIN:VCALENDAR
VERSION:2.0
PRODID:-//Curtis Baptist Church - ECPv6.15.20//NONSGML v1.0//EN
CALSCALE:GREGORIAN
METHOD:PUBLISH
X-WR-CALNAME:Curtis Baptist Church
X-ORIGINAL-URL:https://curtisbc.org
X-WR-CALDESC:Events for Curtis Baptist Church
REFRESH-INTERVAL;VALUE=DURATION:PT1H
X-Robots-Tag:noindex
X-PUBLISHED-TTL:PT1H
BEGIN:VTIMEZONE
TZID:America/Halifax
BEGIN:DAYLIGHT
TZOFFSETFROM:-0400
TZOFFSETTO:-0300
TZNAME:ADT
DTSTART:20240310T060000
END:DAYLIGHT
BEGIN:STANDARD
TZOFFSETFROM:-0300
TZOFFSETTO:-0400
TZNAME:AST
DTSTART:20241103T050000
END:STANDARD
BEGIN:DAYLIGHT
TZOFFSETFROM:-0400
TZOFFSETTO:-0300
TZNAME:ADT
DTSTART:20250309T060000
END:DAYLIGHT
BEGIN:STANDARD
TZOFFSETFROM:-0300
TZOFFSETTO:-0400
TZNAME:AST
DTSTART:20251102T050000
END:STANDARD
BEGIN:DAYLIGHT
TZOFFSETFROM:-0400
TZOFFSETTO:-0300
TZNAME:ADT
DTSTART:20260308T060000
END:DAYLIGHT
BEGIN:STANDARD
TZOFFSETFROM:-0300
TZOFFSETTO:-0400
TZNAME:AST
DTSTART:20261101T050000
END:STANDARD
END:VTIMEZONE
BEGIN:VEVENT
DTSTART;TZID=America/Halifax:20251002T183000
DTEND;TZID=America/Halifax:20251002T210000
DTSTAMP:20260419T135955
CREATED:20250904T192455Z
LAST-MODIFIED:20250904T192455Z
UID:10001605-1759429800-1759438800@curtisbc.org
SUMMARY:Surf and Turf Men's Night
DESCRIPTION:The Curtis Men’s Ministry will host a Surf and Turf Men’s Night Out on October 2nd at Cheeks Gym. There will be food\, fellowship and a guest speaker. Make plans to attend and invite a friend to come along with you! Let us know you will be attending by signing up in the Ministry Center or at the school office. For questions\, contact David Cole or Calvin Burgess. 
URL:https://curtisbc.org/event/surf-and-turf-mens-night/
ATTACH;FMTTYPE=image/png:https://curtisbc.org/wp-content/uploads/2025/09/unnamed-2025-09-04T152144.623.png
END:VEVENT
END:VCALENDAR