BEGIN:VCALENDAR
VERSION:2.0
PRODID:-//Curtis Baptist Church - ECPv6.15.20//NONSGML v1.0//EN
CALSCALE:GREGORIAN
METHOD:PUBLISH
X-WR-CALNAME:Curtis Baptist Church
X-ORIGINAL-URL:https://curtisbc.org
X-WR-CALDESC:Events for Curtis Baptist Church
REFRESH-INTERVAL;VALUE=DURATION:PT1H
X-Robots-Tag:noindex
X-PUBLISHED-TTL:PT1H
BEGIN:VTIMEZONE
TZID:America/Halifax
BEGIN:DAYLIGHT
TZOFFSETFROM:-0400
TZOFFSETTO:-0300
TZNAME:ADT
DTSTART:20240310T060000
END:DAYLIGHT
BEGIN:STANDARD
TZOFFSETFROM:-0300
TZOFFSETTO:-0400
TZNAME:AST
DTSTART:20241103T050000
END:STANDARD
BEGIN:DAYLIGHT
TZOFFSETFROM:-0400
TZOFFSETTO:-0300
TZNAME:ADT
DTSTART:20250309T060000
END:DAYLIGHT
BEGIN:STANDARD
TZOFFSETFROM:-0300
TZOFFSETTO:-0400
TZNAME:AST
DTSTART:20251102T050000
END:STANDARD
BEGIN:DAYLIGHT
TZOFFSETFROM:-0400
TZOFFSETTO:-0300
TZNAME:ADT
DTSTART:20260308T060000
END:DAYLIGHT
BEGIN:STANDARD
TZOFFSETFROM:-0300
TZOFFSETTO:-0400
TZNAME:AST
DTSTART:20261101T050000
END:STANDARD
END:VTIMEZONE
BEGIN:VEVENT
DTSTART;TZID=America/Halifax:20251005T090000
DTEND;TZID=America/Halifax:20251005T113000
DTSTAMP:20260419T141307
CREATED:20250918T132435Z
LAST-MODIFIED:20250918T132435Z
UID:10001612-1759654800-1759663800@curtisbc.org
SUMMARY:Touch of Love Ministry/Project Refresh
DESCRIPTION:The Touch of Love Ministry will begin collecting items to be given to Project Refresh as they minister to those in need by providing a shower. This a donation list attached to this email or you can pick up a list from the Ministry Center. All donations are due by October 5th. See Suzanne Hall about any questions you may have or if you would like to volunteer with the Touch of Love Ministry.
URL:https://curtisbc.org/event/touch-of-love-ministry-project-refresh/
ATTACH;FMTTYPE=image/png:https://curtisbc.org/wp-content/uploads/2025/09/unnamed-2025-09-18T092326.404.png
END:VEVENT
BEGIN:VEVENT
DTSTART;TZID=America/Halifax:20251005T101500
DTEND;TZID=America/Halifax:20251005T113000
DTSTAMP:20260419T141307
CREATED:20241219T160516Z
LAST-MODIFIED:20241219T161604Z
UID:10000974-1759659300-1759663800@curtisbc.org
SUMMARY:Sunday Service
DESCRIPTION:Join us every Sunday for Worship at 10:15AM. You can come in person or watch on our livestream!\nChild care is provided every Sunday.\nHere is a link to our Youtube page to join us via Livestream https://www.youtube.com/user/CurtisChurchTV
URL:https://curtisbc.org/event/sunday-service-5/2025-10-05/
ATTACH;FMTTYPE=image/png:https://curtisbc.org/wp-content/uploads/2021/11/1440-×-810-px.png
END:VEVENT
END:VCALENDAR