BEGIN:VCALENDAR
VERSION:2.0
PRODID:-//Curtis Baptist Church - ECPv6.15.20//NONSGML v1.0//EN
CALSCALE:GREGORIAN
METHOD:PUBLISH
X-WR-CALNAME:Curtis Baptist Church
X-ORIGINAL-URL:https://curtisbc.org
X-WR-CALDESC:Events for Curtis Baptist Church
REFRESH-INTERVAL;VALUE=DURATION:PT1H
X-Robots-Tag:noindex
X-PUBLISHED-TTL:PT1H
BEGIN:VTIMEZONE
TZID:America/Halifax
BEGIN:DAYLIGHT
TZOFFSETFROM:-0400
TZOFFSETTO:-0300
TZNAME:ADT
DTSTART:20240310T060000
END:DAYLIGHT
BEGIN:STANDARD
TZOFFSETFROM:-0300
TZOFFSETTO:-0400
TZNAME:AST
DTSTART:20241103T050000
END:STANDARD
BEGIN:DAYLIGHT
TZOFFSETFROM:-0400
TZOFFSETTO:-0300
TZNAME:ADT
DTSTART:20250309T060000
END:DAYLIGHT
BEGIN:STANDARD
TZOFFSETFROM:-0300
TZOFFSETTO:-0400
TZNAME:AST
DTSTART:20251102T050000
END:STANDARD
BEGIN:DAYLIGHT
TZOFFSETFROM:-0400
TZOFFSETTO:-0300
TZNAME:ADT
DTSTART:20260308T060000
END:DAYLIGHT
BEGIN:STANDARD
TZOFFSETFROM:-0300
TZOFFSETTO:-0400
TZNAME:AST
DTSTART:20261101T050000
END:STANDARD
END:VTIMEZONE
BEGIN:VEVENT
DTSTART;TZID=America/Halifax:20251101T100000
DTEND;TZID=America/Halifax:20251101T140000
DTSTAMP:20260419T124913
CREATED:20251023T234549Z
LAST-MODIFIED:20251023T234549Z
UID:10001627-1761991200-1762005600@curtisbc.org
SUMMARY:Curtis Baptist School Fall Festival
DESCRIPTION:Make plans to attend the Curtis Baptist School Fall Festival November 1st from 10 AM until 2 PM. For church families\, if you pre-register in the Ministry Center\, Pastor Ben will give your family some complimentary tickets for the activities! Pastor Ben is also asking people to host a trunk game at the Fall Festival. This sign up is also in the Ministry Center. Please contact him if you have any questions – bpalacz@curtisbaptist.org.
URL:https://curtisbc.org/event/curtis-baptist-school-fall-festival/
ATTACH;FMTTYPE=image/png:https://curtisbc.org/wp-content/uploads/2025/10/unnamed-2025-10-23T194301.430.png
END:VEVENT
END:VCALENDAR