BEGIN:VCALENDAR
VERSION:2.0
PRODID:-//Curtis Baptist Church - ECPv6.15.20//NONSGML v1.0//EN
CALSCALE:GREGORIAN
METHOD:PUBLISH
X-WR-CALNAME:Curtis Baptist Church
X-ORIGINAL-URL:https://curtisbc.org
X-WR-CALDESC:Events for Curtis Baptist Church
REFRESH-INTERVAL;VALUE=DURATION:PT1H
X-Robots-Tag:noindex
X-PUBLISHED-TTL:PT1H
BEGIN:VTIMEZONE
TZID:America/Halifax
BEGIN:DAYLIGHT
TZOFFSETFROM:-0400
TZOFFSETTO:-0300
TZNAME:ADT
DTSTART:20240310T060000
END:DAYLIGHT
BEGIN:STANDARD
TZOFFSETFROM:-0300
TZOFFSETTO:-0400
TZNAME:AST
DTSTART:20241103T050000
END:STANDARD
BEGIN:DAYLIGHT
TZOFFSETFROM:-0400
TZOFFSETTO:-0300
TZNAME:ADT
DTSTART:20250309T060000
END:DAYLIGHT
BEGIN:STANDARD
TZOFFSETFROM:-0300
TZOFFSETTO:-0400
TZNAME:AST
DTSTART:20251102T050000
END:STANDARD
BEGIN:DAYLIGHT
TZOFFSETFROM:-0400
TZOFFSETTO:-0300
TZNAME:ADT
DTSTART:20260308T060000
END:DAYLIGHT
BEGIN:STANDARD
TZOFFSETFROM:-0300
TZOFFSETTO:-0400
TZNAME:AST
DTSTART:20261101T050000
END:STANDARD
END:VTIMEZONE
BEGIN:VEVENT
DTSTART;TZID=America/Halifax:20251107T190000
DTEND;TZID=America/Halifax:20251107T210000
DTSTAMP:20260419T124913
CREATED:20250821T140133Z
LAST-MODIFIED:20250821T140133Z
UID:10001601-1762542000-1762549200@curtisbc.org
SUMMARY:Connecting Generations Women's Event
DESCRIPTION:Mark your calendar and get registered for the next Women’s Event on November 7th! We will gather in the Ministry Center for coffee and desserts at 7 PM then enter into a time of praise and worship\, hear testimonies from women from several stages of life\, and end with a time for table discussions for deeper reflection and connection. Make plans to join us at the Connecting Generations Women’s Event by completing the online form or by signing up in the Ministry Center. 
URL:https://curtisbc.org/event/connecting-generations-womens-event/
ATTACH;FMTTYPE=image/png:https://curtisbc.org/wp-content/uploads/2025/08/unnamed-2025-08-21T095607.743.png
END:VEVENT
END:VCALENDAR