BEGIN:VCALENDAR
VERSION:2.0
PRODID:-//Curtis Baptist Church - ECPv6.15.20//NONSGML v1.0//EN
CALSCALE:GREGORIAN
METHOD:PUBLISH
X-ORIGINAL-URL:https://curtisbc.org
X-WR-CALDESC:Events for Curtis Baptist Church
REFRESH-INTERVAL;VALUE=DURATION:PT1H
X-Robots-Tag:noindex
X-PUBLISHED-TTL:PT1H
BEGIN:VTIMEZONE
TZID:America/Halifax
BEGIN:DAYLIGHT
TZOFFSETFROM:-0400
TZOFFSETTO:-0300
TZNAME:ADT
DTSTART:20240310T060000
END:DAYLIGHT
BEGIN:STANDARD
TZOFFSETFROM:-0300
TZOFFSETTO:-0400
TZNAME:AST
DTSTART:20241103T050000
END:STANDARD
BEGIN:DAYLIGHT
TZOFFSETFROM:-0400
TZOFFSETTO:-0300
TZNAME:ADT
DTSTART:20250309T060000
END:DAYLIGHT
BEGIN:STANDARD
TZOFFSETFROM:-0300
TZOFFSETTO:-0400
TZNAME:AST
DTSTART:20251102T050000
END:STANDARD
BEGIN:DAYLIGHT
TZOFFSETFROM:-0400
TZOFFSETTO:-0300
TZNAME:ADT
DTSTART:20260308T060000
END:DAYLIGHT
BEGIN:STANDARD
TZOFFSETFROM:-0300
TZOFFSETTO:-0400
TZNAME:AST
DTSTART:20261101T050000
END:STANDARD
END:VTIMEZONE
BEGIN:VEVENT
DTSTART;TZID=America/Halifax:20251119T180000
DTEND;TZID=America/Halifax:20251217T190000
DTSTAMP:20260419T110633
CREATED:20251113T132804Z
LAST-MODIFIED:20251113T134507Z
UID:10001632-1763575200-1765998000@curtisbc.org
SUMMARY:Women's Wednesday night Bible study
DESCRIPTION:The Women’s Wednesday night Bible study class has begun – Good News\, Great Joy\, an advent study. It’s not too late for you to join them starting next week!
URL:https://curtisbc.org/event/14251/
ATTACH;FMTTYPE=image/png:https://curtisbc.org/wp-content/uploads/2025/11/unnamed-2025-11-13T082124.444.png
END:VEVENT
BEGIN:VEVENT
DTSTART;TZID=America/Halifax:20251214T090000
DTEND;TZID=America/Halifax:20251214T170000
DTSTAMP:20260419T110633
CREATED:20251204T152621Z
LAST-MODIFIED:20251204T152621Z
UID:10001642-1765702800-1765731600@curtisbc.org
SUMMARY:Christmas at Curtis
DESCRIPTION:Come celebrate Christmas at Curtis all month! On December 14th\, we will have a special day of events\, and this is a wonderful time to invite others to come. Look for invite cards available for you to use on Sunday!\n9:00-9:30 AM Life Groups\n9:30-10:15 AM Fellowship\, Ministry Center\n10:15 AM Worship with the Children Singing\n4:00 PM Caroling\, Meet in the Ministry Center
URL:https://curtisbc.org/event/christmas-at-curtis-2/
ATTACH;FMTTYPE=image/png:https://curtisbc.org/wp-content/uploads/2025/12/unnamed-2025-12-04T101558.019.png
END:VEVENT
BEGIN:VEVENT
DTSTART;TZID=America/Halifax:20251214T101500
DTEND;TZID=America/Halifax:20251214T113000
DTSTAMP:20260419T110633
CREATED:20241219T160516Z
LAST-MODIFIED:20241219T161604Z
UID:10000984-1765707300-1765711800@curtisbc.org
SUMMARY:Sunday Service
DESCRIPTION:Join us every Sunday for Worship at 10:15AM. You can come in person or watch on our livestream!\nChild care is provided every Sunday.\nHere is a link to our Youtube page to join us via Livestream https://www.youtube.com/user/CurtisChurchTV
URL:https://curtisbc.org/event/sunday-service-5/2025-12-14/
ATTACH;FMTTYPE=image/png:https://curtisbc.org/wp-content/uploads/2021/11/1440-×-810-px.png
END:VEVENT
BEGIN:VEVENT
DTSTART;TZID=America/Halifax:20251214T160000
DTEND;TZID=America/Halifax:20251214T180000
DTSTAMP:20260419T110633
CREATED:20251016T144231Z
LAST-MODIFIED:20251016T232200Z
UID:10001625-1765728000-1765735200@curtisbc.org
SUMMARY:Christmas Caroling
DESCRIPTION:Mark your calendar early so you don’t over schedule and miss this year’s Christmas Caroling! We will meet at the church on December 14th at 4 PM before we depart and sing and shine the light of Jesus to others this Christmas season!
URL:https://curtisbc.org/event/christmas-caroling-2/
ATTACH;FMTTYPE=image/png:https://curtisbc.org/wp-content/uploads/2025/10/Caroling-2025-1440-x-810-px.png
END:VEVENT
END:VCALENDAR