BEGIN:VCALENDAR
VERSION:2.0
PRODID:-//Curtis Baptist Church - ECPv6.15.20//NONSGML v1.0//EN
CALSCALE:GREGORIAN
METHOD:PUBLISH
X-ORIGINAL-URL:https://curtisbc.org
X-WR-CALDESC:Events for Curtis Baptist Church
REFRESH-INTERVAL;VALUE=DURATION:PT1H
X-Robots-Tag:noindex
X-PUBLISHED-TTL:PT1H
BEGIN:VTIMEZONE
TZID:America/Halifax
BEGIN:DAYLIGHT
TZOFFSETFROM:-0400
TZOFFSETTO:-0300
TZNAME:ADT
DTSTART:20240310T060000
END:DAYLIGHT
BEGIN:STANDARD
TZOFFSETFROM:-0300
TZOFFSETTO:-0400
TZNAME:AST
DTSTART:20241103T050000
END:STANDARD
BEGIN:DAYLIGHT
TZOFFSETFROM:-0400
TZOFFSETTO:-0300
TZNAME:ADT
DTSTART:20250309T060000
END:DAYLIGHT
BEGIN:STANDARD
TZOFFSETFROM:-0300
TZOFFSETTO:-0400
TZNAME:AST
DTSTART:20251102T050000
END:STANDARD
BEGIN:DAYLIGHT
TZOFFSETFROM:-0400
TZOFFSETTO:-0300
TZNAME:ADT
DTSTART:20260308T060000
END:DAYLIGHT
BEGIN:STANDARD
TZOFFSETFROM:-0300
TZOFFSETTO:-0400
TZNAME:AST
DTSTART:20261101T050000
END:STANDARD
END:VTIMEZONE
BEGIN:VEVENT
DTSTART;TZID=America/Halifax:20251119T180000
DTEND;TZID=America/Halifax:20251217T190000
DTSTAMP:20260419T110621
CREATED:20251113T132804Z
LAST-MODIFIED:20251113T134507Z
UID:10001632-1763575200-1765998000@curtisbc.org
SUMMARY:Women's Wednesday night Bible study
DESCRIPTION:The Women’s Wednesday night Bible study class has begun – Good News\, Great Joy\, an advent study. It’s not too late for you to join them starting next week!
URL:https://curtisbc.org/event/14251/
ATTACH;FMTTYPE=image/png:https://curtisbc.org/wp-content/uploads/2025/11/unnamed-2025-11-13T082124.444.png
END:VEVENT
BEGIN:VEVENT
DTSTART;TZID=America/Halifax:20251217T140000
DTEND;TZID=America/Halifax:20251217T180000
DTSTAMP:20260419T110621
CREATED:20251211T135157Z
LAST-MODIFIED:20251211T135157Z
UID:10001646-1765980000-1765994400@curtisbc.org
SUMMARY:Curtis Baptist School Blood Drive
DESCRIPTION:Curtis Baptist School will be hosting a blood drive in partnership with Shepeard Community Blood Center on December 17! \n\nStudents (16 years* and older)\, parents\, staff\, and community members can donate. *If your child is 16 years old then a parent consent form is required – click HERE to print one out. You will bring the consent form with you to your donation.\nThe bloodmobile will be parked in the horseshoe from 2:00 p.m. – 6:00 p.m. To sign up for a timeslot\, click HERE! You can also walk-in to the bloodmobile without an appointment.\nOn the day of your donation\, please complete your QUICKPASS health questionnaire. You will need to save the QR code given to you to present at the time of your donation.\nAnyone who donates will receive a free sweatshirt!
URL:https://curtisbc.org/event/curtis-baptist-school-blood-drive/
ATTACH;FMTTYPE=image/png:https://curtisbc.org/wp-content/uploads/2025/12/unnamed-2025-12-11T084629.528.png
END:VEVENT
BEGIN:VEVENT
DTSTART;TZID=America/Halifax:20251217T173000
DTEND;TZID=America/Halifax:20251217T200000
DTSTAMP:20260419T110621
CREATED:20241219T161044Z
LAST-MODIFIED:20260219T142619Z
UID:10001244-1765992600-1766001600@curtisbc.org
SUMMARY:Wednesday Bible Studies
DESCRIPTION:Join us for our Wednesday Bible studies. There’s something for everyone!\n\n\nCurtis Kids: The Ark (Birth-4yr) & Nexkid Investigators (k4-5th) 6:00 PM – 7:00 PM\n\n\nCurtis Student Ministry: (6th-12th grades) 5:30 PM – 7:00 PM\n\n\nMen’s Bible Study: 6:00 PM – 7:00 PM\n\n\nWomen’s Bible Study: 6:00 PM – 7:00 PM\n\n\nAdult Choir Practice: 7:00 PM – 8:00 PM
URL:https://curtisbc.org/event/wednesday-bible-studies-4/2025-12-17/
ATTACH;FMTTYPE=image/png:https://curtisbc.org/wp-content/uploads/2020/12/LifeGroups-Restart.png
END:VEVENT
END:VCALENDAR