BEGIN:VCALENDAR
VERSION:2.0
PRODID:-//Curtis Baptist Church - ECPv6.15.20//NONSGML v1.0//EN
CALSCALE:GREGORIAN
METHOD:PUBLISH
X-ORIGINAL-URL:https://curtisbc.org
X-WR-CALDESC:Events for Curtis Baptist Church
REFRESH-INTERVAL;VALUE=DURATION:PT1H
X-Robots-Tag:noindex
X-PUBLISHED-TTL:PT1H
BEGIN:VTIMEZONE
TZID:America/Halifax
BEGIN:DAYLIGHT
TZOFFSETFROM:-0400
TZOFFSETTO:-0300
TZNAME:ADT
DTSTART:20240310T060000
END:DAYLIGHT
BEGIN:STANDARD
TZOFFSETFROM:-0300
TZOFFSETTO:-0400
TZNAME:AST
DTSTART:20241103T050000
END:STANDARD
BEGIN:DAYLIGHT
TZOFFSETFROM:-0400
TZOFFSETTO:-0300
TZNAME:ADT
DTSTART:20250309T060000
END:DAYLIGHT
BEGIN:STANDARD
TZOFFSETFROM:-0300
TZOFFSETTO:-0400
TZNAME:AST
DTSTART:20251102T050000
END:STANDARD
BEGIN:DAYLIGHT
TZOFFSETFROM:-0400
TZOFFSETTO:-0300
TZNAME:ADT
DTSTART:20260308T060000
END:DAYLIGHT
BEGIN:STANDARD
TZOFFSETFROM:-0300
TZOFFSETTO:-0400
TZNAME:AST
DTSTART:20261101T050000
END:STANDARD
END:VTIMEZONE
BEGIN:VEVENT
DTSTART;TZID=America/Halifax:20251231T173000
DTEND;TZID=America/Halifax:20251231T190000
DTSTAMP:20260419T094331
CREATED:20251218T141410Z
LAST-MODIFIED:20251231T185502Z
UID:10001720-1767202200-1767207600@curtisbc.org
SUMMARY:NO Wednesday Night Activities
DESCRIPTION:There will be no Wednesday Night classes tonight\, December 31. We hope you and your family have a wonderful start to the New Year and we look forward to seeing you on Sunday for 9 AM Life Group and 10:15 AM Worship.
URL:https://curtisbc.org/event/no-wednesday-night-activities-7/
ATTACH;FMTTYPE=image/png:https://curtisbc.org/wp-content/uploads/2025/12/unnamed-2025-12-31T135304.326.png
END:VEVENT
END:VCALENDAR