BEGIN:VCALENDAR
VERSION:2.0
PRODID:-//Curtis Baptist Church - ECPv6.15.20//NONSGML v1.0//EN
CALSCALE:GREGORIAN
METHOD:PUBLISH
X-WR-CALNAME:Curtis Baptist Church
X-ORIGINAL-URL:https://curtisbc.org
X-WR-CALDESC:Events for Curtis Baptist Church
REFRESH-INTERVAL;VALUE=DURATION:PT1H
X-Robots-Tag:noindex
X-PUBLISHED-TTL:PT1H
BEGIN:VTIMEZONE
TZID:America/Halifax
BEGIN:DAYLIGHT
TZOFFSETFROM:-0400
TZOFFSETTO:-0300
TZNAME:ADT
DTSTART:20230312T060000
END:DAYLIGHT
BEGIN:STANDARD
TZOFFSETFROM:-0300
TZOFFSETTO:-0400
TZNAME:AST
DTSTART:20231105T050000
END:STANDARD
BEGIN:DAYLIGHT
TZOFFSETFROM:-0400
TZOFFSETTO:-0300
TZNAME:ADT
DTSTART:20240310T060000
END:DAYLIGHT
BEGIN:STANDARD
TZOFFSETFROM:-0300
TZOFFSETTO:-0400
TZNAME:AST
DTSTART:20241103T050000
END:STANDARD
BEGIN:DAYLIGHT
TZOFFSETFROM:-0400
TZOFFSETTO:-0300
TZNAME:ADT
DTSTART:20250309T060000
END:DAYLIGHT
BEGIN:STANDARD
TZOFFSETFROM:-0300
TZOFFSETTO:-0400
TZNAME:AST
DTSTART:20251102T050000
END:STANDARD
END:VTIMEZONE
BEGIN:VEVENT
DTSTART;TZID=America/Halifax:20240620T183000
DTEND;TZID=America/Halifax:20240620T213000
DTSTAMP:20260421T020845
CREATED:20240606T153632Z
LAST-MODIFIED:20240611T193033Z
UID:10000840-1718908200-1718919000@curtisbc.org
SUMMARY:Ladies' Night Out
DESCRIPTION:Ladies’ Night Out is all set for June 20th at 6:30 PM at Metro Diner.  Please be sure to RSVP to Terese (706-799-3872) by June 19th.
URL:https://curtisbc.org/event/ladies-night-out-31/
ATTACH;FMTTYPE=image/png:https://curtisbc.org/wp-content/uploads/2024/06/unnamed-2024-06-11T152816.100.png
END:VEVENT
BEGIN:VEVENT
DTSTART;TZID=America/Halifax:20240620T183000
DTEND;TZID=America/Halifax:20240620T203000
DTSTAMP:20260421T020845
CREATED:20240606T154056Z
LAST-MODIFIED:20240611T192725Z
UID:10000841-1718908200-1718915400@curtisbc.org
SUMMARY:Third Thursday Singles' Gathering
DESCRIPTION:The Third Thursday Single’s Gathering will be held at Marie Wilson’s house on June 20th at 6:30 PM. Help Marie plan for how many are coming by texting your RSVP to her at 803-640-2776 by June 18th.
URL:https://curtisbc.org/event/third-thursday-singles-gathering-8/
ATTACH;FMTTYPE=image/png:https://curtisbc.org/wp-content/uploads/2024/06/unnamed-2024-06-11T152456.333.png
END:VEVENT
BEGIN:VEVENT
DTSTART;TZID=America/Halifax:20240620T183000
DTEND;TZID=America/Halifax:20240620T200000
DTSTAMP:20260421T020845
CREATED:20240606T153237Z
LAST-MODIFIED:20240611T193545Z
UID:10000839-1718908200-1718913600@curtisbc.org
SUMMARY:CYA Hangout
DESCRIPTION:Get ready for the next CYA Hangout at Alan and Kim’s on June 20th at 6:30 PM. 
URL:https://curtisbc.org/event/cya-hangout-3/
ATTACH;FMTTYPE=image/png:https://curtisbc.org/wp-content/uploads/2024/06/unnamed-2024-06-11T153250.736.png
END:VEVENT
BEGIN:VEVENT
DTSTART;TZID=America/Halifax:20240619T180000
DTEND;TZID=America/Halifax:20240619T190000
DTSTAMP:20260421T020845
CREATED:20240613T154212Z
LAST-MODIFIED:20240613T154212Z
UID:10000843-1718820000-1718823600@curtisbc.org
SUMMARY:Curtis Kids Scavenger Hunt
DESCRIPTION:Wednesday\, June 19th at 6 PM\, Curtis Kids will have a Summer Scavenger Hunt! We will be hunting inside and outside\, so invite your friends and join us for this fun night!
URL:https://curtisbc.org/event/curtis-kids-scavenger-hunt/
ATTACH;FMTTYPE=image/png:https://curtisbc.org/wp-content/uploads/2024/06/unnamed-2024-06-13T113643.058.png
END:VEVENT
BEGIN:VEVENT
DTSTART;TZID=America/Halifax:20240619T173000
DTEND;TZID=America/Halifax:20240619T200000
DTSTAMP:20260421T020845
CREATED:20231130T213356Z
LAST-MODIFIED:20231130T213356Z
UID:10000719-1718818200-1718827200@curtisbc.org
SUMMARY:Wednesday Bible Studies
DESCRIPTION:Join us for our Wednesday Bible studies. There’s something here for everyone!\n\n\nCurtis Kids: The Ark (Birth-4yr) & Nexkid Investigators (k4-5th)\n\n\nCurtis Student Ministry: 5:30 PM – 7:00 PM\n\n\nMen’s Bible Study: 6:00PM – 7:00 PM\n\n\nWomen’s Bible Study: 6:00 PM – 7:00 PM\n\n\nAdult Choir Practice: 7:00 PM – 8:00 PM
URL:https://curtisbc.org/event/wednesday-bible-studies-3/2024-06-19/
ATTACH;FMTTYPE=image/png:https://curtisbc.org/wp-content/uploads/2020/12/LifeGroups-Restart.png
END:VEVENT
BEGIN:VEVENT
DTSTART;TZID=America/Halifax:20240616T101500
DTEND;TZID=America/Halifax:20240616T113000
DTSTAMP:20260421T020845
CREATED:20231130T213822Z
LAST-MODIFIED:20231130T213822Z
UID:10000769-1718532900-1718537400@curtisbc.org
SUMMARY:Sunday Service
DESCRIPTION:Join us every Sunday for Worship at 10:15AM. You can come in person or watch on our livestream!\nChild care is provided every Sunday.\nHere is a link to our Youtube page to join us via Livestream https://www.youtube.com/user/CurtisChurchTV
URL:https://curtisbc.org/event/sunday-service-4/2024-06-16/
ATTACH;FMTTYPE=image/png:https://curtisbc.org/wp-content/uploads/2021/11/1440-×-810-px.png
END:VEVENT
BEGIN:VEVENT
DTSTART;TZID=America/Halifax:20240616T100000
DTEND;TZID=America/Halifax:20240616T113000
DTSTAMP:20260421T020845
CREATED:20240611T193907Z
LAST-MODIFIED:20240611T193907Z
UID:10000842-1718532000-1718537400@curtisbc.org
SUMMARY:Father's Day
DESCRIPTION:This Sunday is Father’s Day and we will have a special drawing for all the fathers to enter. Invite your father to join you on Sunday as we come together and worship!
URL:https://curtisbc.org/event/fathers-day/
ATTACH;FMTTYPE=image/png:https://curtisbc.org/wp-content/uploads/2024/06/unnamed-2024-06-11T153659.730.png
END:VEVENT
BEGIN:VEVENT
DTSTART;TZID=America/Halifax:20240612T173000
DTEND;TZID=America/Halifax:20240612T200000
DTSTAMP:20260421T020845
CREATED:20231130T213356Z
LAST-MODIFIED:20231130T213356Z
UID:10000718-1718213400-1718222400@curtisbc.org
SUMMARY:Wednesday Bible Studies
DESCRIPTION:Join us for our Wednesday Bible studies. There’s something here for everyone!\n\n\nCurtis Kids: The Ark (Birth-4yr) & Nexkid Investigators (k4-5th)\n\n\nCurtis Student Ministry: 5:30 PM – 7:00 PM\n\n\nMen’s Bible Study: 6:00PM – 7:00 PM\n\n\nWomen’s Bible Study: 6:00 PM – 7:00 PM\n\n\nAdult Choir Practice: 7:00 PM – 8:00 PM
URL:https://curtisbc.org/event/wednesday-bible-studies-3/2024-06-12/
ATTACH;FMTTYPE=image/png:https://curtisbc.org/wp-content/uploads/2020/12/LifeGroups-Restart.png
END:VEVENT
BEGIN:VEVENT
DTSTART;TZID=America/Halifax:20240611T110000
DTEND;TZID=America/Halifax:20240611T130000
DTSTAMP:20260421T020845
CREATED:20240528T185639Z
LAST-MODIFIED:20240528T185827Z
UID:10000834-1718103600-1718110800@curtisbc.org
SUMMARY:Happy 39ers
DESCRIPTION:Our next Happy 39ers Meeting & Lunch will be held on June 11th in B105 at 11 AM. This is for anyone 55 & older to come fellowship\, enjoy lunch ($7) and a guest speaker! Hope you will make plans to join us but be sure to RSVP by signing up in the Ministry Center or contacting JanJee at jhitt@curtisbaptist.org or 706-722-7348. Deadline to RSVP is June 3.
URL:https://curtisbc.org/event/happy-39ers-7/
ATTACH;FMTTYPE=image/png:https://curtisbc.org/wp-content/uploads/2024/05/unnamed-2024-05-28T145325.102.png
END:VEVENT
BEGIN:VEVENT
DTSTART;TZID=America/Halifax:20240609T113000
DTEND;TZID=America/Halifax:20240609T120000
DTSTAMP:20260421T020845
CREATED:20240606T150546Z
LAST-MODIFIED:20240606T150546Z
UID:10000837-1717932600-1717934400@curtisbc.org
SUMMARY:CSM Summer Camp Meeting
DESCRIPTION:CSM Summer Camp Meeting – important meeting on Sunday following the service in the CSM Area for all parents of students attending camp and leaders serving at camp.
URL:https://curtisbc.org/event/csm-summer-camp-meeting/
ATTACH;FMTTYPE=image/png:https://curtisbc.org/wp-content/uploads/2024/06/unnamed-2024-06-06T110329.513.png
END:VEVENT
BEGIN:VEVENT
DTSTART;TZID=America/Halifax:20240609T101500
DTEND;TZID=America/Halifax:20240609T113000
DTSTAMP:20260421T020845
CREATED:20231130T213822Z
LAST-MODIFIED:20231130T213822Z
UID:10000768-1717928100-1717932600@curtisbc.org
SUMMARY:Sunday Service
DESCRIPTION:Join us every Sunday for Worship at 10:15AM. You can come in person or watch on our livestream!\nChild care is provided every Sunday.\nHere is a link to our Youtube page to join us via Livestream https://www.youtube.com/user/CurtisChurchTV
URL:https://curtisbc.org/event/sunday-service-4/2024-06-09/
ATTACH;FMTTYPE=image/png:https://curtisbc.org/wp-content/uploads/2021/11/1440-×-810-px.png
END:VEVENT
BEGIN:VEVENT
DTSTART;TZID=America/Halifax:20240609T093000
DTEND;TZID=America/Halifax:20240609T120000
DTSTAMP:20260421T020845
CREATED:20240528T191157Z
LAST-MODIFIED:20240528T191157Z
UID:10000835-1717925400-1717934400@curtisbc.org
SUMMARY:Deaf Worship and Covered Dish Luncheon
DESCRIPTION:Join us on June 9th at 9:30 AM for Worship. Afterwards please stay for a covered dish lunch in the Fireside Room.
URL:https://curtisbc.org/event/deaf-worship-and-covered-dish-luncheon/
ATTACH;FMTTYPE=image/png:https://curtisbc.org/wp-content/uploads/2020/12/deaf-ministry-logo.png
END:VEVENT
BEGIN:VEVENT
DTSTART;TZID=America/Halifax:20240606T183000
DTEND;TZID=America/Halifax:20240606T203000
DTSTAMP:20260421T020845
CREATED:20240530T175007Z
LAST-MODIFIED:20240530T175007Z
UID:10000836-1717698600-1717705800@curtisbc.org
SUMMARY:CYA Hangout
DESCRIPTION:Alan and Kim will host the next CYA Hangout at their house on June 6th at 6:30 PM. If you are 18 to 20 something\, make plans to come!
URL:https://curtisbc.org/event/cya-hangout-2/
ATTACH;FMTTYPE=image/png:https://curtisbc.org/wp-content/uploads/2024/05/unnamed-2024-05-30T134442.642.png
END:VEVENT
BEGIN:VEVENT
DTSTART;TZID=America/Halifax:20240605T173000
DTEND;TZID=America/Halifax:20240605T200000
DTSTAMP:20260421T020845
CREATED:20231130T213356Z
LAST-MODIFIED:20231130T213356Z
UID:10000717-1717608600-1717617600@curtisbc.org
SUMMARY:Wednesday Bible Studies
DESCRIPTION:Join us for our Wednesday Bible studies. There’s something here for everyone!\n\n\nCurtis Kids: The Ark (Birth-4yr) & Nexkid Investigators (k4-5th)\n\n\nCurtis Student Ministry: 5:30 PM – 7:00 PM\n\n\nMen’s Bible Study: 6:00PM – 7:00 PM\n\n\nWomen’s Bible Study: 6:00 PM – 7:00 PM\n\n\nAdult Choir Practice: 7:00 PM – 8:00 PM
URL:https://curtisbc.org/event/wednesday-bible-studies-3/2024-06-05/
ATTACH;FMTTYPE=image/png:https://curtisbc.org/wp-content/uploads/2020/12/LifeGroups-Restart.png
END:VEVENT
BEGIN:VEVENT
DTSTART;TZID=America/Halifax:20240602T101500
DTEND;TZID=America/Halifax:20240602T113000
DTSTAMP:20260421T020845
CREATED:20231130T213822Z
LAST-MODIFIED:20231130T213822Z
UID:10000767-1717323300-1717327800@curtisbc.org
SUMMARY:Sunday Service
DESCRIPTION:Join us every Sunday for Worship at 10:15AM. You can come in person or watch on our livestream!\nChild care is provided every Sunday.\nHere is a link to our Youtube page to join us via Livestream https://www.youtube.com/user/CurtisChurchTV
URL:https://curtisbc.org/event/sunday-service-4/2024-06-02/
ATTACH;FMTTYPE=image/png:https://curtisbc.org/wp-content/uploads/2021/11/1440-×-810-px.png
END:VEVENT
BEGIN:VEVENT
DTSTART;TZID=America/Halifax:20240529T173000
DTEND;TZID=America/Halifax:20240529T200000
DTSTAMP:20260421T020845
CREATED:20231130T213356Z
LAST-MODIFIED:20231130T213356Z
UID:10000716-1717003800-1717012800@curtisbc.org
SUMMARY:Wednesday Bible Studies
DESCRIPTION:Join us for our Wednesday Bible studies. There’s something here for everyone!\n\n\nCurtis Kids: The Ark (Birth-4yr) & Nexkid Investigators (k4-5th)\n\n\nCurtis Student Ministry: 5:30 PM – 7:00 PM\n\n\nMen’s Bible Study: 6:00PM – 7:00 PM\n\n\nWomen’s Bible Study: 6:00 PM – 7:00 PM\n\n\nAdult Choir Practice: 7:00 PM – 8:00 PM
URL:https://curtisbc.org/event/wednesday-bible-studies-3/2024-05-29/
ATTACH;FMTTYPE=image/png:https://curtisbc.org/wp-content/uploads/2020/12/LifeGroups-Restart.png
END:VEVENT
BEGIN:VEVENT
DTSTART;TZID=America/Halifax:20240526T101500
DTEND;TZID=America/Halifax:20240526T113000
DTSTAMP:20260421T020845
CREATED:20231130T213822Z
LAST-MODIFIED:20231130T213822Z
UID:10000766-1716718500-1716723000@curtisbc.org
SUMMARY:Sunday Service
DESCRIPTION:Join us every Sunday for Worship at 10:15AM. You can come in person or watch on our livestream!\nChild care is provided every Sunday.\nHere is a link to our Youtube page to join us via Livestream https://www.youtube.com/user/CurtisChurchTV
URL:https://curtisbc.org/event/sunday-service-4/2024-05-26/
ATTACH;FMTTYPE=image/png:https://curtisbc.org/wp-content/uploads/2021/11/1440-×-810-px.png
END:VEVENT
BEGIN:VEVENT
DTSTART;TZID=America/Halifax:20240522T173000
DTEND;TZID=America/Halifax:20240522T200000
DTSTAMP:20260421T020845
CREATED:20231130T213356Z
LAST-MODIFIED:20231130T213356Z
UID:10000715-1716399000-1716408000@curtisbc.org
SUMMARY:Wednesday Bible Studies
DESCRIPTION:Join us for our Wednesday Bible studies. There’s something here for everyone!\n\n\nCurtis Kids: The Ark (Birth-4yr) & Nexkid Investigators (k4-5th)\n\n\nCurtis Student Ministry: 5:30 PM – 7:00 PM\n\n\nMen’s Bible Study: 6:00PM – 7:00 PM\n\n\nWomen’s Bible Study: 6:00 PM – 7:00 PM\n\n\nAdult Choir Practice: 7:00 PM – 8:00 PM
URL:https://curtisbc.org/event/wednesday-bible-studies-3/2024-05-22/
ATTACH;FMTTYPE=image/png:https://curtisbc.org/wp-content/uploads/2020/12/LifeGroups-Restart.png
END:VEVENT
BEGIN:VEVENT
DTSTART;TZID=America/Halifax:20240519T140000
DTEND;TZID=America/Halifax:20240519T160000
DTSTAMP:20260421T020845
CREATED:20240509T155806Z
LAST-MODIFIED:20240509T155929Z
UID:10000831-1716127200-1716134400@curtisbc.org
SUMMARY:Guy's Basketball
DESCRIPTION:Join us for Guy’s Basketball at Cheeks Gym\, May19th from 2-4 PM!
URL:https://curtisbc.org/event/guys-basketball-5/
ATTACH;FMTTYPE=image/png:https://curtisbc.org/wp-content/uploads/2024/05/unnamed-2024-05-09T115411.350.png
END:VEVENT
BEGIN:VEVENT
DTSTART;TZID=America/Halifax:20240519T101500
DTEND;TZID=America/Halifax:20240519T113000
DTSTAMP:20260421T020845
CREATED:20231130T213822Z
LAST-MODIFIED:20231130T213822Z
UID:10000765-1716113700-1716118200@curtisbc.org
SUMMARY:Sunday Service
DESCRIPTION:Join us every Sunday for Worship at 10:15AM. You can come in person or watch on our livestream!\nChild care is provided every Sunday.\nHere is a link to our Youtube page to join us via Livestream https://www.youtube.com/user/CurtisChurchTV
URL:https://curtisbc.org/event/sunday-service-4/2024-05-19/
ATTACH;FMTTYPE=image/png:https://curtisbc.org/wp-content/uploads/2021/11/1440-×-810-px.png
END:VEVENT
BEGIN:VEVENT
DTSTART;TZID=America/Halifax:20240519T093000
DTEND;TZID=America/Halifax:20240519T120000
DTSTAMP:20260421T020845
CREATED:20240425T152309Z
LAST-MODIFIED:20240425T152847Z
UID:10000547-1716111000-1716120000@curtisbc.org
SUMMARY:Deaf Worship & Lunch
DESCRIPTION:Join us on May 19th at 9:30 AM for Worship. Afterwards please stay for a covered dish lunch in the Fireside Room. 
URL:https://curtisbc.org/event/deaf-worship-lunch-14/
ATTACH;FMTTYPE=image/png:https://curtisbc.org/wp-content/uploads/2020/12/deaf-ministry-logo.png
END:VEVENT
BEGIN:VEVENT
DTSTART;TZID=America/Halifax:20240519T080000
DTEND;TZID=America/Halifax:20240519T090000
DTSTAMP:20260421T020845
CREATED:20240425T150841Z
LAST-MODIFIED:20240425T150841Z
UID:10000513-1716105600-1716109200@curtisbc.org
SUMMARY:Women's Ministry Breakfast Gathering
DESCRIPTION:Ladies – save the date for our next Breakfast Gathering on May 19th at 8 AM in Café 180. Mark your calendar and invite a friend to join you!
URL:https://curtisbc.org/event/womens-ministry-breakfast-gathering-3/
ATTACH;FMTTYPE=image/png:https://curtisbc.org/wp-content/uploads/2024/04/unnamed-2024-04-25T110635.914.png
END:VEVENT
BEGIN:VEVENT
DTSTART;TZID=America/Halifax:20240516T183000
DTEND;TZID=America/Halifax:20240516T203000
DTSTAMP:20260421T020845
CREATED:20240516T203412Z
LAST-MODIFIED:20240516T203412Z
UID:10000833-1715884200-1715891400@curtisbc.org
SUMMARY:CYA Hangout
DESCRIPTION:CYA will meet tonight at Alan and Kim’s house! Make plans to come but text Alan to let him know!
URL:https://curtisbc.org/event/cya-hangout/
ATTACH;FMTTYPE=image/png:https://curtisbc.org/wp-content/uploads/2024/05/unnamed-2024-05-16T163206.233.png
END:VEVENT
BEGIN:VEVENT
DTSTART;TZID=America/Halifax:20240516T183000
DTEND;TZID=America/Halifax:20240516T203000
DTSTAMP:20260421T020845
CREATED:20240509T155211Z
LAST-MODIFIED:20240509T155329Z
UID:10000830-1715884200-1715891400@curtisbc.org
SUMMARY:Single's Third Thursday Gathering
DESCRIPTION:The May 16th Third Thursday Gathering at Marie’s has been cancelled. Look for details for next month coming soon!
URL:https://curtisbc.org/event/singles-third-thursday-gathering-4/
ATTACH;FMTTYPE=image/png:https://curtisbc.org/wp-content/uploads/2024/05/unnamed-2024-05-09T114911.128.png
END:VEVENT
BEGIN:VEVENT
DTSTART;TZID=America/Halifax:20240515T173000
DTEND;TZID=America/Halifax:20240515T200000
DTSTAMP:20260421T020845
CREATED:20231130T213356Z
LAST-MODIFIED:20231130T213356Z
UID:10000714-1715794200-1715803200@curtisbc.org
SUMMARY:Wednesday Bible Studies
DESCRIPTION:Join us for our Wednesday Bible studies. There’s something here for everyone!\n\n\nCurtis Kids: The Ark (Birth-4yr) & Nexkid Investigators (k4-5th)\n\n\nCurtis Student Ministry: 5:30 PM – 7:00 PM\n\n\nMen’s Bible Study: 6:00PM – 7:00 PM\n\n\nWomen’s Bible Study: 6:00 PM – 7:00 PM\n\n\nAdult Choir Practice: 7:00 PM – 8:00 PM
URL:https://curtisbc.org/event/wednesday-bible-studies-3/2024-05-15/
ATTACH;FMTTYPE=image/png:https://curtisbc.org/wp-content/uploads/2020/12/LifeGroups-Restart.png
END:VEVENT
BEGIN:VEVENT
DTSTART;TZID=America/Halifax:20240514T183000
DTEND;TZID=America/Halifax:20240514T213000
DTSTAMP:20260421T020845
CREATED:20240502T201157Z
LAST-MODIFIED:20240502T201642Z
UID:10000548-1715711400-1715722200@curtisbc.org
SUMMARY:Ladies' Night Out
DESCRIPTION:Join us for our next Ladies’ Night Out\, May 14th at 6:30 PM at TBONZ in Evans. Terese is still looking for a dessert location\, let her know if you are available. Please RSVP by May 13th to Terese.
URL:https://curtisbc.org/event/ladies-night-out-30/
ATTACH;FMTTYPE=image/png:https://curtisbc.org/wp-content/uploads/2024/05/unnamed-2024-05-02T160856.090.png
END:VEVENT
BEGIN:VEVENT
DTSTART;TZID=America/Halifax:20240512T101500
DTEND;TZID=America/Halifax:20240512T113000
DTSTAMP:20260421T020845
CREATED:20231130T213822Z
LAST-MODIFIED:20231130T213822Z
UID:10000764-1715508900-1715513400@curtisbc.org
SUMMARY:Sunday Service
DESCRIPTION:Join us every Sunday for Worship at 10:15AM. You can come in person or watch on our livestream!\nChild care is provided every Sunday.\nHere is a link to our Youtube page to join us via Livestream https://www.youtube.com/user/CurtisChurchTV
URL:https://curtisbc.org/event/sunday-service-4/2024-05-12/
ATTACH;FMTTYPE=image/png:https://curtisbc.org/wp-content/uploads/2021/11/1440-×-810-px.png
END:VEVENT
BEGIN:VEVENT
DTSTART;TZID=America/Halifax:20240512T100000
DTEND;TZID=America/Halifax:20240512T113000
DTSTAMP:20260421T020845
CREATED:20240502T202906Z
LAST-MODIFIED:20240502T202906Z
UID:10000829-1715508000-1715513400@curtisbc.org
SUMMARY:Mother's Day
DESCRIPTION:A very special day is approaching – Mother’s Day\, May 12\, 2024. We will have a drawing for all moms to enter on Sunday and there will also be a display for you to gather at and take a picture with your mom in the Ministry Center. 
URL:https://curtisbc.org/event/mothers-day/
ATTACH;FMTTYPE=image/png:https://curtisbc.org/wp-content/uploads/2024/05/unnamed-2024-05-02T162553.770.png
END:VEVENT
BEGIN:VEVENT
DTSTART;TZID=America/Halifax:20240508T173000
DTEND;TZID=America/Halifax:20240508T200000
DTSTAMP:20260421T020845
CREATED:20231130T213356Z
LAST-MODIFIED:20231130T213356Z
UID:10000713-1715189400-1715198400@curtisbc.org
SUMMARY:Wednesday Bible Studies
DESCRIPTION:Join us for our Wednesday Bible studies. There’s something here for everyone!\n\n\nCurtis Kids: The Ark (Birth-4yr) & Nexkid Investigators (k4-5th)\n\n\nCurtis Student Ministry: 5:30 PM – 7:00 PM\n\n\nMen’s Bible Study: 6:00PM – 7:00 PM\n\n\nWomen’s Bible Study: 6:00 PM – 7:00 PM\n\n\nAdult Choir Practice: 7:00 PM – 8:00 PM
URL:https://curtisbc.org/event/wednesday-bible-studies-3/2024-05-08/
ATTACH;FMTTYPE=image/png:https://curtisbc.org/wp-content/uploads/2020/12/LifeGroups-Restart.png
END:VEVENT
BEGIN:VEVENT
DTSTART;TZID=America/Halifax:20240505T101500
DTEND;TZID=America/Halifax:20240505T113000
DTSTAMP:20260421T020845
CREATED:20231130T213822Z
LAST-MODIFIED:20231130T213822Z
UID:10000763-1714904100-1714908600@curtisbc.org
SUMMARY:Sunday Service
DESCRIPTION:Join us every Sunday for Worship at 10:15AM. You can come in person or watch on our livestream!\nChild care is provided every Sunday.\nHere is a link to our Youtube page to join us via Livestream https://www.youtube.com/user/CurtisChurchTV
URL:https://curtisbc.org/event/sunday-service-4/2024-05-05/
ATTACH;FMTTYPE=image/png:https://curtisbc.org/wp-content/uploads/2021/11/1440-×-810-px.png
END:VEVENT
END:VCALENDAR