BEGIN:VCALENDAR
VERSION:2.0
PRODID:-//Curtis Baptist Church - ECPv6.15.20//NONSGML v1.0//EN
CALSCALE:GREGORIAN
METHOD:PUBLISH
X-WR-CALNAME:Curtis Baptist Church
X-ORIGINAL-URL:https://curtisbc.org
X-WR-CALDESC:Events for Curtis Baptist Church
REFRESH-INTERVAL;VALUE=DURATION:PT1H
X-Robots-Tag:noindex
X-PUBLISHED-TTL:PT1H
BEGIN:VTIMEZONE
TZID:America/Halifax
BEGIN:DAYLIGHT
TZOFFSETFROM:-0400
TZOFFSETTO:-0300
TZNAME:ADT
DTSTART:20230312T060000
END:DAYLIGHT
BEGIN:STANDARD
TZOFFSETFROM:-0300
TZOFFSETTO:-0400
TZNAME:AST
DTSTART:20231105T050000
END:STANDARD
BEGIN:DAYLIGHT
TZOFFSETFROM:-0400
TZOFFSETTO:-0300
TZNAME:ADT
DTSTART:20240310T060000
END:DAYLIGHT
BEGIN:STANDARD
TZOFFSETFROM:-0300
TZOFFSETTO:-0400
TZNAME:AST
DTSTART:20241103T050000
END:STANDARD
BEGIN:DAYLIGHT
TZOFFSETFROM:-0400
TZOFFSETTO:-0300
TZNAME:ADT
DTSTART:20250309T060000
END:DAYLIGHT
BEGIN:STANDARD
TZOFFSETFROM:-0300
TZOFFSETTO:-0400
TZNAME:AST
DTSTART:20251102T050000
END:STANDARD
END:VTIMEZONE
BEGIN:VEVENT
DTSTART;TZID=America/Halifax:20240501T173000
DTEND;TZID=America/Halifax:20240501T200000
DTSTAMP:20260420T190328
CREATED:20231130T213356Z
LAST-MODIFIED:20231130T213356Z
UID:10000712-1714584600-1714593600@curtisbc.org
SUMMARY:Wednesday Bible Studies
DESCRIPTION:Join us for our Wednesday Bible studies. There’s something here for everyone!\n\n\nCurtis Kids: The Ark (Birth-4yr) & Nexkid Investigators (k4-5th)\n\n\nCurtis Student Ministry: 5:30 PM – 7:00 PM\n\n\nMen’s Bible Study: 6:00PM – 7:00 PM\n\n\nWomen’s Bible Study: 6:00 PM – 7:00 PM\n\n\nAdult Choir Practice: 7:00 PM – 8:00 PM
URL:https://curtisbc.org/event/wednesday-bible-studies-3/2024-05-01/
ATTACH;FMTTYPE=image/png:https://curtisbc.org/wp-content/uploads/2020/12/LifeGroups-Restart.png
END:VEVENT
BEGIN:VEVENT
DTSTART;TZID=America/Halifax:20240428T101500
DTEND;TZID=America/Halifax:20240428T113000
DTSTAMP:20260420T190328
CREATED:20231130T213822Z
LAST-MODIFIED:20231130T213822Z
UID:10000762-1714299300-1714303800@curtisbc.org
SUMMARY:Sunday Service
DESCRIPTION:Join us every Sunday for Worship at 10:15AM. You can come in person or watch on our livestream!\nChild care is provided every Sunday.\nHere is a link to our Youtube page to join us via Livestream https://www.youtube.com/user/CurtisChurchTV
URL:https://curtisbc.org/event/sunday-service-4/2024-04-28/
ATTACH;FMTTYPE=image/png:https://curtisbc.org/wp-content/uploads/2021/11/1440-×-810-px.png
END:VEVENT
BEGIN:VEVENT
DTSTART;TZID=America/Halifax:20240424T173000
DTEND;TZID=America/Halifax:20240424T200000
DTSTAMP:20260420T190328
CREATED:20231130T213356Z
LAST-MODIFIED:20231130T213356Z
UID:10000711-1713979800-1713988800@curtisbc.org
SUMMARY:Wednesday Bible Studies
DESCRIPTION:Join us for our Wednesday Bible studies. There’s something here for everyone!\n\n\nCurtis Kids: The Ark (Birth-4yr) & Nexkid Investigators (k4-5th)\n\n\nCurtis Student Ministry: 5:30 PM – 7:00 PM\n\n\nMen’s Bible Study: 6:00PM – 7:00 PM\n\n\nWomen’s Bible Study: 6:00 PM – 7:00 PM\n\n\nAdult Choir Practice: 7:00 PM – 8:00 PM
URL:https://curtisbc.org/event/wednesday-bible-studies-3/2024-04-24/
ATTACH;FMTTYPE=image/png:https://curtisbc.org/wp-content/uploads/2020/12/LifeGroups-Restart.png
END:VEVENT
BEGIN:VEVENT
DTSTART;TZID=America/Halifax:20240421T140000
DTEND;TZID=America/Halifax:20240421T160000
DTSTAMP:20260420T190328
CREATED:20240409T165151Z
LAST-MODIFIED:20240409T165151Z
UID:10000508-1713708000-1713715200@curtisbc.org
SUMMARY:Guy's Basketball
DESCRIPTION:The next Guy’s Basketball at Cheeks Gym will be on April 21st at 2 PM. Mark your calendar and invite a friend to come along with you!
URL:https://curtisbc.org/event/guys-basketball-4/
ATTACH;FMTTYPE=image/png:https://curtisbc.org/wp-content/uploads/2024/04/unnamed-2024-04-09T124933.649.png
END:VEVENT
BEGIN:VEVENT
DTSTART;TZID=America/Halifax:20240421T113000
DTEND;TZID=America/Halifax:20240421T133000
DTSTAMP:20260420T190328
CREATED:20240322T144827Z
LAST-MODIFIED:20240322T145027Z
UID:10000823-1713699000-1713706200@curtisbc.org
SUMMARY:Prayer Luncheon
DESCRIPTION:What a wonderful time of praying together we had at our last prayer luncheon! We are already anticipating the next Prayer Luncheon scheduled on April 21st. Get signed up today by clicking this LINK or in the Ministry Center on Sunday. Deadline to register is APRIL 16th.
URL:https://curtisbc.org/event/prayer-luncheon-2/
ATTACH;FMTTYPE=image/png:https://curtisbc.org/wp-content/uploads/2024/03/unnamed-2024-03-22T104523.914.png
END:VEVENT
BEGIN:VEVENT
DTSTART;TZID=America/Halifax:20240421T113000
DTEND;TZID=America/Halifax:20240421T120000
DTSTAMP:20260420T190328
CREATED:20240404T184605Z
LAST-MODIFIED:20240404T184605Z
UID:10000828-1713699000-1713700800@curtisbc.org
SUMMARY:VBS Volunteer Interest Meeting
DESCRIPTION:VBS!\n\n\nPlease make note of the dates for VBS – July 15-19!\n\n\nImmediately following the service on April 21st\, Pastor Ben will have a 5 minute meeting for those interested in volunteering for VBS. Make plans to attend!
URL:https://curtisbc.org/event/vbs-volunteer-interest-meeting/
ATTACH;FMTTYPE=image/png:https://curtisbc.org/wp-content/uploads/2023/12/unnamed-2024-04-04T143654.538.png
END:VEVENT
BEGIN:VEVENT
DTSTART;TZID=America/Halifax:20240421T101500
DTEND;TZID=America/Halifax:20240421T113000
DTSTAMP:20260420T190328
CREATED:20231130T213822Z
LAST-MODIFIED:20231130T213822Z
UID:10000761-1713694500-1713699000@curtisbc.org
SUMMARY:Sunday Service
DESCRIPTION:Join us every Sunday for Worship at 10:15AM. You can come in person or watch on our livestream!\nChild care is provided every Sunday.\nHere is a link to our Youtube page to join us via Livestream https://www.youtube.com/user/CurtisChurchTV
URL:https://curtisbc.org/event/sunday-service-4/2024-04-21/
ATTACH;FMTTYPE=image/png:https://curtisbc.org/wp-content/uploads/2021/11/1440-×-810-px.png
END:VEVENT
BEGIN:VEVENT
DTSTART;TZID=America/Halifax:20240421T093000
DTEND;TZID=America/Halifax:20240421T113000
DTSTAMP:20260420T190328
CREATED:20240327T151431Z
LAST-MODIFIED:20240327T151431Z
UID:10000825-1713691800-1713699000@curtisbc.org
SUMMARY:Deaf Worship and Lunch
DESCRIPTION:Deaf Worship and Lunch\, April 21st at 9:30 am. Meet in the Fireside room for Worship then join us for our covered dish lunch.
URL:https://curtisbc.org/event/deaf-worship-and-lunch-7/
ATTACH;FMTTYPE=image/png:https://curtisbc.org/wp-content/uploads/2020/12/deaf-ministry-logo.png
END:VEVENT
BEGIN:VEVENT
DTSTART;TZID=America/Halifax:20240420T085000
DTEND;TZID=America/Halifax:20240420T130000
DTSTAMP:20260420T190328
CREATED:20240327T145840Z
LAST-MODIFIED:20240327T145840Z
UID:10000824-1713603000-1713618000@curtisbc.org
SUMMARY:Rooted: Women's Outdoor Ministry Bike Ride
DESCRIPTION:The Rooted: Women’s Outdoor Ministry will host a bike ride on the Augusta Canal on April 20th at 8:50 AM. You can either bring your own bike or rent one for $20 at the Bicycle Peddler. Bring with you a bag lunch and water to carry along with you on the ride. Let us know you coming by completing the this FORM. For more information\, contact Michelle Burgess at mburgess@curtisbaptist.org.
URL:https://curtisbc.org/event/rooted-womens-outdoor-ministry-bike-ride/
ATTACH;FMTTYPE=image/png:https://curtisbc.org/wp-content/uploads/2024/03/unnamed-2024-03-27T105312.332.png
END:VEVENT
BEGIN:VEVENT
DTSTART;TZID=America/Halifax:20240418T183000
DTEND;TZID=America/Halifax:20240418T203000
DTSTAMP:20260420T190328
CREATED:20240404T191852Z
LAST-MODIFIED:20240409T164830Z
UID:10000507-1713465000-1713472200@curtisbc.org
SUMMARY:Third Thursday Singles’ Gathering
DESCRIPTION:Our monthly Third Thursday Singles’ Gathering is April 18th at Marie Wilson’s home beginning at 6:30 PM. Please let Marie know you are coming by emailing her at mwilson1010@comcast.net by Tuesday\, April 16th. Hope to see you there!\n 
URL:https://curtisbc.org/event/third-thursday-singles-gathering-7/
ATTACH;FMTTYPE=image/png:https://curtisbc.org/wp-content/uploads/2024/04/unnamed-2024-04-09T124530.932.png
END:VEVENT
BEGIN:VEVENT
DTSTART;TZID=America/Halifax:20240418T183000
DTEND;TZID=America/Halifax:20240418T203000
DTSTAMP:20260420T190328
CREATED:20240328T210523Z
LAST-MODIFIED:20240409T164440Z
UID:10000827-1713465000-1713472200@curtisbc.org
SUMMARY:Curtis Young Adult Hangout
DESCRIPTION:The next Curtis Young Adult Hangout is Thursday\, April 18th at Alan and Kim’s house. 
URL:https://curtisbc.org/event/curtis-young-adult-hangout-2/
ATTACH;FMTTYPE=image/png:https://curtisbc.org/wp-content/uploads/2024/03/unnamed-2024-04-09T123218.613.png
END:VEVENT
BEGIN:VEVENT
DTSTART;TZID=America/Halifax:20240417T173000
DTEND;TZID=America/Halifax:20240417T200000
DTSTAMP:20260420T190328
CREATED:20231130T213356Z
LAST-MODIFIED:20231130T213356Z
UID:10000710-1713375000-1713384000@curtisbc.org
SUMMARY:Wednesday Bible Studies
DESCRIPTION:Join us for our Wednesday Bible studies. There’s something here for everyone!\n\n\nCurtis Kids: The Ark (Birth-4yr) & Nexkid Investigators (k4-5th)\n\n\nCurtis Student Ministry: 5:30 PM – 7:00 PM\n\n\nMen’s Bible Study: 6:00PM – 7:00 PM\n\n\nWomen’s Bible Study: 6:00 PM – 7:00 PM\n\n\nAdult Choir Practice: 7:00 PM – 8:00 PM
URL:https://curtisbc.org/event/wednesday-bible-studies-3/2024-04-17/
ATTACH;FMTTYPE=image/png:https://curtisbc.org/wp-content/uploads/2020/12/LifeGroups-Restart.png
END:VEVENT
BEGIN:VEVENT
DTSTART;TZID=America/Halifax:20240416T183000
DTEND;TZID=America/Halifax:20240416T213000
DTSTAMP:20260420T190328
CREATED:20240404T190227Z
LAST-MODIFIED:20240404T190310Z
UID:10000505-1713292200-1713303000@curtisbc.org
SUMMARY:Ladies' Night Out
DESCRIPTION:Ladies – we will meet at the new Olive Garden for our next LNO on April 16th. Let Terese know by April 15th if you are planning to come and she is also looking for someone to host the dessert.
URL:https://curtisbc.org/event/ladies-night-out-29/
ATTACH;FMTTYPE=image/png:https://curtisbc.org/wp-content/uploads/2024/04/unnamed-2024-04-04T145909.954.png
END:VEVENT
BEGIN:VEVENT
DTSTART;TZID=America/Halifax:20240416T110000
DTEND;TZID=America/Halifax:20240416T130000
DTSTAMP:20260420T190328
CREATED:20240404T185335Z
LAST-MODIFIED:20240404T185335Z
UID:10000503-1713265200-1713272400@curtisbc.org
SUMMARY:Happy 39'ers
DESCRIPTION:The next Happy 39’ers will be April 16th at 11 AM but we need to know if you are coming by April 7th! You can either sign up in the Ministry Center or contact JanJee – jhitt@curtisbaptist.org or 706-722-7348.
URL:https://curtisbc.org/event/happy-39ers-5/
ATTACH;FMTTYPE=image/png:https://curtisbc.org/wp-content/uploads/2024/04/unnamed-2024-04-04T144758.481.png
END:VEVENT
BEGIN:VEVENT
DTSTART;TZID=America/Halifax:20240414T101500
DTEND;TZID=America/Halifax:20240414T113000
DTSTAMP:20260420T190328
CREATED:20231130T213822Z
LAST-MODIFIED:20231130T213822Z
UID:10000760-1713089700-1713094200@curtisbc.org
SUMMARY:Sunday Service
DESCRIPTION:Join us every Sunday for Worship at 10:15AM. You can come in person or watch on our livestream!\nChild care is provided every Sunday.\nHere is a link to our Youtube page to join us via Livestream https://www.youtube.com/user/CurtisChurchTV
URL:https://curtisbc.org/event/sunday-service-4/2024-04-14/
ATTACH;FMTTYPE=image/png:https://curtisbc.org/wp-content/uploads/2021/11/1440-×-810-px.png
END:VEVENT
BEGIN:VEVENT
DTSTART;TZID=America/Halifax:20240410T173000
DTEND;TZID=America/Halifax:20240410T200000
DTSTAMP:20260420T190328
CREATED:20231130T213356Z
LAST-MODIFIED:20240404T185759Z
UID:10000746-1712770200-1712779200@curtisbc.org
SUMMARY:NO Wednesday Bible Studies
DESCRIPTION:We will take a break from Wednesday night activities on April 10th and resume on April 17th.
URL:https://curtisbc.org/event/wednesday-bible-studies-3-2024-04-10/
ATTACH;FMTTYPE=image/png:https://curtisbc.org/wp-content/uploads/2023/11/unnamed-2024-04-04T145456.085.png
END:VEVENT
BEGIN:VEVENT
DTSTART;TZID=America/Halifax:20240407T101500
DTEND;TZID=America/Halifax:20240407T113000
DTSTAMP:20260420T190328
CREATED:20231130T213822Z
LAST-MODIFIED:20231130T213822Z
UID:10000759-1712484900-1712489400@curtisbc.org
SUMMARY:Sunday Service
DESCRIPTION:Join us every Sunday for Worship at 10:15AM. You can come in person or watch on our livestream!\nChild care is provided every Sunday.\nHere is a link to our Youtube page to join us via Livestream https://www.youtube.com/user/CurtisChurchTV
URL:https://curtisbc.org/event/sunday-service-4/2024-04-07/
ATTACH;FMTTYPE=image/png:https://curtisbc.org/wp-content/uploads/2021/11/1440-×-810-px.png
END:VEVENT
BEGIN:VEVENT
DTSTART;TZID=America/Halifax:20240404T183000
DTEND;TZID=America/Halifax:20240404T203000
DTSTAMP:20260420T190328
CREATED:20240328T210214Z
LAST-MODIFIED:20240328T210214Z
UID:10000826-1712255400-1712262600@curtisbc.org
SUMMARY:Curtis Young Adult Hangout
DESCRIPTION:The next Curtis Young Adult Hangout is Thursday\, April 4th at Alan and Kim’s house. 
URL:https://curtisbc.org/event/curtis-young-adult-hangout/
ATTACH;FMTTYPE=image/png:https://curtisbc.org/wp-content/uploads/2024/03/unnamed-2024-03-28T165807.737.png
END:VEVENT
BEGIN:VEVENT
DTSTART;TZID=America/Halifax:20240403T173000
DTEND;TZID=America/Halifax:20240403T200000
DTSTAMP:20260420T190328
CREATED:20231130T213356Z
LAST-MODIFIED:20231130T213356Z
UID:10000709-1712165400-1712174400@curtisbc.org
SUMMARY:Wednesday Bible Studies
DESCRIPTION:Join us for our Wednesday Bible studies. There’s something here for everyone!\n\n\nCurtis Kids: The Ark (Birth-4yr) & Nexkid Investigators (k4-5th)\n\n\nCurtis Student Ministry: 5:30 PM – 7:00 PM\n\n\nMen’s Bible Study: 6:00PM – 7:00 PM\n\n\nWomen’s Bible Study: 6:00 PM – 7:00 PM\n\n\nAdult Choir Practice: 7:00 PM – 8:00 PM
URL:https://curtisbc.org/event/wednesday-bible-studies-3/2024-04-03/
ATTACH;FMTTYPE=image/png:https://curtisbc.org/wp-content/uploads/2020/12/LifeGroups-Restart.png
END:VEVENT
BEGIN:VEVENT
DTSTART;TZID=America/Halifax:20240331T101500
DTEND;TZID=America/Halifax:20240331T113000
DTSTAMP:20260420T190328
CREATED:20231130T213822Z
LAST-MODIFIED:20231130T213822Z
UID:10000758-1711880100-1711884600@curtisbc.org
SUMMARY:Sunday Service
DESCRIPTION:Join us every Sunday for Worship at 10:15AM. You can come in person or watch on our livestream!\nChild care is provided every Sunday.\nHere is a link to our Youtube page to join us via Livestream https://www.youtube.com/user/CurtisChurchTV
URL:https://curtisbc.org/event/sunday-service-4/2024-03-31/
ATTACH;FMTTYPE=image/png:https://curtisbc.org/wp-content/uploads/2021/11/1440-×-810-px.png
END:VEVENT
BEGIN:VEVENT
DTSTART;TZID=America/Halifax:20240331T090000
DTEND;TZID=America/Halifax:20240331T113000
DTSTAMP:20260420T190328
CREATED:20240229T183101Z
LAST-MODIFIED:20240229T183101Z
UID:10000813-1711875600-1711884600@curtisbc.org
SUMMARY:Easter At Curtis
DESCRIPTION:Join us as we worship and celebrate our Risen Savior!\nMarch 31st Easter Sunday Schedule:\n9:00 AM Life Groups\n9:40 AM Bagels and Coffee\n10:15 AM Worship Service\nWe will have our traditional Flower Cross for you to help decorate with your fresh cut flowers and have pictures taken after the service. We will have Easter Invite Cards available for you to pickup as a tool to invite others to come. Make it a matter of prayer as to who the Lord would have you invite and hear the Good News of the Resurrection Power!
URL:https://curtisbc.org/event/easter-at-curtis/
ATTACH;FMTTYPE=image/png:https://curtisbc.org/wp-content/uploads/2024/02/unnamed-2.png
END:VEVENT
BEGIN:VEVENT
DTSTART;TZID=America/Halifax:20240330T110000
DTEND;TZID=America/Halifax:20240330T130000
DTSTAMP:20260420T190328
CREATED:20240229T184207Z
LAST-MODIFIED:20240229T184207Z
UID:10000815-1711796400-1711803600@curtisbc.org
SUMMARY:Curtis Kids Egg Hunt and Kickball
DESCRIPTION:Mark you calendar for the annual Curtis Kids Easter Egg Hunt and Kickball Game on March 30th from 11 AM until 1 PM at the Montclair Pool Pavilion/Park. Bring the whole family for this fun time! For more information\, contact Pastor Ben.
URL:https://curtisbc.org/event/curtis-kids-egg-hunt-and-kickball/
ATTACH;FMTTYPE=image/png:https://curtisbc.org/wp-content/uploads/2024/02/unnamed-15.png
END:VEVENT
BEGIN:VEVENT
DTSTART;TZID=America/Halifax:20240327T173000
DTEND;TZID=America/Halifax:20240327T200000
DTSTAMP:20260420T190328
CREATED:20231130T213356Z
LAST-MODIFIED:20231130T213356Z
UID:10000708-1711560600-1711569600@curtisbc.org
SUMMARY:Wednesday Bible Studies
DESCRIPTION:Join us for our Wednesday Bible studies. There’s something here for everyone!\n\n\nCurtis Kids: The Ark (Birth-4yr) & Nexkid Investigators (k4-5th)\n\n\nCurtis Student Ministry: 5:30 PM – 7:00 PM\n\n\nMen’s Bible Study: 6:00PM – 7:00 PM\n\n\nWomen’s Bible Study: 6:00 PM – 7:00 PM\n\n\nAdult Choir Practice: 7:00 PM – 8:00 PM
URL:https://curtisbc.org/event/wednesday-bible-studies-3/2024-03-27/
ATTACH;FMTTYPE=image/png:https://curtisbc.org/wp-content/uploads/2020/12/LifeGroups-Restart.png
END:VEVENT
BEGIN:VEVENT
DTSTART;TZID=America/Halifax:20240324T101500
DTEND;TZID=America/Halifax:20240324T113000
DTSTAMP:20260420T190328
CREATED:20231130T213822Z
LAST-MODIFIED:20231130T213822Z
UID:10000757-1711275300-1711279800@curtisbc.org
SUMMARY:Sunday Service
DESCRIPTION:Join us every Sunday for Worship at 10:15AM. You can come in person or watch on our livestream!\nChild care is provided every Sunday.\nHere is a link to our Youtube page to join us via Livestream https://www.youtube.com/user/CurtisChurchTV
URL:https://curtisbc.org/event/sunday-service-4/2024-03-24/
ATTACH;FMTTYPE=image/png:https://curtisbc.org/wp-content/uploads/2021/11/1440-×-810-px.png
END:VEVENT
BEGIN:VEVENT
DTSTART;TZID=America/Halifax:20240322T190000
DTEND;TZID=America/Halifax:20240322T210000
DTSTAMP:20260420T190328
CREATED:20240201T184914Z
LAST-MODIFIED:20240201T184914Z
UID:10000496-1711134000-1711141200@curtisbc.org
SUMMARY:How Sweet It Is Women's Event
DESCRIPTION:Ladies – SAVE THE DATE – March 22nd! More information coming soon about how to sign up for this event!
URL:https://curtisbc.org/event/how-sweet-it-is-womens-event/
ATTACH;FMTTYPE=image/png:https://curtisbc.org/wp-content/uploads/2024/02/unnamed-2024-02-01T134556.006.png
END:VEVENT
BEGIN:VEVENT
DTSTART;TZID=America/Halifax:20240321T183000
DTEND;TZID=America/Halifax:20240321T210000
DTSTAMP:20260420T190328
CREATED:20240314T145141Z
LAST-MODIFIED:20240409T163645Z
UID:10000822-1711045800-1711054800@curtisbc.org
SUMMARY:CYA Hangout
DESCRIPTION:CYA (College & Young Adults – ages 18 to 20 something!) are invited to the next HANGOUT at Alan and Kim’s house on March 21st at 6:30 PM. They will be sharing a meal\, spending time in the Word\, praying together and fellowshipping. 
URL:https://curtisbc.org/event/12943/
ATTACH;FMTTYPE=image/png:https://curtisbc.org/wp-content/uploads/2024/03/unnamed-2024-03-14T104947.916.png
END:VEVENT
BEGIN:VEVENT
DTSTART;TZID=America/Halifax:20240320T173000
DTEND;TZID=America/Halifax:20240320T200000
DTSTAMP:20260420T190328
CREATED:20231130T213356Z
LAST-MODIFIED:20231130T213356Z
UID:10000707-1710955800-1710964800@curtisbc.org
SUMMARY:Wednesday Bible Studies
DESCRIPTION:Join us for our Wednesday Bible studies. There’s something here for everyone!\n\n\nCurtis Kids: The Ark (Birth-4yr) & Nexkid Investigators (k4-5th)\n\n\nCurtis Student Ministry: 5:30 PM – 7:00 PM\n\n\nMen’s Bible Study: 6:00PM – 7:00 PM\n\n\nWomen’s Bible Study: 6:00 PM – 7:00 PM\n\n\nAdult Choir Practice: 7:00 PM – 8:00 PM
URL:https://curtisbc.org/event/wednesday-bible-studies-3/2024-03-20/
ATTACH;FMTTYPE=image/png:https://curtisbc.org/wp-content/uploads/2020/12/LifeGroups-Restart.png
END:VEVENT
BEGIN:VEVENT
DTSTART;TZID=America/Halifax:20240317T140000
DTEND;TZID=America/Halifax:20240317T160000
DTSTAMP:20260420T190328
CREATED:20240313T190929Z
LAST-MODIFIED:20240313T190929Z
UID:10000820-1710684000-1710691200@curtisbc.org
SUMMARY:Guy's Basketball
DESCRIPTION:Guys – come join us for some basketball at Cheeks Gym on Sunday 2-4 PM. Invite a friend to come along with you! For more information\, contact Nic Hoffmann.
URL:https://curtisbc.org/event/guys-basketball-3/
ATTACH;FMTTYPE=image/png:https://curtisbc.org/wp-content/uploads/2024/03/unnamed-2024-03-13T150656.280.png
END:VEVENT
BEGIN:VEVENT
DTSTART;TZID=America/Halifax:20240317T114500
DTEND;TZID=America/Halifax:20240317T130000
DTSTAMP:20260420T190329
CREATED:20240215T144153Z
LAST-MODIFIED:20240215T144436Z
UID:10000812-1710675900-1710680400@curtisbc.org
SUMMARY:Prayer Luncheon
DESCRIPTION:We are looking forward to our first Prayer Luncheon of 2024 on March 17th in Café 180.\nHere are few details and information about how to sign up: \n\nSchedule: Lunch 11:45 AM – 12:15 PM; Prayer Time 12:15 – 1:00 PM\n2 Prayer Venues: Pray in Café 180 & Prayer Walking the campus\nBoxed lunch ($5/person) from Jason’s Deli – turkey on croissant\, chips\, pickle\, cookie and water\nWe encourage children/students to pray with their families but we will offer childcare following the lunch time for newborns to K5.\nSign up and pay with cash/check in the Ministry Center on Sunday OR sign up and pay with credit/debit card online using this link: https://curtisbc.ccbchurch.com/goto/forms/301/responses/new\nDeadline to sign up: March 10th\nIf you cannot make it to this Prayer Luncheon\, mark your calendar for the next one on April 21st.
URL:https://curtisbc.org/event/prayer-luncheon/
ATTACH;FMTTYPE=image/png:https://curtisbc.org/wp-content/uploads/2024/02/unnamed-2024-02-15T093723.355.png
END:VEVENT
BEGIN:VEVENT
DTSTART;TZID=America/Halifax:20240317T101500
DTEND;TZID=America/Halifax:20240317T113000
DTSTAMP:20260420T190329
CREATED:20231130T213822Z
LAST-MODIFIED:20231130T213822Z
UID:10000756-1710670500-1710675000@curtisbc.org
SUMMARY:Sunday Service
DESCRIPTION:Join us every Sunday for Worship at 10:15AM. You can come in person or watch on our livestream!\nChild care is provided every Sunday.\nHere is a link to our Youtube page to join us via Livestream https://www.youtube.com/user/CurtisChurchTV
URL:https://curtisbc.org/event/sunday-service-4/2024-03-17/
ATTACH;FMTTYPE=image/png:https://curtisbc.org/wp-content/uploads/2021/11/1440-×-810-px.png
END:VEVENT
END:VCALENDAR