BEGIN:VCALENDAR
VERSION:2.0
PRODID:-//Curtis Baptist Church - ECPv6.15.20//NONSGML v1.0//EN
CALSCALE:GREGORIAN
METHOD:PUBLISH
X-WR-CALNAME:Curtis Baptist Church
X-ORIGINAL-URL:https://curtisbc.org
X-WR-CALDESC:Events for Curtis Baptist Church
REFRESH-INTERVAL;VALUE=DURATION:PT1H
X-Robots-Tag:noindex
X-PUBLISHED-TTL:PT1H
BEGIN:VTIMEZONE
TZID:America/Halifax
BEGIN:DAYLIGHT
TZOFFSETFROM:-0400
TZOFFSETTO:-0300
TZNAME:ADT
DTSTART:20230312T060000
END:DAYLIGHT
BEGIN:STANDARD
TZOFFSETFROM:-0300
TZOFFSETTO:-0400
TZNAME:AST
DTSTART:20231105T050000
END:STANDARD
BEGIN:DAYLIGHT
TZOFFSETFROM:-0400
TZOFFSETTO:-0300
TZNAME:ADT
DTSTART:20240310T060000
END:DAYLIGHT
BEGIN:STANDARD
TZOFFSETFROM:-0300
TZOFFSETTO:-0400
TZNAME:AST
DTSTART:20241103T050000
END:STANDARD
BEGIN:DAYLIGHT
TZOFFSETFROM:-0400
TZOFFSETTO:-0300
TZNAME:ADT
DTSTART:20250309T060000
END:DAYLIGHT
BEGIN:STANDARD
TZOFFSETFROM:-0300
TZOFFSETTO:-0400
TZNAME:AST
DTSTART:20251102T050000
END:STANDARD
END:VTIMEZONE
BEGIN:VEVENT
DTSTART;TZID=America/Halifax:20240314T183000
DTEND;TZID=America/Halifax:20240314T213000
DTSTAMP:20260421T104918
CREATED:20240307T200904Z
LAST-MODIFIED:20240307T203115Z
UID:10000819-1710441000-1710451800@curtisbc.org
SUMMARY:Ladies' Night Out
DESCRIPTION:The next LNO will be on March 14th at 6:30 PM at Jim ‘N Nick’s Bar-B-Q on Robert C Daniel Jr Pkwy. Let Terese Denney know you are coming by March 13th.
URL:https://curtisbc.org/event/ladies-night-out-28/
ATTACH;FMTTYPE=image/png:https://curtisbc.org/wp-content/uploads/2024/03/LNO-March-2024.png
END:VEVENT
BEGIN:VEVENT
DTSTART;TZID=America/Halifax:20240314T173000
DTEND;TZID=America/Halifax:20240314T203000
DTSTAMP:20260421T104918
CREATED:20240208T132704Z
LAST-MODIFIED:20240208T133232Z
UID:10000499-1710437400-1710448200@curtisbc.org
SUMMARY:Men's Ministry Dinner & Fellowship
DESCRIPTION:The next Men’s Event is March 14th at the Curtis Church Gym (not Cheeks). There will be a low country boil dinner\, fellowship and testimony. Get signed up by clicking this link or on the sign up sheet in the Ministry Center. For more information\, contact David Cole or Calvin Burgess.
URL:https://curtisbc.org/event/mens-ministry-dinner-fellowship/
ATTACH;FMTTYPE=image/png:https://curtisbc.org/wp-content/uploads/2024/02/unnamed-2024-02-08T082312.872.png
END:VEVENT
BEGIN:VEVENT
DTSTART;TZID=America/Halifax:20240313T173000
DTEND;TZID=America/Halifax:20240313T200000
DTSTAMP:20260421T104918
CREATED:20231130T213356Z
LAST-MODIFIED:20231130T213356Z
UID:10000706-1710351000-1710360000@curtisbc.org
SUMMARY:Wednesday Bible Studies
DESCRIPTION:Join us for our Wednesday Bible studies. There’s something here for everyone!\n\n\nCurtis Kids: The Ark (Birth-4yr) & Nexkid Investigators (k4-5th)\n\n\nCurtis Student Ministry: 5:30 PM – 7:00 PM\n\n\nMen’s Bible Study: 6:00PM – 7:00 PM\n\n\nWomen’s Bible Study: 6:00 PM – 7:00 PM\n\n\nAdult Choir Practice: 7:00 PM – 8:00 PM
URL:https://curtisbc.org/event/wednesday-bible-studies-3/2024-03-13/
ATTACH;FMTTYPE=image/png:https://curtisbc.org/wp-content/uploads/2020/12/LifeGroups-Restart.png
END:VEVENT
BEGIN:VEVENT
DTSTART;TZID=America/Halifax:20240310T113000
DTEND;TZID=America/Halifax:20240310T130000
DTSTAMP:20260421T104918
CREATED:20240201T184443Z
LAST-MODIFIED:20240201T184443Z
UID:10000494-1710070200-1710075600@curtisbc.org
SUMMARY:Soup Fellowship & CSM Fundraiser
DESCRIPTION:Get signed up for the March 10th Soup Fellowship & CSM Fundraiser! If you sign up to bring a soup\, you get two FREE tickets! Click HERE for all the details about signing up!
URL:https://curtisbc.org/event/soup-fellowship-csm-fundraiser/
ATTACH;FMTTYPE=image/png:https://curtisbc.org/wp-content/uploads/2024/02/unnamed-2024-02-01T134036.662.png
END:VEVENT
BEGIN:VEVENT
DTSTART;TZID=America/Halifax:20240310T101500
DTEND;TZID=America/Halifax:20240310T113000
DTSTAMP:20260421T104918
CREATED:20231130T213822Z
LAST-MODIFIED:20231130T213822Z
UID:10000755-1710065700-1710070200@curtisbc.org
SUMMARY:Sunday Service
DESCRIPTION:Join us every Sunday for Worship at 10:15AM. You can come in person or watch on our livestream!\nChild care is provided every Sunday.\nHere is a link to our Youtube page to join us via Livestream https://www.youtube.com/user/CurtisChurchTV
URL:https://curtisbc.org/event/sunday-service-4/2024-03-10/
ATTACH;FMTTYPE=image/png:https://curtisbc.org/wp-content/uploads/2021/11/1440-×-810-px.png
END:VEVENT
BEGIN:VEVENT
DTSTART;TZID=America/Halifax:20240310T093000
DTEND;TZID=America/Halifax:20240310T123000
DTSTAMP:20260421T104918
CREATED:20240229T185237Z
LAST-MODIFIED:20240229T185354Z
UID:10000817-1710063000-1710073800@curtisbc.org
SUMMARY:Deaf Worship and Lunch
DESCRIPTION:Deaf Worship and Lunch March 10th at 9:30 am. Meet in the Fireside room for Worship then join us for our covered dish lunch.
URL:https://curtisbc.org/event/deaf-worship-and-lunch-6/
ATTACH;FMTTYPE=image/png:https://curtisbc.org/wp-content/uploads/2020/12/deaf-ministry-logo.png
END:VEVENT
BEGIN:VEVENT
DTSTART;TZID=America/Halifax:20240309T020000
DTEND;TZID=America/Halifax:20240309T023000
DTSTAMP:20260421T104918
CREATED:20240307T195631Z
LAST-MODIFIED:20240307T195631Z
UID:10000816-1709949600-1709951400@curtisbc.org
SUMMARY:Spring Forward
DESCRIPTION:Don’t forget to “spring forward” an hour this weekend!
URL:https://curtisbc.org/event/spring-forward/
ATTACH;FMTTYPE=image/png:https://curtisbc.org/wp-content/uploads/2024/03/unnamed-2024-03-07T144950.949.png
END:VEVENT
BEGIN:VEVENT
DTSTART;TZID=America/Halifax:20240307T183000
DTEND;TZID=America/Halifax:20240307T210000
DTSTAMP:20260421T104918
CREATED:20240307T200446Z
LAST-MODIFIED:20240307T200446Z
UID:10000818-1709836200-1709845200@curtisbc.org
SUMMARY:College & Young Pros Hangout
DESCRIPTION:Inviting all College & Young Pros for a time to hangout at Alan & Kim Jones’s house.  Let’s get to know them as they have come on board to serve with the CYP Ministry. 
URL:https://curtisbc.org/event/college-young-pros-hangout/
ATTACH;FMTTYPE=image/png:https://curtisbc.org/wp-content/uploads/2024/03/unnamed-2024-03-07T150042.345.png
END:VEVENT
BEGIN:VEVENT
DTSTART;TZID=America/Halifax:20240306T180000
DTEND;TZID=America/Halifax:20240306T190000
DTSTAMP:20260421T104918
CREATED:20240229T183735Z
LAST-MODIFIED:20240328T210717Z
UID:10000814-1709748000-1709751600@curtisbc.org
SUMMARY:New Women's Bible Study
DESCRIPTION:The Women’s Wednesday Bible Study Class will finish the Sermon on the Mount Study Wednesday\, March 6th and introduce the new study – Life Under the Sun by Hannah Anderson. This study will continue until May 8th. Books are $15 and can be purchased online at this LINK or in class on Wednesday. Hope you will join us as we walk through the Book of Ecclesiastes.
URL:https://curtisbc.org/event/12895/
ATTACH;FMTTYPE=image/png:https://curtisbc.org/wp-content/uploads/2024/02/unnamed-6.png
END:VEVENT
BEGIN:VEVENT
DTSTART;TZID=America/Halifax:20240306T173000
DTEND;TZID=America/Halifax:20240306T200000
DTSTAMP:20260421T104918
CREATED:20231130T213356Z
LAST-MODIFIED:20231130T213356Z
UID:10000705-1709746200-1709755200@curtisbc.org
SUMMARY:Wednesday Bible Studies
DESCRIPTION:Join us for our Wednesday Bible studies. There’s something here for everyone!\n\n\nCurtis Kids: The Ark (Birth-4yr) & Nexkid Investigators (k4-5th)\n\n\nCurtis Student Ministry: 5:30 PM – 7:00 PM\n\n\nMen’s Bible Study: 6:00PM – 7:00 PM\n\n\nWomen’s Bible Study: 6:00 PM – 7:00 PM\n\n\nAdult Choir Practice: 7:00 PM – 8:00 PM
URL:https://curtisbc.org/event/wednesday-bible-studies-3/2024-03-06/
ATTACH;FMTTYPE=image/png:https://curtisbc.org/wp-content/uploads/2020/12/LifeGroups-Restart.png
END:VEVENT
BEGIN:VEVENT
DTSTART;TZID=America/Halifax:20240303T101500
DTEND;TZID=America/Halifax:20240303T113000
DTSTAMP:20260421T104918
CREATED:20231130T213822Z
LAST-MODIFIED:20231130T213822Z
UID:10000754-1709460900-1709465400@curtisbc.org
SUMMARY:Sunday Service
DESCRIPTION:Join us every Sunday for Worship at 10:15AM. You can come in person or watch on our livestream!\nChild care is provided every Sunday.\nHere is a link to our Youtube page to join us via Livestream https://www.youtube.com/user/CurtisChurchTV
URL:https://curtisbc.org/event/sunday-service-4/2024-03-03/
ATTACH;FMTTYPE=image/png:https://curtisbc.org/wp-content/uploads/2021/11/1440-×-810-px.png
END:VEVENT
BEGIN:VEVENT
DTSTART;TZID=America/Halifax:20240301T180000
DTEND;TZID=America/Halifax:20240303T113000
DTSTAMP:20260421T104918
CREATED:20240201T181952Z
LAST-MODIFIED:20240201T182217Z
UID:10000491-1709316000-1709465400@curtisbc.org
SUMMARY:CSM REVIVE
DESCRIPTION:The Curtis Student Ministry (CSM) will host REVIVE Weekend here at Curtis March 1-3! Students – get signed up NOW by clicking Here because you do not want to miss REVIVE! The price is $50/student. We are praying for God to bring revival within the hearts and lives of our students. Please join us in praying for God to move during (and leading up to) our Revive Weekend!
URL:https://curtisbc.org/event/csm-revive/
ATTACH;FMTTYPE=image/png:https://curtisbc.org/wp-content/uploads/2024/02/unnamed-2024-02-01T131443.871.png
END:VEVENT
BEGIN:VEVENT
DTSTART;TZID=America/Halifax:20240228T173000
DTEND;TZID=America/Halifax:20240228T200000
DTSTAMP:20260421T104918
CREATED:20231130T213356Z
LAST-MODIFIED:20231130T213356Z
UID:10000704-1709141400-1709150400@curtisbc.org
SUMMARY:Wednesday Bible Studies
DESCRIPTION:Join us for our Wednesday Bible studies. There’s something here for everyone!\n\n\nCurtis Kids: The Ark (Birth-4yr) & Nexkid Investigators (k4-5th)\n\n\nCurtis Student Ministry: 5:30 PM – 7:00 PM\n\n\nMen’s Bible Study: 6:00PM – 7:00 PM\n\n\nWomen’s Bible Study: 6:00 PM – 7:00 PM\n\n\nAdult Choir Practice: 7:00 PM – 8:00 PM
URL:https://curtisbc.org/event/wednesday-bible-studies-3/2024-02-28/
ATTACH;FMTTYPE=image/png:https://curtisbc.org/wp-content/uploads/2020/12/LifeGroups-Restart.png
END:VEVENT
BEGIN:VEVENT
DTSTART;TZID=America/Halifax:20240225T101500
DTEND;TZID=America/Halifax:20240225T113000
DTSTAMP:20260421T104918
CREATED:20231130T213822Z
LAST-MODIFIED:20231130T213822Z
UID:10000753-1708856100-1708860600@curtisbc.org
SUMMARY:Sunday Service
DESCRIPTION:Join us every Sunday for Worship at 10:15AM. You can come in person or watch on our livestream!\nChild care is provided every Sunday.\nHere is a link to our Youtube page to join us via Livestream https://www.youtube.com/user/CurtisChurchTV
URL:https://curtisbc.org/event/sunday-service-4/2024-02-25/
ATTACH;FMTTYPE=image/png:https://curtisbc.org/wp-content/uploads/2021/11/1440-×-810-px.png
END:VEVENT
BEGIN:VEVENT
DTSTART;TZID=America/Halifax:20240223T160000
DTEND;TZID=America/Halifax:20240223T200000
DTSTAMP:20260421T104918
CREATED:20240208T132053Z
LAST-MODIFIED:20240208T132053Z
UID:10000498-1708704000-1708718400@curtisbc.org
SUMMARY:Ladies' Craft Night
DESCRIPTION:The Women’s Ministry will have the next Craft Night on Friday\, February 23rd in Café 180. There will be three fun options available from 4-8 PM! Come for part or the entire time! Here’s what they will have going:\n– make a Purse Pouch to keep your purse organized – $5 covers supplies or bring your own square potholder/hotpad\n– Lydia Project Totes – make small totes for ladies with cancer (some sewing is involved; bring your own sewing machine if you would like; no cost)\n– puzzles to do for fun\n– bring a finger food to share\nPlease RSVP to Deb Ulrich\, dlulrich6@gmail.com or for more information!
URL:https://curtisbc.org/event/ladies-craft-night-2/
ATTACH;FMTTYPE=image/png:https://curtisbc.org/wp-content/uploads/2024/02/unnamed-2024-02-08T081336.793.png
END:VEVENT
BEGIN:VEVENT
DTSTART;TZID=America/Halifax:20240222T183000
DTEND;TZID=America/Halifax:20240222T213000
DTSTAMP:20260421T104918
CREATED:20240201T183807Z
LAST-MODIFIED:20240201T183807Z
UID:10000493-1708626600-1708637400@curtisbc.org
SUMMARY:Third Thursday Single's Gathering
DESCRIPTION:The monthly Third Thursday Single’s Gathering at Marie Wilson’s has changed this month to February 22nd. Please be sure to make that change on your calendar and also let Marie know if you are coming by February 20th.
URL:https://curtisbc.org/event/third-thursday-singles-gathering-6/
ATTACH;FMTTYPE=image/png:https://curtisbc.org/wp-content/uploads/2024/02/unnamed-2024-02-01T133516.535.png
END:VEVENT
BEGIN:VEVENT
DTSTART;TZID=America/Halifax:20240221T173000
DTEND;TZID=America/Halifax:20240221T200000
DTSTAMP:20260421T104918
CREATED:20231130T213356Z
LAST-MODIFIED:20231130T213356Z
UID:10000703-1708536600-1708545600@curtisbc.org
SUMMARY:Wednesday Bible Studies
DESCRIPTION:Join us for our Wednesday Bible studies. There’s something here for everyone!\n\n\nCurtis Kids: The Ark (Birth-4yr) & Nexkid Investigators (k4-5th)\n\n\nCurtis Student Ministry: 5:30 PM – 7:00 PM\n\n\nMen’s Bible Study: 6:00PM – 7:00 PM\n\n\nWomen’s Bible Study: 6:00 PM – 7:00 PM\n\n\nAdult Choir Practice: 7:00 PM – 8:00 PM
URL:https://curtisbc.org/event/wednesday-bible-studies-3/2024-02-21/
ATTACH;FMTTYPE=image/png:https://curtisbc.org/wp-content/uploads/2020/12/LifeGroups-Restart.png
END:VEVENT
BEGIN:VEVENT
DTSTART;TZID=America/Halifax:20240218T101500
DTEND;TZID=America/Halifax:20240218T113000
DTSTAMP:20260421T104918
CREATED:20231130T213822Z
LAST-MODIFIED:20231130T213822Z
UID:10000752-1708251300-1708255800@curtisbc.org
SUMMARY:Sunday Service
DESCRIPTION:Join us every Sunday for Worship at 10:15AM. You can come in person or watch on our livestream!\nChild care is provided every Sunday.\nHere is a link to our Youtube page to join us via Livestream https://www.youtube.com/user/CurtisChurchTV
URL:https://curtisbc.org/event/sunday-service-4/2024-02-18/
ATTACH;FMTTYPE=image/png:https://curtisbc.org/wp-content/uploads/2021/11/1440-×-810-px.png
END:VEVENT
BEGIN:VEVENT
DTSTART;TZID=America/Halifax:20240217T173000
DTEND;TZID=America/Halifax:20240217T193000
DTSTAMP:20260421T104918
CREATED:20240119T145032Z
LAST-MODIFIED:20240119T145032Z
UID:10000486-1708191000-1708198200@curtisbc.org
SUMMARY:All Things Sweet Date Night
DESCRIPTION:Married couples of all ages – this night is for YOU! The All Things Sweet Date Night is set for February 17th at 5:30 PM in the Ministry Center. There will be a catered dinner ($20/couple) and of course desserts and door prizes! Child care will be available by reservation. Sign-ups will begin this Sunday\, so be sure to get your name on the list!
URL:https://curtisbc.org/event/all-things-sweet-date-night/
ATTACH;FMTTYPE=image/png:https://curtisbc.org/wp-content/uploads/2024/01/unnamed-89.png
END:VEVENT
BEGIN:VEVENT
DTSTART;TZID=America/Halifax:20240214T173000
DTEND;TZID=America/Halifax:20240214T200000
DTSTAMP:20260421T104918
CREATED:20231130T213356Z
LAST-MODIFIED:20231130T213356Z
UID:10000702-1707931800-1707940800@curtisbc.org
SUMMARY:Wednesday Bible Studies
DESCRIPTION:Join us for our Wednesday Bible studies. There’s something here for everyone!\n\n\nCurtis Kids: The Ark (Birth-4yr) & Nexkid Investigators (k4-5th)\n\n\nCurtis Student Ministry: 5:30 PM – 7:00 PM\n\n\nMen’s Bible Study: 6:00PM – 7:00 PM\n\n\nWomen’s Bible Study: 6:00 PM – 7:00 PM\n\n\nAdult Choir Practice: 7:00 PM – 8:00 PM
URL:https://curtisbc.org/event/wednesday-bible-studies-3/2024-02-14/
ATTACH;FMTTYPE=image/png:https://curtisbc.org/wp-content/uploads/2020/12/LifeGroups-Restart.png
END:VEVENT
BEGIN:VEVENT
DTSTART;TZID=America/Halifax:20240213T183000
DTEND;TZID=America/Halifax:20240213T213000
DTSTAMP:20260421T104918
CREATED:20240125T190752Z
LAST-MODIFIED:20240125T190752Z
UID:10000489-1707849000-1707859800@curtisbc.org
SUMMARY:Ladies' Night Out
DESCRIPTION:The date for the next Ladies’ Night Out is set for February 13th at Farmhaus on Flowing Wells Road. Terri Jeffcoat will host the ladies for dessert following the meal. Please be sure to RSVP to Terese Denney by February 12th. 
URL:https://curtisbc.org/event/ladies-night-out-27/
ATTACH;FMTTYPE=image/png:https://curtisbc.org/wp-content/uploads/2024/01/unnamed-2024-01-25T140434.422.png
END:VEVENT
BEGIN:VEVENT
DTSTART;TZID=America/Halifax:20240213T110000
DTEND;TZID=America/Halifax:20240213T130000
DTSTAMP:20260421T104918
CREATED:20240201T182911Z
LAST-MODIFIED:20240201T182911Z
UID:10000492-1707822000-1707829200@curtisbc.org
SUMMARY:Happy 39'ers
DESCRIPTION:The Happy 39’ers will have their next meeting and lunch on Tuesday\, February 13th at 11 AM in Room B105. Please be sure to RSVP by February 5th. You can either sign up in the Ministry Center\, email JanJee at jhitt@curtisbaptist.org or call 706-722-7348/803-341-0916.
URL:https://curtisbc.org/event/happy-39ers-6/
ATTACH;FMTTYPE=image/png:https://curtisbc.org/wp-content/uploads/2024/02/unnamed-2024-02-01T132558.004.png
END:VEVENT
BEGIN:VEVENT
DTSTART;TZID=America/Halifax:20240211T101500
DTEND;TZID=America/Halifax:20240211T113000
DTSTAMP:20260421T104918
CREATED:20231130T213822Z
LAST-MODIFIED:20231130T213822Z
UID:10000751-1707646500-1707651000@curtisbc.org
SUMMARY:Sunday Service
DESCRIPTION:Join us every Sunday for Worship at 10:15AM. You can come in person or watch on our livestream!\nChild care is provided every Sunday.\nHere is a link to our Youtube page to join us via Livestream https://www.youtube.com/user/CurtisChurchTV
URL:https://curtisbc.org/event/sunday-service-4/2024-02-11/
ATTACH;FMTTYPE=image/png:https://curtisbc.org/wp-content/uploads/2021/11/1440-×-810-px.png
END:VEVENT
BEGIN:VEVENT
DTSTART;TZID=America/Halifax:20240211T093000
DTEND;TZID=America/Halifax:20240211T123000
DTSTAMP:20260421T104918
CREATED:20240124T125656Z
LAST-MODIFIED:20240124T125656Z
UID:10000487-1707643800-1707654600@curtisbc.org
SUMMARY:Deaf Worship & Luncheon
DESCRIPTION:Make plans to join us in the Fireside Room\, February 11th at 9:30 AM for Deaf Worship followed by a covered dish lunch.
URL:https://curtisbc.org/event/deaf-worship-luncheon/
ATTACH;FMTTYPE=image/png:https://curtisbc.org/wp-content/uploads/2020/12/deaf-ministry-logo.png
END:VEVENT
BEGIN:VEVENT
DTSTART;TZID=America/Halifax:20240211T090000
DTEND;TZID=America/Halifax:20240211T140000
DTSTAMP:20260421T104918
CREATED:20240208T140646Z
LAST-MODIFIED:20240208T140646Z
UID:10000811-1707642000-1707660000@curtisbc.org
SUMMARY:Missions' Weekend Sunday
DESCRIPTION:First of all\, thank you to those who served alongside SEND RELIEF SERVE TOUR throughout the CSRA this weekend! Missions Weekend will continue on Sunday with the schedule listed above. Come hear testimony from the Delands at 9 AM in the sanctuary\, followed by our 10:15 AM time of worship\, and our Missions Luncheon/Interest Meetings after the service.
URL:https://curtisbc.org/event/missions-weekend-sunday/
ATTACH;FMTTYPE=image/png:https://curtisbc.org/wp-content/uploads/2024/02/unnamed-2024-02-08T090222.957.png
END:VEVENT
BEGIN:VEVENT
DTSTART;TZID=America/Halifax:20240209T080000
DTEND;TZID=America/Halifax:20240211T170000
DTSTAMP:20260421T104918
CREATED:20240119T144636Z
LAST-MODIFIED:20240119T144636Z
UID:10000810-1707465600-1707670800@curtisbc.org
SUMMARY:Missions Weekend
DESCRIPTION:The Curtis Missions Weekend will be February 9-11. On Thursday and Friday of that week\, we will be teaming up with SEND RELIEF SERVE TOUR to serve in our city of Augusta. If you are interested in serving on a team in our community\, please sign up in the Ministry Center. Also\, we will focus on Missions during our Life Group time on Sunday\, February 11 with guest missionaries – the DeLand Family (see the schedule below). Following the worship service\, we will have a Missions Luncheon in the Gym. Tickets will be available starting Sunday\, January 28th. For more information about any of these events\, contact Pastor Tom Lowry at tlowry@curtisbaptist.org
URL:https://curtisbc.org/event/missions-weekend/
ATTACH;FMTTYPE=image/png:https://curtisbc.org/wp-content/uploads/2024/01/unnamed-88.png
END:VEVENT
BEGIN:VEVENT
DTSTART;TZID=America/Halifax:20240207T173000
DTEND;TZID=America/Halifax:20240207T200000
DTSTAMP:20260421T104918
CREATED:20231130T213356Z
LAST-MODIFIED:20231130T213356Z
UID:10000701-1707327000-1707336000@curtisbc.org
SUMMARY:Wednesday Bible Studies
DESCRIPTION:Join us for our Wednesday Bible studies. There’s something here for everyone!\n\n\nCurtis Kids: The Ark (Birth-4yr) & Nexkid Investigators (k4-5th)\n\n\nCurtis Student Ministry: 5:30 PM – 7:00 PM\n\n\nMen’s Bible Study: 6:00PM – 7:00 PM\n\n\nWomen’s Bible Study: 6:00 PM – 7:00 PM\n\n\nAdult Choir Practice: 7:00 PM – 8:00 PM
URL:https://curtisbc.org/event/wednesday-bible-studies-3/2024-02-07/
ATTACH;FMTTYPE=image/png:https://curtisbc.org/wp-content/uploads/2020/12/LifeGroups-Restart.png
END:VEVENT
BEGIN:VEVENT
DTSTART;TZID=America/Halifax:20240204T101500
DTEND;TZID=America/Halifax:20240204T113000
DTSTAMP:20260421T104918
CREATED:20231130T213822Z
LAST-MODIFIED:20231130T213822Z
UID:10000750-1707041700-1707046200@curtisbc.org
SUMMARY:Sunday Service
DESCRIPTION:Join us every Sunday for Worship at 10:15AM. You can come in person or watch on our livestream!\nChild care is provided every Sunday.\nHere is a link to our Youtube page to join us via Livestream https://www.youtube.com/user/CurtisChurchTV
URL:https://curtisbc.org/event/sunday-service-4/2024-02-04/
ATTACH;FMTTYPE=image/png:https://curtisbc.org/wp-content/uploads/2021/11/1440-×-810-px.png
END:VEVENT
BEGIN:VEVENT
DTSTART;TZID=America/Halifax:20240131T173000
DTEND;TZID=America/Halifax:20240131T200000
DTSTAMP:20260421T104918
CREATED:20231130T213356Z
LAST-MODIFIED:20231130T213356Z
UID:10000700-1706722200-1706731200@curtisbc.org
SUMMARY:Wednesday Bible Studies
DESCRIPTION:Join us for our Wednesday Bible studies. There’s something here for everyone!\n\n\nCurtis Kids: The Ark (Birth-4yr) & Nexkid Investigators (k4-5th)\n\n\nCurtis Student Ministry: 5:30 PM – 7:00 PM\n\n\nMen’s Bible Study: 6:00PM – 7:00 PM\n\n\nWomen’s Bible Study: 6:00 PM – 7:00 PM\n\n\nAdult Choir Practice: 7:00 PM – 8:00 PM
URL:https://curtisbc.org/event/wednesday-bible-studies-3/2024-01-31/
ATTACH;FMTTYPE=image/png:https://curtisbc.org/wp-content/uploads/2020/12/LifeGroups-Restart.png
END:VEVENT
BEGIN:VEVENT
DTSTART;TZID=America/Halifax:20240128T101500
DTEND;TZID=America/Halifax:20240128T113000
DTSTAMP:20260421T104918
CREATED:20231130T213822Z
LAST-MODIFIED:20231130T213822Z
UID:10000749-1706436900-1706441400@curtisbc.org
SUMMARY:Sunday Service
DESCRIPTION:Join us every Sunday for Worship at 10:15AM. You can come in person or watch on our livestream!\nChild care is provided every Sunday.\nHere is a link to our Youtube page to join us via Livestream https://www.youtube.com/user/CurtisChurchTV
URL:https://curtisbc.org/event/sunday-service-4/2024-01-28/
ATTACH;FMTTYPE=image/png:https://curtisbc.org/wp-content/uploads/2021/11/1440-×-810-px.png
END:VEVENT
END:VCALENDAR