BEGIN:VCALENDAR
VERSION:2.0
PRODID:-//Curtis Baptist Church - ECPv6.15.20//NONSGML v1.0//EN
CALSCALE:GREGORIAN
METHOD:PUBLISH
X-WR-CALNAME:Curtis Baptist Church
X-ORIGINAL-URL:https://curtisbc.org
X-WR-CALDESC:Events for Curtis Baptist Church
REFRESH-INTERVAL;VALUE=DURATION:PT1H
X-Robots-Tag:noindex
X-PUBLISHED-TTL:PT1H
BEGIN:VTIMEZONE
TZID:America/Halifax
BEGIN:DAYLIGHT
TZOFFSETFROM:-0400
TZOFFSETTO:-0300
TZNAME:ADT
DTSTART:20220313T060000
END:DAYLIGHT
BEGIN:STANDARD
TZOFFSETFROM:-0300
TZOFFSETTO:-0400
TZNAME:AST
DTSTART:20221106T050000
END:STANDARD
BEGIN:DAYLIGHT
TZOFFSETFROM:-0400
TZOFFSETTO:-0300
TZNAME:ADT
DTSTART:20230312T060000
END:DAYLIGHT
BEGIN:STANDARD
TZOFFSETFROM:-0300
TZOFFSETTO:-0400
TZNAME:AST
DTSTART:20231105T050000
END:STANDARD
BEGIN:DAYLIGHT
TZOFFSETFROM:-0400
TZOFFSETTO:-0300
TZNAME:ADT
DTSTART:20240310T060000
END:DAYLIGHT
BEGIN:STANDARD
TZOFFSETFROM:-0300
TZOFFSETTO:-0400
TZNAME:AST
DTSTART:20241103T050000
END:STANDARD
BEGIN:DAYLIGHT
TZOFFSETFROM:-0400
TZOFFSETTO:-0300
TZNAME:ADT
DTSTART:20250309T060000
END:DAYLIGHT
BEGIN:STANDARD
TZOFFSETFROM:-0300
TZOFFSETTO:-0400
TZNAME:AST
DTSTART:20251102T050000
END:STANDARD
END:VTIMEZONE
BEGIN:VEVENT
DTSTART;TZID=America/Halifax:20240217T173000
DTEND;TZID=America/Halifax:20240217T193000
DTSTAMP:20260421T020841
CREATED:20240119T145032Z
LAST-MODIFIED:20240119T145032Z
UID:10000486-1708191000-1708198200@curtisbc.org
SUMMARY:All Things Sweet Date Night
DESCRIPTION:Married couples of all ages – this night is for YOU! The All Things Sweet Date Night is set for February 17th at 5:30 PM in the Ministry Center. There will be a catered dinner ($20/couple) and of course desserts and door prizes! Child care will be available by reservation. Sign-ups will begin this Sunday\, so be sure to get your name on the list!
URL:https://curtisbc.org/event/all-things-sweet-date-night/
ATTACH;FMTTYPE=image/png:https://curtisbc.org/wp-content/uploads/2024/01/unnamed-89.png
END:VEVENT
BEGIN:VEVENT
DTSTART;TZID=America/Halifax:20240214T173000
DTEND;TZID=America/Halifax:20240214T200000
DTSTAMP:20260421T020841
CREATED:20231130T213356Z
LAST-MODIFIED:20231130T213356Z
UID:10000702-1707931800-1707940800@curtisbc.org
SUMMARY:Wednesday Bible Studies
DESCRIPTION:Join us for our Wednesday Bible studies. There’s something here for everyone!\n\n\nCurtis Kids: The Ark (Birth-4yr) & Nexkid Investigators (k4-5th)\n\n\nCurtis Student Ministry: 5:30 PM – 7:00 PM\n\n\nMen’s Bible Study: 6:00PM – 7:00 PM\n\n\nWomen’s Bible Study: 6:00 PM – 7:00 PM\n\n\nAdult Choir Practice: 7:00 PM – 8:00 PM
URL:https://curtisbc.org/event/wednesday-bible-studies-3/2024-02-14/
ATTACH;FMTTYPE=image/png:https://curtisbc.org/wp-content/uploads/2020/12/LifeGroups-Restart.png
END:VEVENT
BEGIN:VEVENT
DTSTART;TZID=America/Halifax:20240213T183000
DTEND;TZID=America/Halifax:20240213T213000
DTSTAMP:20260421T020841
CREATED:20240125T190752Z
LAST-MODIFIED:20240125T190752Z
UID:10000489-1707849000-1707859800@curtisbc.org
SUMMARY:Ladies' Night Out
DESCRIPTION:The date for the next Ladies’ Night Out is set for February 13th at Farmhaus on Flowing Wells Road. Terri Jeffcoat will host the ladies for dessert following the meal. Please be sure to RSVP to Terese Denney by February 12th. 
URL:https://curtisbc.org/event/ladies-night-out-27/
ATTACH;FMTTYPE=image/png:https://curtisbc.org/wp-content/uploads/2024/01/unnamed-2024-01-25T140434.422.png
END:VEVENT
BEGIN:VEVENT
DTSTART;TZID=America/Halifax:20240213T110000
DTEND;TZID=America/Halifax:20240213T130000
DTSTAMP:20260421T020841
CREATED:20240201T182911Z
LAST-MODIFIED:20240201T182911Z
UID:10000492-1707822000-1707829200@curtisbc.org
SUMMARY:Happy 39'ers
DESCRIPTION:The Happy 39’ers will have their next meeting and lunch on Tuesday\, February 13th at 11 AM in Room B105. Please be sure to RSVP by February 5th. You can either sign up in the Ministry Center\, email JanJee at jhitt@curtisbaptist.org or call 706-722-7348/803-341-0916.
URL:https://curtisbc.org/event/happy-39ers-6/
ATTACH;FMTTYPE=image/png:https://curtisbc.org/wp-content/uploads/2024/02/unnamed-2024-02-01T132558.004.png
END:VEVENT
BEGIN:VEVENT
DTSTART;TZID=America/Halifax:20240211T101500
DTEND;TZID=America/Halifax:20240211T113000
DTSTAMP:20260421T020841
CREATED:20231130T213822Z
LAST-MODIFIED:20231130T213822Z
UID:10000751-1707646500-1707651000@curtisbc.org
SUMMARY:Sunday Service
DESCRIPTION:Join us every Sunday for Worship at 10:15AM. You can come in person or watch on our livestream!\nChild care is provided every Sunday.\nHere is a link to our Youtube page to join us via Livestream https://www.youtube.com/user/CurtisChurchTV
URL:https://curtisbc.org/event/sunday-service-4/2024-02-11/
ATTACH;FMTTYPE=image/png:https://curtisbc.org/wp-content/uploads/2021/11/1440-×-810-px.png
END:VEVENT
BEGIN:VEVENT
DTSTART;TZID=America/Halifax:20240211T093000
DTEND;TZID=America/Halifax:20240211T123000
DTSTAMP:20260421T020841
CREATED:20240124T125656Z
LAST-MODIFIED:20240124T125656Z
UID:10000487-1707643800-1707654600@curtisbc.org
SUMMARY:Deaf Worship & Luncheon
DESCRIPTION:Make plans to join us in the Fireside Room\, February 11th at 9:30 AM for Deaf Worship followed by a covered dish lunch.
URL:https://curtisbc.org/event/deaf-worship-luncheon/
ATTACH;FMTTYPE=image/png:https://curtisbc.org/wp-content/uploads/2020/12/deaf-ministry-logo.png
END:VEVENT
BEGIN:VEVENT
DTSTART;TZID=America/Halifax:20240211T090000
DTEND;TZID=America/Halifax:20240211T140000
DTSTAMP:20260421T020841
CREATED:20240208T140646Z
LAST-MODIFIED:20240208T140646Z
UID:10000811-1707642000-1707660000@curtisbc.org
SUMMARY:Missions' Weekend Sunday
DESCRIPTION:First of all\, thank you to those who served alongside SEND RELIEF SERVE TOUR throughout the CSRA this weekend! Missions Weekend will continue on Sunday with the schedule listed above. Come hear testimony from the Delands at 9 AM in the sanctuary\, followed by our 10:15 AM time of worship\, and our Missions Luncheon/Interest Meetings after the service.
URL:https://curtisbc.org/event/missions-weekend-sunday/
ATTACH;FMTTYPE=image/png:https://curtisbc.org/wp-content/uploads/2024/02/unnamed-2024-02-08T090222.957.png
END:VEVENT
BEGIN:VEVENT
DTSTART;TZID=America/Halifax:20240209T080000
DTEND;TZID=America/Halifax:20240211T170000
DTSTAMP:20260421T020841
CREATED:20240119T144636Z
LAST-MODIFIED:20240119T144636Z
UID:10000810-1707465600-1707670800@curtisbc.org
SUMMARY:Missions Weekend
DESCRIPTION:The Curtis Missions Weekend will be February 9-11. On Thursday and Friday of that week\, we will be teaming up with SEND RELIEF SERVE TOUR to serve in our city of Augusta. If you are interested in serving on a team in our community\, please sign up in the Ministry Center. Also\, we will focus on Missions during our Life Group time on Sunday\, February 11 with guest missionaries – the DeLand Family (see the schedule below). Following the worship service\, we will have a Missions Luncheon in the Gym. Tickets will be available starting Sunday\, January 28th. For more information about any of these events\, contact Pastor Tom Lowry at tlowry@curtisbaptist.org
URL:https://curtisbc.org/event/missions-weekend/
ATTACH;FMTTYPE=image/png:https://curtisbc.org/wp-content/uploads/2024/01/unnamed-88.png
END:VEVENT
BEGIN:VEVENT
DTSTART;TZID=America/Halifax:20240207T173000
DTEND;TZID=America/Halifax:20240207T200000
DTSTAMP:20260421T020841
CREATED:20231130T213356Z
LAST-MODIFIED:20231130T213356Z
UID:10000701-1707327000-1707336000@curtisbc.org
SUMMARY:Wednesday Bible Studies
DESCRIPTION:Join us for our Wednesday Bible studies. There’s something here for everyone!\n\n\nCurtis Kids: The Ark (Birth-4yr) & Nexkid Investigators (k4-5th)\n\n\nCurtis Student Ministry: 5:30 PM – 7:00 PM\n\n\nMen’s Bible Study: 6:00PM – 7:00 PM\n\n\nWomen’s Bible Study: 6:00 PM – 7:00 PM\n\n\nAdult Choir Practice: 7:00 PM – 8:00 PM
URL:https://curtisbc.org/event/wednesday-bible-studies-3/2024-02-07/
ATTACH;FMTTYPE=image/png:https://curtisbc.org/wp-content/uploads/2020/12/LifeGroups-Restart.png
END:VEVENT
BEGIN:VEVENT
DTSTART;TZID=America/Halifax:20240204T101500
DTEND;TZID=America/Halifax:20240204T113000
DTSTAMP:20260421T020841
CREATED:20231130T213822Z
LAST-MODIFIED:20231130T213822Z
UID:10000750-1707041700-1707046200@curtisbc.org
SUMMARY:Sunday Service
DESCRIPTION:Join us every Sunday for Worship at 10:15AM. You can come in person or watch on our livestream!\nChild care is provided every Sunday.\nHere is a link to our Youtube page to join us via Livestream https://www.youtube.com/user/CurtisChurchTV
URL:https://curtisbc.org/event/sunday-service-4/2024-02-04/
ATTACH;FMTTYPE=image/png:https://curtisbc.org/wp-content/uploads/2021/11/1440-×-810-px.png
END:VEVENT
BEGIN:VEVENT
DTSTART;TZID=America/Halifax:20240131T173000
DTEND;TZID=America/Halifax:20240131T200000
DTSTAMP:20260421T020841
CREATED:20231130T213356Z
LAST-MODIFIED:20231130T213356Z
UID:10000700-1706722200-1706731200@curtisbc.org
SUMMARY:Wednesday Bible Studies
DESCRIPTION:Join us for our Wednesday Bible studies. There’s something here for everyone!\n\n\nCurtis Kids: The Ark (Birth-4yr) & Nexkid Investigators (k4-5th)\n\n\nCurtis Student Ministry: 5:30 PM – 7:00 PM\n\n\nMen’s Bible Study: 6:00PM – 7:00 PM\n\n\nWomen’s Bible Study: 6:00 PM – 7:00 PM\n\n\nAdult Choir Practice: 7:00 PM – 8:00 PM
URL:https://curtisbc.org/event/wednesday-bible-studies-3/2024-01-31/
ATTACH;FMTTYPE=image/png:https://curtisbc.org/wp-content/uploads/2020/12/LifeGroups-Restart.png
END:VEVENT
BEGIN:VEVENT
DTSTART;TZID=America/Halifax:20240128T101500
DTEND;TZID=America/Halifax:20240128T113000
DTSTAMP:20260421T020841
CREATED:20231130T213822Z
LAST-MODIFIED:20231130T213822Z
UID:10000749-1706436900-1706441400@curtisbc.org
SUMMARY:Sunday Service
DESCRIPTION:Join us every Sunday for Worship at 10:15AM. You can come in person or watch on our livestream!\nChild care is provided every Sunday.\nHere is a link to our Youtube page to join us via Livestream https://www.youtube.com/user/CurtisChurchTV
URL:https://curtisbc.org/event/sunday-service-4/2024-01-28/
ATTACH;FMTTYPE=image/png:https://curtisbc.org/wp-content/uploads/2021/11/1440-×-810-px.png
END:VEVENT
BEGIN:VEVENT
DTSTART;TZID=America/Halifax:20240124T173000
DTEND;TZID=America/Halifax:20240124T200000
DTSTAMP:20260421T020841
CREATED:20231130T213356Z
LAST-MODIFIED:20231130T213356Z
UID:10000699-1706117400-1706126400@curtisbc.org
SUMMARY:Wednesday Bible Studies
DESCRIPTION:Join us for our Wednesday Bible studies. There’s something here for everyone!\n\n\nCurtis Kids: The Ark (Birth-4yr) & Nexkid Investigators (k4-5th)\n\n\nCurtis Student Ministry: 5:30 PM – 7:00 PM\n\n\nMen’s Bible Study: 6:00PM – 7:00 PM\n\n\nWomen’s Bible Study: 6:00 PM – 7:00 PM\n\n\nAdult Choir Practice: 7:00 PM – 8:00 PM
URL:https://curtisbc.org/event/wednesday-bible-studies-3/2024-01-24/
ATTACH;FMTTYPE=image/png:https://curtisbc.org/wp-content/uploads/2020/12/LifeGroups-Restart.png
END:VEVENT
BEGIN:VEVENT
DTSTART;TZID=America/Halifax:20240121T140000
DTEND;TZID=America/Halifax:20240121T160000
DTSTAMP:20260421T020841
CREATED:20240119T144114Z
LAST-MODIFIED:20240119T144229Z
UID:10000809-1705845600-1705852800@curtisbc.org
SUMMARY:Guys Basketball
DESCRIPTION:Inviting all guys 16 and older to come play some basketball at Cheeks Gym this upcoming Sunday at 2 PM. See Nic Hoffmann on Sunday for more information.
URL:https://curtisbc.org/event/guys-basketball-2/
ATTACH;FMTTYPE=image/png:https://curtisbc.org/wp-content/uploads/2024/01/unnamed-84.png
END:VEVENT
BEGIN:VEVENT
DTSTART;TZID=America/Halifax:20240121T113000
DTEND;TZID=America/Halifax:20240121T130000
DTSTAMP:20260421T020841
CREATED:20240104T175716Z
LAST-MODIFIED:20240104T180356Z
UID:10000807-1705836600-1705842000@curtisbc.org
SUMMARY:Curtis Kids Team Lunch and Training
DESCRIPTION:Pastor Ben will be having a Curtis Kids Team Training following the service on January 21st. Lunch will be provided\, so please use this link to sign up: CURTIS KIDS TRAINING & LUNCH. The meeting will be held in B105. For questions about this training\, see Pastor Ben.
URL:https://curtisbc.org/event/team-lunch-and-training/
ATTACH;FMTTYPE=image/png:https://curtisbc.org/wp-content/uploads/2024/01/unnamed-56.png
END:VEVENT
BEGIN:VEVENT
DTSTART;TZID=America/Halifax:20240121T101500
DTEND;TZID=America/Halifax:20240121T113000
DTSTAMP:20260421T020841
CREATED:20231130T213822Z
LAST-MODIFIED:20231130T213822Z
UID:10000748-1705832100-1705836600@curtisbc.org
SUMMARY:Sunday Service
DESCRIPTION:Join us every Sunday for Worship at 10:15AM. You can come in person or watch on our livestream!\nChild care is provided every Sunday.\nHere is a link to our Youtube page to join us via Livestream https://www.youtube.com/user/CurtisChurchTV
URL:https://curtisbc.org/event/sunday-service-4/2024-01-21/
ATTACH;FMTTYPE=image/png:https://curtisbc.org/wp-content/uploads/2021/11/1440-×-810-px.png
END:VEVENT
BEGIN:VEVENT
DTSTART;TZID=America/Halifax:20240118T183000
DTEND;TZID=America/Halifax:20240118T213000
DTSTAMP:20260421T020841
CREATED:20240111T194849Z
LAST-MODIFIED:20240111T195021Z
UID:10000808-1705602600-1705613400@curtisbc.org
SUMMARY:Third Thursday Single's Gathering
DESCRIPTION:Marie Wilson will host the monthly Third Thursday Single’s Gathering at her house on January 18th at 6:30 PM. Make plans to attend this fun fellowship\, but be sure to RSVP by January 16th.
URL:https://curtisbc.org/event/third-thursday-singles-gathering-5/
ATTACH;FMTTYPE=image/png:https://curtisbc.org/wp-content/uploads/2024/01/unnamed-66.png
END:VEVENT
BEGIN:VEVENT
DTSTART;TZID=America/Halifax:20240117T173000
DTEND;TZID=America/Halifax:20240117T200000
DTSTAMP:20260421T020841
CREATED:20231130T213356Z
LAST-MODIFIED:20231130T213356Z
UID:10000698-1705512600-1705521600@curtisbc.org
SUMMARY:Wednesday Bible Studies
DESCRIPTION:Join us for our Wednesday Bible studies. There’s something here for everyone!\n\n\nCurtis Kids: The Ark (Birth-4yr) & Nexkid Investigators (k4-5th)\n\n\nCurtis Student Ministry: 5:30 PM – 7:00 PM\n\n\nMen’s Bible Study: 6:00PM – 7:00 PM\n\n\nWomen’s Bible Study: 6:00 PM – 7:00 PM\n\n\nAdult Choir Practice: 7:00 PM – 8:00 PM
URL:https://curtisbc.org/event/wednesday-bible-studies-3/2024-01-17/
ATTACH;FMTTYPE=image/png:https://curtisbc.org/wp-content/uploads/2020/12/LifeGroups-Restart.png
END:VEVENT
BEGIN:VEVENT
DTSTART;TZID=America/Halifax:20240114T101500
DTEND;TZID=America/Halifax:20240114T113000
DTSTAMP:20260421T020841
CREATED:20231130T213822Z
LAST-MODIFIED:20231130T213822Z
UID:10000747-1705227300-1705231800@curtisbc.org
SUMMARY:Sunday Service
DESCRIPTION:Join us every Sunday for Worship at 10:15AM. You can come in person or watch on our livestream!\nChild care is provided every Sunday.\nHere is a link to our Youtube page to join us via Livestream https://www.youtube.com/user/CurtisChurchTV
URL:https://curtisbc.org/event/sunday-service-4/2024-01-14/
ATTACH;FMTTYPE=image/png:https://curtisbc.org/wp-content/uploads/2021/11/1440-×-810-px.png
END:VEVENT
BEGIN:VEVENT
DTSTART;TZID=America/Halifax:20240112T080000
DTEND;TZID=America/Halifax:20240115T170000
DTSTAMP:20260421T020841
CREATED:20231026T210929Z
LAST-MODIFIED:20231026T211033Z
UID:10000691-1705046400-1705338000@curtisbc.org
SUMMARY:CYP Ski Retreat
DESCRIPTION:We’re so excited to announce our CYP Ski Retreat at Appalachian Ski Mountain over MLK Weekend\, January 12-15! The cost will be $270-310 depending on how many we get signed up. Reserve your spot for $150 today by clicking this link and the remaining balance will be due Jan. 5. For questions\, email Pastor James at jchoi@curtisbaptist.org.
URL:https://curtisbc.org/event/12538/
ATTACH;FMTTYPE=image/png:https://curtisbc.org/wp-content/uploads/2023/10/unnamed-2023-10-26T170632.284.png
END:VEVENT
BEGIN:VEVENT
DTSTART;TZID=America/Halifax:20240111T183000
DTEND;TZID=America/Halifax:20240111T213000
DTSTAMP:20260421T020841
CREATED:20231222T004809Z
LAST-MODIFIED:20231222T005242Z
UID:10000805-1704997800-1705008600@curtisbc.org
SUMMARY:Ladies' Night Out
DESCRIPTION:Our next Ladies’ Night Out is Thursday\, January 11th at 6:30 PM. We will meet at the Village Deli for dinner and then have dessert at Susie Towner’s house. Please let Terese know you will be coming by the 10th. Hope to see you there!
URL:https://curtisbc.org/event/ladies-night-out-26/
ATTACH;FMTTYPE=image/png:https://curtisbc.org/wp-content/uploads/2023/12/LNO-Jan-2024.png
END:VEVENT
BEGIN:VEVENT
DTSTART;TZID=America/Halifax:20240110T180000
DTEND;TZID=America/Halifax:20240110T190000
DTSTAMP:20260421T020841
CREATED:20231222T010917Z
LAST-MODIFIED:20231222T011439Z
UID:10000806-1704909600-1704913200@curtisbc.org
SUMMARY:New Women's Bible Study
DESCRIPTION:Our Women’s Bible Study meets on Wednesday at 6 PM on campus in Café 180\, right side. We will begin a new study from the book The Sermon on the Mount on January 10th. Books can be purchased in class for $5 while supplies last or online beginning January 1st at this link: https://curtisbc.ccbchurch.com/goto/forms/279/responses/new
URL:https://curtisbc.org/event/new-womens-bible-study/
ATTACH;FMTTYPE=image/png:https://curtisbc.org/wp-content/uploads/2023/12/Sermon-on-the-Mount-Slide-1440-x-810-px.png
END:VEVENT
BEGIN:VEVENT
DTSTART;TZID=America/Halifax:20240110T173000
DTEND;TZID=America/Halifax:20240110T190000
DTSTAMP:20260421T020841
CREATED:20220112T171023Z
LAST-MODIFIED:20240111T201552Z
UID:10000550-1704907800-1704913200@curtisbc.org
SUMMARY:Wednesday Bible Studies
DESCRIPTION:Join us for our Wednesday Bible studies. There’s something here for everyone!\n\n\nCurtis Kids: The Ark (Birth-4yr) & Nexkid Investigators (k4-5th)\n\n\nCurtis Student Ministry: 5:30 PM – 7:00 PM\n\n\nMen’s Bible Study: 6:00PM – 7:00 PM\n\n\nWomen’s Bible Study: 6:00 PM – 7:00 PM\n\n\nAdult Choir Practice: 7:00 PM – 8:00 PM
URL:https://curtisbc.org/event/wednesday-bible-studies-2024-03-27/
ATTACH;FMTTYPE=image/png:https://curtisbc.org/wp-content/uploads/2020/12/LifeGroups-Restart.png
END:VEVENT
BEGIN:VEVENT
DTSTART;TZID=America/Halifax:20240107T101500
DTEND;TZID=America/Halifax:20240107T113000
DTSTAMP:20260421T020841
CREATED:20211123T161724Z
LAST-MODIFIED:20240111T201023Z
UID:10000483-1704622500-1704627000@curtisbc.org
SUMMARY:Sunday Service
DESCRIPTION:Join us every Sunday for Worship at 10:15AM. You can come in person or watch on our livestream!\nChild care is provided every Sunday.\nHere is a link to our Youtube page to join us via Livestream https://www.youtube.com/user/CurtisChurchTV
URL:https://curtisbc.org/event/sunday-service-2-2022-01-02-2023-02-12-2023-04-09-2024-01-07/
ATTACH;FMTTYPE=image/png:https://curtisbc.org/wp-content/uploads/2021/11/1440-×-810-px.png
END:VEVENT
BEGIN:VEVENT
DTSTART;TZID=America/Halifax:20240107T090000
DTEND;TZID=America/Halifax:20240107T100000
DTSTAMP:20260421T020841
CREATED:20231214T173800Z
LAST-MODIFIED:20231214T173800Z
UID:10000803-1704618000-1704621600@curtisbc.org
SUMMARY:Disciple Making Class For Moms
DESCRIPTION:Beginning on January 7th at 9 AM (Room TBA)\, we will have a Disciple-Making Parent Book Study for Moms. If you are interested in this study\, please use this link to sign up: Disciple Making Class For Moms. See Pastor Ben to get a book ahead of time ($13) to begin reading or you can access the audiobook for free at this link: Free Audiobook.
URL:https://curtisbc.org/event/disciple-making-class-for-moms/
ATTACH;FMTTYPE=image/jpeg:https://curtisbc.org/wp-content/uploads/2023/12/unnamed-10.jpg
END:VEVENT
BEGIN:VEVENT
DTSTART;TZID=America/Halifax:20231231T101500
DTEND;TZID=America/Halifax:20231231T113000
DTSTAMP:20260421T020841
CREATED:20211123T161724Z
LAST-MODIFIED:20240111T200037Z
UID:10000011-1704017700-1704022200@curtisbc.org
SUMMARY:Sunday Service
DESCRIPTION:Join us every Sunday for Worship at 10:15AM. You can come in person or watch on our livestream!\nChild care is provided every Sunday.\nHere is a link to our Youtube page to join us via Livestream https://www.youtube.com/user/CurtisChurchTV
URL:https://curtisbc.org/event/sunday-service-2-2022-01-02-2023-02-12-2023-04-09/
ATTACH;FMTTYPE=image/png:https://curtisbc.org/wp-content/uploads/2021/11/1440-×-810-px.png
END:VEVENT
BEGIN:VEVENT
DTSTART;TZID=America/Halifax:20231224T101500
DTEND;TZID=America/Halifax:20231224T113000
DTSTAMP:20260421T020841
CREATED:20211123T161724Z
LAST-MODIFIED:20231127T180317Z
UID:10000009-1703412900-1703417400@curtisbc.org
SUMMARY:Christ-Filled Christmas Sunday Service
DESCRIPTION:Today we will be observing the Lord’s Supper as we celebrate His birth.\nJoin us every Sunday for Worship at 10:15AM. You can come in person or watch on our livestream!\nChild care is provided every Sunday.\nHere is a link to our Youtube page to join us via Livestream https://www.youtube.com/user/CurtisChurchTV
URL:https://curtisbc.org/event/sunday-service-2-2022-01-02-2023-02-12-2023-04-09-2023-12-24/
ATTACH;FMTTYPE=image/jpeg:https://curtisbc.org/wp-content/uploads/2021/11/Christ-Filled-Christmas-Title-Slide.jpg
END:VEVENT
BEGIN:VEVENT
DTSTART;TZID=America/Halifax:20231221T183000
DTEND;TZID=America/Halifax:20231221T213000
DTSTAMP:20260421T020841
CREATED:20231130T221013Z
LAST-MODIFIED:20231214T173136Z
UID:10000800-1703183400-1703194200@curtisbc.org
SUMMARY:3rd Thursday Single's Gathering
DESCRIPTION:Come join us at our monthly 3rd Thursday Single’s Gathering on December 21st at 6:30 pm for a great time of fellowship! Please let Marie Wilson know you are coming by the 19th.
URL:https://curtisbc.org/event/3rd-thursday-singles-gathering-17/
ATTACH;FMTTYPE=image/png:https://curtisbc.org/wp-content/uploads/2023/11/unnamed-2023-12-14T122801.763.png
END:VEVENT
BEGIN:VEVENT
DTSTART;TZID=America/Halifax:20231220T173000
DTEND;TZID=America/Halifax:20231220T200000
DTSTAMP:20260421T020841
CREATED:20231130T205901Z
LAST-MODIFIED:20231130T210644Z
UID:10000482-1703093400-1703102400@curtisbc.org
SUMMARY:Wednesday Bible Studies
DESCRIPTION:Join us for our Wednesday Bible studies. There’s something here for everyone!\n\n\nCurtis Kids: The Ark (Birth-4yr) & Nexkid Investigators (k4-5th)\n\n\nCurtis Student Ministry: 5:30 PM – 7:00 PM\n\n\nMen’s Bible Study: 6:00PM – 7:00 PM\n\n\nWomen’s Bible Study: 6:00 PM – 7:00 PM\n\n\nAdult Choir Practice: 7:00 PM – 8:00 PM
URL:https://curtisbc.org/event/wednesday-bible-studies-2/
ATTACH;FMTTYPE=image/png:https://curtisbc.org/wp-content/uploads/2020/12/LifeGroups-Restart.png
END:VEVENT
BEGIN:VEVENT
DTSTART;TZID=America/Halifax:20231217T140000
DTEND;TZID=America/Halifax:20231217T160000
DTSTAMP:20260421T020841
CREATED:20231130T220330Z
LAST-MODIFIED:20231214T172629Z
UID:10000799-1702821600-1702828800@curtisbc.org
SUMMARY:Men's Basketball
DESCRIPTION:All guys 16 and up are invited to come shoot hoops at Cheeks Gym on Sunday\, December 17th from 2-4 PM.
URL:https://curtisbc.org/event/mens-basketball-7/
ATTACH;FMTTYPE=image/png:https://curtisbc.org/wp-content/uploads/2023/11/unnamed-2023-12-14T121842.831.png
END:VEVENT
END:VCALENDAR