BEGIN:VCALENDAR
VERSION:2.0
PRODID:-//Curtis Baptist Church - ECPv6.15.20//NONSGML v1.0//EN
CALSCALE:GREGORIAN
METHOD:PUBLISH
X-WR-CALNAME:Curtis Baptist Church
X-ORIGINAL-URL:https://curtisbc.org
X-WR-CALDESC:Events for Curtis Baptist Church
REFRESH-INTERVAL;VALUE=DURATION:PT1H
X-Robots-Tag:noindex
X-PUBLISHED-TTL:PT1H
BEGIN:VTIMEZONE
TZID:America/Halifax
BEGIN:DAYLIGHT
TZOFFSETFROM:-0400
TZOFFSETTO:-0300
TZNAME:ADT
DTSTART:20220313T060000
END:DAYLIGHT
BEGIN:STANDARD
TZOFFSETFROM:-0300
TZOFFSETTO:-0400
TZNAME:AST
DTSTART:20221106T050000
END:STANDARD
BEGIN:DAYLIGHT
TZOFFSETFROM:-0400
TZOFFSETTO:-0300
TZNAME:ADT
DTSTART:20230312T060000
END:DAYLIGHT
BEGIN:STANDARD
TZOFFSETFROM:-0300
TZOFFSETTO:-0400
TZNAME:AST
DTSTART:20231105T050000
END:STANDARD
BEGIN:DAYLIGHT
TZOFFSETFROM:-0400
TZOFFSETTO:-0300
TZNAME:ADT
DTSTART:20240310T060000
END:DAYLIGHT
BEGIN:STANDARD
TZOFFSETFROM:-0300
TZOFFSETTO:-0400
TZNAME:AST
DTSTART:20241103T050000
END:STANDARD
END:VTIMEZONE
BEGIN:VEVENT
DTSTART;TZID=America/Halifax:20230628T173000
DTEND;TZID=America/Halifax:20230628T200000
DTSTAMP:20260423T053557
CREATED:20220112T171023Z
LAST-MODIFIED:20230427T190207Z
UID:10000524-1687973400-1687982400@curtisbc.org
SUMMARY:Wednesday Bible Studies
DESCRIPTION:Join us for our Wednesday Bible studies. There’s something here for everyone!\n\n\nCurtis Kids: The Ark (Birth-4yr) & Nexkid Investigators (k4-5th)\n\n\nCurtis Student Ministry: 5:30 PM – 7:00 PM\n\n\nMen’s Bible Study: 6:00PM – 7:00 PM\n\n\nWomen’s Bible Study: 6:00 PM – 7:00 PM\n\n\nAdult Choir Practice: 7:00 PM – 8:00 PM
URL:https://curtisbc.org/event/wednesday-bible-studies-2023-04-12/2023-06-28/
ATTACH;FMTTYPE=image/png:https://curtisbc.org/wp-content/uploads/2020/12/LifeGroups-Restart.png
END:VEVENT
BEGIN:VEVENT
DTSTART;TZID=America/Halifax:20230625T140000
DTEND;TZID=America/Halifax:20230625T160000
DTSTAMP:20260423T053557
CREATED:20230614T161612Z
LAST-MODIFIED:20230614T161730Z
UID:10000436-1687701600-1687708800@curtisbc.org
SUMMARY:Guys Basketball
DESCRIPTION:Since Father’s Day falls on the third Sunday\, the guys basketball has been moved to June 25th. Invite a friend and come shoot around at Cheeks from 2-4 PM. For questions\, contact Pastor James at jchoi@curtisbaptist.org.
URL:https://curtisbc.org/event/mens-basketball-2/
ATTACH;FMTTYPE=image/png:https://curtisbc.org/wp-content/uploads/2023/06/June-College-Basketball.png
END:VEVENT
BEGIN:VEVENT
DTSTART;TZID=America/Halifax:20230621T173000
DTEND;TZID=America/Halifax:20230621T200000
DTSTAMP:20260423T053557
CREATED:20220112T171023Z
LAST-MODIFIED:20230427T190207Z
UID:10000523-1687368600-1687377600@curtisbc.org
SUMMARY:Wednesday Bible Studies
DESCRIPTION:Join us for our Wednesday Bible studies. There’s something here for everyone!\n\n\nCurtis Kids: The Ark (Birth-4yr) & Nexkid Investigators (k4-5th)\n\n\nCurtis Student Ministry: 5:30 PM – 7:00 PM\n\n\nMen’s Bible Study: 6:00PM – 7:00 PM\n\n\nWomen’s Bible Study: 6:00 PM – 7:00 PM\n\n\nAdult Choir Practice: 7:00 PM – 8:00 PM
URL:https://curtisbc.org/event/wednesday-bible-studies-2023-04-12/2023-06-21/
ATTACH;FMTTYPE=image/png:https://curtisbc.org/wp-content/uploads/2020/12/LifeGroups-Restart.png
END:VEVENT
BEGIN:VEVENT
DTSTART;TZID=America/Halifax:20230617T083000
DTEND;TZID=America/Halifax:20230617T123000
DTSTAMP:20260423T053557
CREATED:20230601T190441Z
LAST-MODIFIED:20230601T204914Z
UID:10000431-1686990600-1687005000@curtisbc.org
SUMMARY:Car Care at Tommy's Garage
DESCRIPTION:Our next Car Care day will by June 17th at 8:30 AM. Remember to make your appointment. More details coming soon or in the Ministry Center.
URL:https://curtisbc.org/event/car-care-at-tommys-garage/
ATTACH;FMTTYPE=image/png:https://curtisbc.org/wp-content/uploads/2023/06/June-17-Car-Care.png
END:VEVENT
BEGIN:VEVENT
DTSTART;TZID=America/Halifax:20230615T183000
DTEND;TZID=America/Halifax:20230615T213000
DTSTAMP:20260423T053557
CREATED:20230601T183952Z
LAST-MODIFIED:20230601T184058Z
UID:10000430-1686853800-1686864600@curtisbc.org
SUMMARY:Third Thursday Single's Gathering
DESCRIPTION:Join us for our next Third Thursday Single’s Gathering at Marie Wilson’s house\, Thursday\, June 15th at 6:30 PM. Please let Marie know you are coming by June 13th.
URL:https://curtisbc.org/event/third-thursday-singles-gathering/
ATTACH;FMTTYPE=image/png:https://curtisbc.org/wp-content/uploads/2023/01/Singles-Gathering-No-Date.png
END:VEVENT
BEGIN:VEVENT
DTSTART;TZID=America/Halifax:20230615T183000
DTEND;TZID=America/Halifax:20230615T213000
DTSTAMP:20260423T053557
CREATED:20230601T183503Z
LAST-MODIFIED:20230601T183503Z
UID:10000429-1686853800-1686864600@curtisbc.org
SUMMARY:CYP Hangout
DESCRIPTION:Join us on June 15th for our next CYP Hangout. This will be held off-campus. Contact Pastor James if you have any questions at: jchoi@curtisbaptist.org.
URL:https://curtisbc.org/event/cyp-hangout-17/
ATTACH;FMTTYPE=image/png:https://curtisbc.org/wp-content/uploads/2022/02/CYP-Hangout-James-Choi.png
END:VEVENT
BEGIN:VEVENT
DTSTART;TZID=America/Halifax:20230614T173000
DTEND;TZID=America/Halifax:20230614T200000
DTSTAMP:20260423T053557
CREATED:20220112T171023Z
LAST-MODIFIED:20230427T190207Z
UID:10000522-1686763800-1686772800@curtisbc.org
SUMMARY:Wednesday Bible Studies
DESCRIPTION:Join us for our Wednesday Bible studies. There’s something here for everyone!\n\n\nCurtis Kids: The Ark (Birth-4yr) & Nexkid Investigators (k4-5th)\n\n\nCurtis Student Ministry: 5:30 PM – 7:00 PM\n\n\nMen’s Bible Study: 6:00PM – 7:00 PM\n\n\nWomen’s Bible Study: 6:00 PM – 7:00 PM\n\n\nAdult Choir Practice: 7:00 PM – 8:00 PM
URL:https://curtisbc.org/event/wednesday-bible-studies-2023-04-12/2023-06-14/
ATTACH;FMTTYPE=image/png:https://curtisbc.org/wp-content/uploads/2020/12/LifeGroups-Restart.png
END:VEVENT
BEGIN:VEVENT
DTSTART;TZID=America/Halifax:20230613T110000
DTEND;TZID=America/Halifax:20230613T130000
DTSTAMP:20260423T053557
CREATED:20230601T182320Z
LAST-MODIFIED:20230601T182510Z
UID:10000660-1686654000-1686661200@curtisbc.org
SUMMARY:Happy 39'ers Lunch & Meeting
DESCRIPTION:The Happy 39’ers (senior adults) will have their next meeting/lunch on June 13th at 11 AM in the choir room. If you are planning to attend\, please RSVP by June 6th. Great food\, fellowship and Mr. Jim Staulcup will be our speaker this month!
URL:https://curtisbc.org/event/happy-39ers-meeting-lunch-2/
ATTACH;FMTTYPE=image/png:https://curtisbc.org/wp-content/uploads/2023/06/unnamed-82.png
END:VEVENT
BEGIN:VEVENT
DTSTART;TZID=America/Halifax:20230611T093000
DTEND;TZID=America/Halifax:20230611T123000
DTSTAMP:20260423T053557
CREATED:20230601T182857Z
LAST-MODIFIED:20230601T210738Z
UID:10000661-1686475800-1686486600@curtisbc.org
SUMMARY:Deaf Worship & Lunch
DESCRIPTION:Join us for Worship and then stay for a covered dish lunch in the Fireside Room on June 11th at 9:00 AM.
URL:https://curtisbc.org/event/deaf-worship-lunch-12/
ATTACH;FMTTYPE=image/png:https://curtisbc.org/wp-content/uploads/2020/12/deaf-ministry-logo.png
END:VEVENT
BEGIN:VEVENT
DTSTART;TZID=America/Halifax:20230608T183000
DTEND;TZID=America/Halifax:20230608T213000
DTSTAMP:20260423T053557
CREATED:20230530T200433Z
LAST-MODIFIED:20230530T200433Z
UID:10000658-1686249000-1686259800@curtisbc.org
SUMMARY:Ladies' Night Out
DESCRIPTION:The next Ladies’ Night Out is going to be on June 8th at The SolFood Kitchen in Surrey Center with dessert to follow at Susy Towner’s house. Please let Terese Denney know you are coming by June 7th – tdenney@curtisbaptist.org.
URL:https://curtisbc.org/event/ladies-night-out-19/
ATTACH;FMTTYPE=image/png:https://curtisbc.org/wp-content/uploads/2023/05/unnamed-79.png
END:VEVENT
BEGIN:VEVENT
DTSTART;TZID=America/Halifax:20230607T180000
DTEND;TZID=America/Halifax:20230607T190000
DTSTAMP:20260423T053557
CREATED:20230601T205744Z
LAST-MODIFIED:20230601T205909Z
UID:10000434-1686160800-1686164400@curtisbc.org
SUMMARY:Women's Summer Bible Study
DESCRIPTION:New women’s summer Bible study begins June 7th. We will using the book One Thousand Gifts by Ann Voskamp. Classes will be June 7\,14\,21\,28\, no class July 5th and finishing on July 12th.
URL:https://curtisbc.org/event/summer-womens-bible-study/
ATTACH;FMTTYPE=image/png:https://curtisbc.org/wp-content/uploads/2023/06/Copy-of-One-thousand-Gifts-Summer-Bible-Study-2023-11-×-8.5-in-1440-×-810-px.png
END:VEVENT
BEGIN:VEVENT
DTSTART;TZID=America/Halifax:20230607T173000
DTEND;TZID=America/Halifax:20230607T200000
DTSTAMP:20260423T053557
CREATED:20220112T171023Z
LAST-MODIFIED:20230427T190207Z
UID:10000521-1686159000-1686168000@curtisbc.org
SUMMARY:Wednesday Bible Studies
DESCRIPTION:Join us for our Wednesday Bible studies. There’s something here for everyone!\n\n\nCurtis Kids: The Ark (Birth-4yr) & Nexkid Investigators (k4-5th)\n\n\nCurtis Student Ministry: 5:30 PM – 7:00 PM\n\n\nMen’s Bible Study: 6:00PM – 7:00 PM\n\n\nWomen’s Bible Study: 6:00 PM – 7:00 PM\n\n\nAdult Choir Practice: 7:00 PM – 8:00 PM
URL:https://curtisbc.org/event/wednesday-bible-studies-2023-04-12/2023-06-07/
ATTACH;FMTTYPE=image/png:https://curtisbc.org/wp-content/uploads/2020/12/LifeGroups-Restart.png
END:VEVENT
BEGIN:VEVENT
DTSTART;TZID=America/Halifax:20230531T173000
DTEND;TZID=America/Halifax:20230531T190000
DTSTAMP:20260423T053557
CREATED:20220112T171023Z
LAST-MODIFIED:20230427T185746Z
UID:10000549-1685554200-1685559600@curtisbc.org
SUMMARY:Wednesday Bible Studies
DESCRIPTION:Join us for our Wednesday Bible studies. There’s something here for everyone!\n\n\nCurtis Kids: The Ark (Birth-4yr) & Nexkid Investigators (k4-5th)\n\n\nCurtis Student Ministry: 5:30 PM – 7:00 PM\n\n\nMen’s Bible Study: 6:00PM – 7:00 PM\n\n\nNO Women’s Bible Study: 6:00 PM – 7:00 PM\n\n\nNO Adult Choir Practice
URL:https://curtisbc.org/event/wednesday-bible-studies-2023-05-31/
ATTACH;FMTTYPE=image/png:https://curtisbc.org/wp-content/uploads/2020/12/LifeGroups-Restart.png
END:VEVENT
BEGIN:VEVENT
DTSTART;TZID=America/Halifax:20230524T173000
DTEND;TZID=America/Halifax:20230524T200000
DTSTAMP:20260423T053557
CREATED:20220112T171023Z
LAST-MODIFIED:20230427T190207Z
UID:10000520-1684949400-1684958400@curtisbc.org
SUMMARY:Wednesday Bible Studies
DESCRIPTION:Join us for our Wednesday Bible studies. There’s something here for everyone!\n\n\nCurtis Kids: The Ark (Birth-4yr) & Nexkid Investigators (k4-5th)\n\n\nCurtis Student Ministry: 5:30 PM – 7:00 PM\n\n\nMen’s Bible Study: 6:00PM – 7:00 PM\n\n\nWomen’s Bible Study: 6:00 PM – 7:00 PM\n\n\nAdult Choir Practice: 7:00 PM – 8:00 PM
URL:https://curtisbc.org/event/wednesday-bible-studies-2023-04-12/2023-05-24/
ATTACH;FMTTYPE=image/png:https://curtisbc.org/wp-content/uploads/2020/12/LifeGroups-Restart.png
END:VEVENT
BEGIN:VEVENT
DTSTART;TZID=America/Halifax:20230521T093000
DTEND;TZID=America/Halifax:20230521T233000
DTSTAMP:20260423T053557
CREATED:20230419T172820Z
LAST-MODIFIED:20230419T172820Z
UID:10000654-1684661400-1684711800@curtisbc.org
SUMMARY:Deaf Worship & Lunch
DESCRIPTION:May 21st at 9:30 am\, Worship & Lunch: Meet in the Fireside Room for Worship then join us for our covered dish lunch.
URL:https://curtisbc.org/event/deaf-worship-lunch-11/
ATTACH;FMTTYPE=image/png:https://curtisbc.org/wp-content/uploads/2020/12/deaf-ministry-logo.png
END:VEVENT
BEGIN:VEVENT
DTSTART;TZID=America/Halifax:20230518T183000
DTEND;TZID=America/Halifax:20230518T210000
DTSTAMP:20260423T053557
CREATED:20230427T184628Z
LAST-MODIFIED:20230427T184628Z
UID:10000657-1684434600-1684443600@curtisbc.org
SUMMARY:CYP Hangout
DESCRIPTION:Inviting all college students and young pros to join us for our next CYP Hangout\, May 18th at 6:30 PM. It will be held off campus. Contact James Choi for more information at jchoi@curtisbaptist.org.
URL:https://curtisbc.org/event/cyp-hangout-16/
ATTACH;FMTTYPE=image/png:https://curtisbc.org/wp-content/uploads/2022/02/CYP-Hangout-James-Choi.png
END:VEVENT
BEGIN:VEVENT
DTSTART;TZID=America/Halifax:20230518T183000
DTEND;TZID=America/Halifax:20230518T210000
DTSTAMP:20260423T053557
CREATED:20230427T183119Z
LAST-MODIFIED:20230511T114041Z
UID:10000656-1684434600-1684443600@curtisbc.org
SUMMARY:Single's Third Thursday Gathering
DESCRIPTION:The next Single’s Gathering is May18th at 6:30 PM. Please be sure to RSVP to Marie by May 16th at mwilson1010@comcast.net.\n 
URL:https://curtisbc.org/event/singles-third-thursday-gathering-2/
ATTACH;FMTTYPE=image/png:https://curtisbc.org/wp-content/uploads/2023/04/unnamed-78.png
END:VEVENT
BEGIN:VEVENT
DTSTART;TZID=America/Halifax:20230517T173000
DTEND;TZID=America/Halifax:20230517T200000
DTSTAMP:20260423T053557
CREATED:20220112T171023Z
LAST-MODIFIED:20230427T190207Z
UID:10000519-1684344600-1684353600@curtisbc.org
SUMMARY:Wednesday Bible Studies
DESCRIPTION:Join us for our Wednesday Bible studies. There’s something here for everyone!\n\n\nCurtis Kids: The Ark (Birth-4yr) & Nexkid Investigators (k4-5th)\n\n\nCurtis Student Ministry: 5:30 PM – 7:00 PM\n\n\nMen’s Bible Study: 6:00PM – 7:00 PM\n\n\nWomen’s Bible Study: 6:00 PM – 7:00 PM\n\n\nAdult Choir Practice: 7:00 PM – 8:00 PM
URL:https://curtisbc.org/event/wednesday-bible-studies-2023-04-12/2023-05-17/
ATTACH;FMTTYPE=image/png:https://curtisbc.org/wp-content/uploads/2020/12/LifeGroups-Restart.png
END:VEVENT
BEGIN:VEVENT
DTSTART;TZID=America/Halifax:20230514T080000
DTEND;TZID=America/Halifax:20230514T090000
DTSTAMP:20260423T053557
CREATED:20230413T140526Z
LAST-MODIFIED:20230413T154054Z
UID:10000653-1684051200-1684054800@curtisbc.org
SUMMARY:Women's Ministry Breakfast Gathering
DESCRIPTION:Ladies\, make plans to come to our next Breakfast Gathering on May 14th at 8 AM in Café 180. And since it is also Mother’s Day\, we would love for you to bring your moms and other family members to join us! We will have a time of fellowship followed by worship and testimony. Let us know you are coming by signing up in the Ministry Center.
URL:https://curtisbc.org/event/womens-ministry-breakfast-gathering-2/
ATTACH;FMTTYPE=image/png:https://curtisbc.org/wp-content/uploads/2023/04/Womens-Breakfast-May-12.png
END:VEVENT
BEGIN:VEVENT
DTSTART;TZID=America/Halifax:20230510T173000
DTEND;TZID=America/Halifax:20230510T200000
DTSTAMP:20260423T053557
CREATED:20220112T171023Z
LAST-MODIFIED:20230427T190207Z
UID:10000518-1683739800-1683748800@curtisbc.org
SUMMARY:Wednesday Bible Studies
DESCRIPTION:Join us for our Wednesday Bible studies. There’s something here for everyone!\n\n\nCurtis Kids: The Ark (Birth-4yr) & Nexkid Investigators (k4-5th)\n\n\nCurtis Student Ministry: 5:30 PM – 7:00 PM\n\n\nMen’s Bible Study: 6:00PM – 7:00 PM\n\n\nWomen’s Bible Study: 6:00 PM – 7:00 PM\n\n\nAdult Choir Practice: 7:00 PM – 8:00 PM
URL:https://curtisbc.org/event/wednesday-bible-studies-2023-04-12/2023-05-10/
ATTACH;FMTTYPE=image/png:https://curtisbc.org/wp-content/uploads/2020/12/LifeGroups-Restart.png
END:VEVENT
BEGIN:VEVENT
DTSTART;TZID=America/Halifax:20230507T160000
DTEND;TZID=America/Halifax:20230507T190000
DTSTAMP:20260423T053557
CREATED:20230322T183639Z
LAST-MODIFIED:20230405T182300Z
UID:10000644-1683475200-1683486000@curtisbc.org
SUMMARY:Curtis Day in the Park
DESCRIPTION:Save the date for Curtis Day In The Park\, Sunday\, May 7th from 4PM-7PM at North Augusta Riverview Park Picnic Pavilion! Let us know your are coming by filling out this form: https://curtisbc.ccbchurch.com/goto/forms/257/responses/new
URL:https://curtisbc.org/event/curtis-day-in-the-park-2/
ATTACH;FMTTYPE=image/png:https://curtisbc.org/wp-content/uploads/2023/03/Day-in-the-Park-May-7-2023.png
END:VEVENT
BEGIN:VEVENT
DTSTART;TZID=America/Halifax:20230504T183000
DTEND;TZID=America/Halifax:20230504T203000
DTSTAMP:20260423T053557
CREATED:20230427T181410Z
LAST-MODIFIED:20230427T181613Z
UID:10000012-1683225000-1683232200@curtisbc.org
SUMMARY:CYP Hangout
DESCRIPTION:Inviting all college students and young pros to join us for our next CYP Hangout\, May 4th at 6:30 PM. It will be held off campus. Contact James Choi for more information at jchoi@curtisbaptist.org.
URL:https://curtisbc.org/event/cyp-hangout-15/
ATTACH;FMTTYPE=image/png:https://curtisbc.org/wp-content/uploads/2022/02/CYP-Hangout-James-Choi.png
END:VEVENT
BEGIN:VEVENT
DTSTART;TZID=America/Halifax:20230504T110000
DTEND;TZID=America/Halifax:20230504T130000
DTSTAMP:20260423T053557
CREATED:20230427T175709Z
LAST-MODIFIED:20230427T175709Z
UID:10000655-1683198000-1683205200@curtisbc.org
SUMMARY:National Day of Prayer
DESCRIPTION:Thursday\, May 4th is the National Day of Prayer and the theme verse is James 5:16:\n “Therefore confess your sins to each other and pray for each other so that you may be healed. The prayer of a righteous person is powerful and effective.”\n\nAs we recognize the National Day of Prayer\, we invite you to come to the Curtis sanctuary during the hours of 11 AM to 1 PM to pray for our nation. Please enter and exit through the Ministry Center doors. 
URL:https://curtisbc.org/event/national-day-of-prayer-2/
ATTACH;FMTTYPE=image/png:https://curtisbc.org/wp-content/uploads/2023/04/unnamed-77.png
END:VEVENT
BEGIN:VEVENT
DTSTART;TZID=America/Halifax:20230503T173000
DTEND;TZID=America/Halifax:20230503T200000
DTSTAMP:20260423T053557
CREATED:20220112T171023Z
LAST-MODIFIED:20230427T190207Z
UID:10000517-1683135000-1683144000@curtisbc.org
SUMMARY:Wednesday Bible Studies
DESCRIPTION:Join us for our Wednesday Bible studies. There’s something here for everyone!\n\n\nCurtis Kids: The Ark (Birth-4yr) & Nexkid Investigators (k4-5th)\n\n\nCurtis Student Ministry: 5:30 PM – 7:00 PM\n\n\nMen’s Bible Study: 6:00PM – 7:00 PM\n\n\nWomen’s Bible Study: 6:00 PM – 7:00 PM\n\n\nAdult Choir Practice: 7:00 PM – 8:00 PM
URL:https://curtisbc.org/event/wednesday-bible-studies-2023-04-12/2023-05-03/
ATTACH;FMTTYPE=image/png:https://curtisbc.org/wp-content/uploads/2020/12/LifeGroups-Restart.png
END:VEVENT
BEGIN:VEVENT
DTSTART;TZID=America/Halifax:20230426T173000
DTEND;TZID=America/Halifax:20230426T200000
DTSTAMP:20260423T053557
CREATED:20220112T171023Z
LAST-MODIFIED:20230427T190207Z
UID:10000516-1682530200-1682539200@curtisbc.org
SUMMARY:Wednesday Bible Studies
DESCRIPTION:Join us for our Wednesday Bible studies. There’s something here for everyone!\n\n\nCurtis Kids: The Ark (Birth-4yr) & Nexkid Investigators (k4-5th)\n\n\nCurtis Student Ministry: 5:30 PM – 7:00 PM\n\n\nMen’s Bible Study: 6:00PM – 7:00 PM\n\n\nWomen’s Bible Study: 6:00 PM – 7:00 PM\n\n\nAdult Choir Practice: 7:00 PM – 8:00 PM
URL:https://curtisbc.org/event/wednesday-bible-studies-2023-04-12/2023-04-26/
ATTACH;FMTTYPE=image/png:https://curtisbc.org/wp-content/uploads/2020/12/LifeGroups-Restart.png
END:VEVENT
BEGIN:VEVENT
DTSTART;TZID=America/Halifax:20230420T183000
DTEND;TZID=America/Halifax:20230420T213000
DTSTAMP:20260423T053557
CREATED:20230330T195059Z
LAST-MODIFIED:20230330T195059Z
UID:10000650-1682015400-1682026200@curtisbc.org
SUMMARY:3rd Thursday Single's Gathering
DESCRIPTION:Come join us at our monthly 3rd Thursday Single’s Gathering on April 20th at 6:30 pm for a great time of fellowship!
URL:https://curtisbc.org/event/3rd-thursday-singles-gathering-16/
ATTACH;FMTTYPE=image/png:https://curtisbc.org/wp-content/uploads/2023/01/Singles-Gathering-No-Date.png
END:VEVENT
BEGIN:VEVENT
DTSTART;TZID=America/Halifax:20230419T173000
DTEND;TZID=America/Halifax:20230419T200000
DTSTAMP:20260423T053557
CREATED:20220112T171023Z
LAST-MODIFIED:20230427T190207Z
UID:10000515-1681925400-1681934400@curtisbc.org
SUMMARY:Wednesday Bible Studies
DESCRIPTION:Join us for our Wednesday Bible studies. There’s something here for everyone!\n\n\nCurtis Kids: The Ark (Birth-4yr) & Nexkid Investigators (k4-5th)\n\n\nCurtis Student Ministry: 5:30 PM – 7:00 PM\n\n\nMen’s Bible Study: 6:00PM – 7:00 PM\n\n\nWomen’s Bible Study: 6:00 PM – 7:00 PM\n\n\nAdult Choir Practice: 7:00 PM – 8:00 PM
URL:https://curtisbc.org/event/wednesday-bible-studies-2023-04-12/2023-04-19/
ATTACH;FMTTYPE=image/png:https://curtisbc.org/wp-content/uploads/2020/12/LifeGroups-Restart.png
END:VEVENT
BEGIN:VEVENT
DTSTART;TZID=America/Halifax:20230418T110000
DTEND;TZID=America/Halifax:20230418T130000
DTSTAMP:20260423T053557
CREATED:20230405T171551Z
LAST-MODIFIED:20230405T171551Z
UID:10000651-1681815600-1681822800@curtisbc.org
SUMMARY:Happy 39ers
DESCRIPTION:Happy 39’ers will meet on April 18th at 11 am. Art and Terese Denney will be sharing about their trip to Israel during the meeting. Make plans to come by calling the church no later than April 11th to RSVP.
URL:https://curtisbc.org/event/happy-39ers-3/
ATTACH;FMTTYPE=image/png:https://curtisbc.org/wp-content/uploads/2023/04/unnamed-72.png
END:VEVENT
BEGIN:VEVENT
DTSTART;TZID=America/Halifax:20230416T140000
DTEND;TZID=America/Halifax:20230416T160000
DTSTAMP:20260423T053557
CREATED:20230412T194557Z
LAST-MODIFIED:20230412T194827Z
UID:10000652-1681653600-1681660800@curtisbc.org
SUMMARY:Guys Basketball
DESCRIPTION:All guys 16 and up are invited to join us at Cheeks Gym on Sunday from 2-4 PM for some basketball! Contact Pastor James for more information at jchoi@curtisbaptist.org. 
URL:https://curtisbc.org/event/11983/
ATTACH;FMTTYPE=image/png:https://curtisbc.org/wp-content/uploads/2023/04/unnamed-74.png
END:VEVENT
BEGIN:VEVENT
DTSTART;TZID=America/Halifax:20230416T113000
DTEND;TZID=America/Halifax:20230416T134500
DTSTAMP:20260423T053557
CREATED:20230329T142049Z
LAST-MODIFIED:20230412T190155Z
UID:10000648-1681644600-1681652700@curtisbc.org
SUMMARY:Parent Workshop
DESCRIPTION:Curtis Student Ministry and Curtis Kids are partnering together to put on a workshop to equip parents on how to deal with screens and technology. The cost is only $3 per person. Lunch and childcare will be provided. Here’s the link to sign up! \nPostponed\, look for more information in the coming weeks!
URL:https://curtisbc.org/event/parent-workshop/
ATTACH;FMTTYPE=image/png:https://curtisbc.org/wp-content/uploads/2023/03/Parent-workshop-post-poned.png
END:VEVENT
END:VCALENDAR