BEGIN:VCALENDAR
VERSION:2.0
PRODID:-//Curtis Baptist Church - ECPv6.15.20//NONSGML v1.0//EN
CALSCALE:GREGORIAN
METHOD:PUBLISH
X-WR-CALNAME:Curtis Baptist Church
X-ORIGINAL-URL:https://curtisbc.org
X-WR-CALDESC:Events for Curtis Baptist Church
REFRESH-INTERVAL;VALUE=DURATION:PT1H
X-Robots-Tag:noindex
X-PUBLISHED-TTL:PT1H
BEGIN:VTIMEZONE
TZID:America/Halifax
BEGIN:DAYLIGHT
TZOFFSETFROM:-0400
TZOFFSETTO:-0300
TZNAME:ADT
DTSTART:20220313T060000
END:DAYLIGHT
BEGIN:STANDARD
TZOFFSETFROM:-0300
TZOFFSETTO:-0400
TZNAME:AST
DTSTART:20221106T050000
END:STANDARD
BEGIN:DAYLIGHT
TZOFFSETFROM:-0400
TZOFFSETTO:-0300
TZNAME:ADT
DTSTART:20230312T060000
END:DAYLIGHT
BEGIN:STANDARD
TZOFFSETFROM:-0300
TZOFFSETTO:-0400
TZNAME:AST
DTSTART:20231105T050000
END:STANDARD
BEGIN:DAYLIGHT
TZOFFSETFROM:-0400
TZOFFSETTO:-0300
TZNAME:ADT
DTSTART:20240310T060000
END:DAYLIGHT
BEGIN:STANDARD
TZOFFSETFROM:-0300
TZOFFSETTO:-0400
TZNAME:AST
DTSTART:20241103T050000
END:STANDARD
BEGIN:DAYLIGHT
TZOFFSETFROM:-0400
TZOFFSETTO:-0300
TZNAME:ADT
DTSTART:20250309T060000
END:DAYLIGHT
BEGIN:STANDARD
TZOFFSETFROM:-0300
TZOFFSETTO:-0400
TZNAME:AST
DTSTART:20251102T050000
END:STANDARD
END:VTIMEZONE
BEGIN:VEVENT
DTSTART;TZID=America/Halifax:20240112T080000
DTEND;TZID=America/Halifax:20240115T170000
DTSTAMP:20260421T214533
CREATED:20231026T210929Z
LAST-MODIFIED:20231026T211033Z
UID:10000691-1705046400-1705338000@curtisbc.org
SUMMARY:CYP Ski Retreat
DESCRIPTION:We’re so excited to announce our CYP Ski Retreat at Appalachian Ski Mountain over MLK Weekend\, January 12-15! The cost will be $270-310 depending on how many we get signed up. Reserve your spot for $150 today by clicking this link and the remaining balance will be due Jan. 5. For questions\, email Pastor James at jchoi@curtisbaptist.org.
URL:https://curtisbc.org/event/12538/
ATTACH;FMTTYPE=image/png:https://curtisbc.org/wp-content/uploads/2023/10/unnamed-2023-10-26T170632.284.png
END:VEVENT
BEGIN:VEVENT
DTSTART;TZID=America/Halifax:20240111T183000
DTEND;TZID=America/Halifax:20240111T213000
DTSTAMP:20260421T214533
CREATED:20231222T004809Z
LAST-MODIFIED:20231222T005242Z
UID:10000805-1704997800-1705008600@curtisbc.org
SUMMARY:Ladies' Night Out
DESCRIPTION:Our next Ladies’ Night Out is Thursday\, January 11th at 6:30 PM. We will meet at the Village Deli for dinner and then have dessert at Susie Towner’s house. Please let Terese know you will be coming by the 10th. Hope to see you there!
URL:https://curtisbc.org/event/ladies-night-out-26/
ATTACH;FMTTYPE=image/png:https://curtisbc.org/wp-content/uploads/2023/12/LNO-Jan-2024.png
END:VEVENT
BEGIN:VEVENT
DTSTART;TZID=America/Halifax:20240110T180000
DTEND;TZID=America/Halifax:20240110T190000
DTSTAMP:20260421T214533
CREATED:20231222T010917Z
LAST-MODIFIED:20231222T011439Z
UID:10000806-1704909600-1704913200@curtisbc.org
SUMMARY:New Women's Bible Study
DESCRIPTION:Our Women’s Bible Study meets on Wednesday at 6 PM on campus in Café 180\, right side. We will begin a new study from the book The Sermon on the Mount on January 10th. Books can be purchased in class for $5 while supplies last or online beginning January 1st at this link: https://curtisbc.ccbchurch.com/goto/forms/279/responses/new
URL:https://curtisbc.org/event/new-womens-bible-study/
ATTACH;FMTTYPE=image/png:https://curtisbc.org/wp-content/uploads/2023/12/Sermon-on-the-Mount-Slide-1440-x-810-px.png
END:VEVENT
BEGIN:VEVENT
DTSTART;TZID=America/Halifax:20240110T173000
DTEND;TZID=America/Halifax:20240110T190000
DTSTAMP:20260421T214533
CREATED:20220112T171023Z
LAST-MODIFIED:20240111T201552Z
UID:10000550-1704907800-1704913200@curtisbc.org
SUMMARY:Wednesday Bible Studies
DESCRIPTION:Join us for our Wednesday Bible studies. There’s something here for everyone!\n\n\nCurtis Kids: The Ark (Birth-4yr) & Nexkid Investigators (k4-5th)\n\n\nCurtis Student Ministry: 5:30 PM – 7:00 PM\n\n\nMen’s Bible Study: 6:00PM – 7:00 PM\n\n\nWomen’s Bible Study: 6:00 PM – 7:00 PM\n\n\nAdult Choir Practice: 7:00 PM – 8:00 PM
URL:https://curtisbc.org/event/wednesday-bible-studies-2024-03-27/
ATTACH;FMTTYPE=image/png:https://curtisbc.org/wp-content/uploads/2020/12/LifeGroups-Restart.png
END:VEVENT
BEGIN:VEVENT
DTSTART;TZID=America/Halifax:20240107T101500
DTEND;TZID=America/Halifax:20240107T113000
DTSTAMP:20260421T214533
CREATED:20211123T161724Z
LAST-MODIFIED:20240111T201023Z
UID:10000483-1704622500-1704627000@curtisbc.org
SUMMARY:Sunday Service
DESCRIPTION:Join us every Sunday for Worship at 10:15AM. You can come in person or watch on our livestream!\nChild care is provided every Sunday.\nHere is a link to our Youtube page to join us via Livestream https://www.youtube.com/user/CurtisChurchTV
URL:https://curtisbc.org/event/sunday-service-2-2022-01-02-2023-02-12-2023-04-09-2024-01-07/
ATTACH;FMTTYPE=image/png:https://curtisbc.org/wp-content/uploads/2021/11/1440-×-810-px.png
END:VEVENT
BEGIN:VEVENT
DTSTART;TZID=America/Halifax:20240107T090000
DTEND;TZID=America/Halifax:20240107T100000
DTSTAMP:20260421T214533
CREATED:20231214T173800Z
LAST-MODIFIED:20231214T173800Z
UID:10000803-1704618000-1704621600@curtisbc.org
SUMMARY:Disciple Making Class For Moms
DESCRIPTION:Beginning on January 7th at 9 AM (Room TBA)\, we will have a Disciple-Making Parent Book Study for Moms. If you are interested in this study\, please use this link to sign up: Disciple Making Class For Moms. See Pastor Ben to get a book ahead of time ($13) to begin reading or you can access the audiobook for free at this link: Free Audiobook.
URL:https://curtisbc.org/event/disciple-making-class-for-moms/
ATTACH;FMTTYPE=image/jpeg:https://curtisbc.org/wp-content/uploads/2023/12/unnamed-10.jpg
END:VEVENT
BEGIN:VEVENT
DTSTART;TZID=America/Halifax:20231231T101500
DTEND;TZID=America/Halifax:20231231T113000
DTSTAMP:20260421T214533
CREATED:20211123T161724Z
LAST-MODIFIED:20240111T200037Z
UID:10000011-1704017700-1704022200@curtisbc.org
SUMMARY:Sunday Service
DESCRIPTION:Join us every Sunday for Worship at 10:15AM. You can come in person or watch on our livestream!\nChild care is provided every Sunday.\nHere is a link to our Youtube page to join us via Livestream https://www.youtube.com/user/CurtisChurchTV
URL:https://curtisbc.org/event/sunday-service-2-2022-01-02-2023-02-12-2023-04-09/
ATTACH;FMTTYPE=image/png:https://curtisbc.org/wp-content/uploads/2021/11/1440-×-810-px.png
END:VEVENT
BEGIN:VEVENT
DTSTART;TZID=America/Halifax:20231224T101500
DTEND;TZID=America/Halifax:20231224T113000
DTSTAMP:20260421T214533
CREATED:20211123T161724Z
LAST-MODIFIED:20231127T180317Z
UID:10000009-1703412900-1703417400@curtisbc.org
SUMMARY:Christ-Filled Christmas Sunday Service
DESCRIPTION:Today we will be observing the Lord’s Supper as we celebrate His birth.\nJoin us every Sunday for Worship at 10:15AM. You can come in person or watch on our livestream!\nChild care is provided every Sunday.\nHere is a link to our Youtube page to join us via Livestream https://www.youtube.com/user/CurtisChurchTV
URL:https://curtisbc.org/event/sunday-service-2-2022-01-02-2023-02-12-2023-04-09-2023-12-24/
ATTACH;FMTTYPE=image/jpeg:https://curtisbc.org/wp-content/uploads/2021/11/Christ-Filled-Christmas-Title-Slide.jpg
END:VEVENT
BEGIN:VEVENT
DTSTART;TZID=America/Halifax:20231221T183000
DTEND;TZID=America/Halifax:20231221T213000
DTSTAMP:20260421T214533
CREATED:20231130T221013Z
LAST-MODIFIED:20231214T173136Z
UID:10000800-1703183400-1703194200@curtisbc.org
SUMMARY:3rd Thursday Single's Gathering
DESCRIPTION:Come join us at our monthly 3rd Thursday Single’s Gathering on December 21st at 6:30 pm for a great time of fellowship! Please let Marie Wilson know you are coming by the 19th.
URL:https://curtisbc.org/event/3rd-thursday-singles-gathering-17/
ATTACH;FMTTYPE=image/png:https://curtisbc.org/wp-content/uploads/2023/11/unnamed-2023-12-14T122801.763.png
END:VEVENT
BEGIN:VEVENT
DTSTART;TZID=America/Halifax:20231220T173000
DTEND;TZID=America/Halifax:20231220T200000
DTSTAMP:20260421T214533
CREATED:20231130T205901Z
LAST-MODIFIED:20231130T210644Z
UID:10000482-1703093400-1703102400@curtisbc.org
SUMMARY:Wednesday Bible Studies
DESCRIPTION:Join us for our Wednesday Bible studies. There’s something here for everyone!\n\n\nCurtis Kids: The Ark (Birth-4yr) & Nexkid Investigators (k4-5th)\n\n\nCurtis Student Ministry: 5:30 PM – 7:00 PM\n\n\nMen’s Bible Study: 6:00PM – 7:00 PM\n\n\nWomen’s Bible Study: 6:00 PM – 7:00 PM\n\n\nAdult Choir Practice: 7:00 PM – 8:00 PM
URL:https://curtisbc.org/event/wednesday-bible-studies-2/
ATTACH;FMTTYPE=image/png:https://curtisbc.org/wp-content/uploads/2020/12/LifeGroups-Restart.png
END:VEVENT
BEGIN:VEVENT
DTSTART;TZID=America/Halifax:20231217T140000
DTEND;TZID=America/Halifax:20231217T160000
DTSTAMP:20260421T214533
CREATED:20231130T220330Z
LAST-MODIFIED:20231214T172629Z
UID:10000799-1702821600-1702828800@curtisbc.org
SUMMARY:Men's Basketball
DESCRIPTION:All guys 16 and up are invited to come shoot hoops at Cheeks Gym on Sunday\, December 17th from 2-4 PM.
URL:https://curtisbc.org/event/mens-basketball-7/
ATTACH;FMTTYPE=image/png:https://curtisbc.org/wp-content/uploads/2023/11/unnamed-2023-12-14T121842.831.png
END:VEVENT
BEGIN:VEVENT
DTSTART;TZID=America/Halifax:20231217T101500
DTEND;TZID=America/Halifax:20231217T113000
DTSTAMP:20260421T214533
CREATED:20211123T161724Z
LAST-MODIFIED:20231127T175738Z
UID:10000008-1702808100-1702812600@curtisbc.org
SUMMARY:Christ-Filled Christmas Sunday Service
DESCRIPTION:Join us every Sunday for Worship at 10:15AM. You can come in person or watch on our livestream!\nChild care is provided every Sunday.\nHere is a link to our Youtube page to join us via Livestream https://www.youtube.com/user/CurtisChurchTV
URL:https://curtisbc.org/event/sunday-service-2-2022-01-02-2023-02-12-2023-04-09-2023-12-17/
ATTACH;FMTTYPE=image/jpeg:https://curtisbc.org/wp-content/uploads/2021/11/Christ-Filled-Christmas-Title-Slide.jpg
END:VEVENT
BEGIN:VEVENT
DTSTART;TZID=America/Halifax:20231213T173000
DTEND;TZID=America/Halifax:20231213T200000
DTSTAMP:20260421T214533
CREATED:20220112T171023Z
LAST-MODIFIED:20220112T171023Z
UID:10000018-1702488600-1702497600@curtisbc.org
SUMMARY:Wednesday Bible Studies
DESCRIPTION:Join us for our Wednesday Bible studies. There’s something here for everyone!\n\n\nCurtis Kids: The Ark (Birth-4yr) & Nexkid Investigators (k4-5th)\n\n\nCurtis Student Ministry: 5:30 PM – 7:00 PM\n\n\nMen’s Bible Study: 6:00PM – 7:00 PM\n\n\nWomen’s Bible Study: 6:00 PM – 7:00 PM\n\n\nAdult Choir Practice: 7:00 PM – 8:00 PM
URL:https://curtisbc.org/event/wednesday-bible-studies-2023-04-12/2023-12-13/
ATTACH;FMTTYPE=image/png:https://curtisbc.org/wp-content/uploads/2020/12/LifeGroups-Restart.png
END:VEVENT
BEGIN:VEVENT
DTSTART;TZID=America/Halifax:20231213T173000
DTEND;TZID=America/Halifax:20231213T200000
DTSTAMP:20260421T214533
CREATED:20220112T171023Z
LAST-MODIFIED:20230427T190207Z
UID:10000546-1702488600-1702497600@curtisbc.org
SUMMARY:Wednesday Bible Studies
DESCRIPTION:Join us for our Wednesday Bible studies. There’s something here for everyone!\n\n\nCurtis Kids: The Ark (Birth-4yr) & Nexkid Investigators (k4-5th)\n\n\nCurtis Student Ministry: 5:30 PM – 7:00 PM\n\n\nMen’s Bible Study: 6:00PM – 7:00 PM\n\n\nWomen’s Bible Study: 6:00 PM – 7:00 PM\n\n\nAdult Choir Practice: 7:00 PM – 8:00 PM
URL:https://curtisbc.org/event/wednesday-bible-studies-2023-04-12/2023-12-13/
ATTACH;FMTTYPE=image/png:https://curtisbc.org/wp-content/uploads/2020/12/LifeGroups-Restart.png
END:VEVENT
BEGIN:VEVENT
DTSTART;TZID=America/Halifax:20231212T110000
DTEND;TZID=America/Halifax:20231212T130000
DTSTAMP:20260421T214533
CREATED:20231109T142700Z
LAST-MODIFIED:20231109T142845Z
UID:10000476-1702378800-1702386000@curtisbc.org
SUMMARY:Happy 39'ers Christmas Meeting & Luncheon
DESCRIPTION:Our Christmas Happy 39’ers Meeting and Lunch will be held on Decmeber 12th at 11 AM. We will begin our meeting and program in the sanctuary\, then we will move to Room B105 for our lunch. Anyone 55 and older is invited to come but we need you to RSVP by December 3rd. RSVP by calling or emailing JanJee or you can sign up on the clipboard in the Ministry Center. 
URL:https://curtisbc.org/event/happy-39ers-christmas-meeting-luncheon/
ATTACH;FMTTYPE=image/png:https://curtisbc.org/wp-content/uploads/2023/11/unnamed-2023-11-09T092238.917.png
END:VEVENT
BEGIN:VEVENT
DTSTART;TZID=America/Halifax:20231210T101500
DTEND;TZID=America/Halifax:20231210T113000
DTSTAMP:20260421T214533
CREATED:20211123T161724Z
LAST-MODIFIED:20231127T175448Z
UID:10000007-1702203300-1702207800@curtisbc.org
SUMMARY:Christ-Filled Christmas Sunday Service
DESCRIPTION:Join us every Sunday for Worship at 10:15AM. You can come in person or watch on our livestream!\nChild care is provided every Sunday.\nHere is a link to our Youtube page to join us via Livestream https://www.youtube.com/user/CurtisChurchTV
URL:https://curtisbc.org/event/sunday-service-2-2022-01-02-2023-02-12-2023-04-09-2023-12-10/
ATTACH;FMTTYPE=image/jpeg:https://curtisbc.org/wp-content/uploads/2021/11/Christ-Filled-Christmas-Title-Slide.jpg
END:VEVENT
BEGIN:VEVENT
DTSTART;TZID=America/Halifax:20231210T101000
DTEND;TZID=America/Halifax:20231210T113000
DTSTAMP:20260421T214533
CREATED:20231130T221722Z
LAST-MODIFIED:20231130T221722Z
UID:10000801-1702203000-1702207800@curtisbc.org
SUMMARY:Christmas Worship
DESCRIPTION:If you love to sing\, we would LOVE to have you join us in the choir loft for our December 10th Christmas Worship set. We want to fill the loft and make a joyful noise as we celebrate our Savior! We will meet in the loft at 10:10 AM on that day to lead worship together. Email Kaitlin (ksterling@curtisbaptist.org) to receive a song list!
URL:https://curtisbc.org/event/christmas-worship/
ATTACH;FMTTYPE=image/png:https://curtisbc.org/wp-content/uploads/2023/11/unnamed-2023-11-30T171342.318.png
END:VEVENT
BEGIN:VEVENT
DTSTART;TZID=America/Halifax:20231210T093000
DTEND;TZID=America/Halifax:20231210T113000
DTSTAMP:20260421T214533
CREATED:20231130T215604Z
LAST-MODIFIED:20231130T215638Z
UID:10000798-1702200600-1702207800@curtisbc.org
SUMMARY:Deaf Worship and Covered Dish Lunch
DESCRIPTION:December 10th at 9:30 am\, Worship & Lunch: Meet in the Deaf Classroom for Worship then join us for our covered dish lunch.
URL:https://curtisbc.org/event/deaf-worship-and-covered-dish-lunch/
ATTACH;FMTTYPE=image/png:https://curtisbc.org/wp-content/uploads/2020/12/deaf-ministry-logo.png
END:VEVENT
BEGIN:VEVENT
DTSTART;TZID=America/Halifax:20231210T090000
DTEND;TZID=America/Halifax:20231210T113000
DTSTAMP:20260421T214533
CREATED:20231130T222045Z
LAST-MODIFIED:20231130T222117Z
UID:10000802-1702198800-1702207800@curtisbc.org
SUMMARY:Touch of Love Christmas Bags
DESCRIPTION:THANK YOU to everyone who picked up a bag to fill! All bags were taken! Please be reminded to return your filled bag by Sunday\, December 10th and place it in the basket on the table.
URL:https://curtisbc.org/event/touch-of-love-christmas-bags/
ATTACH;FMTTYPE=image/png:https://curtisbc.org/wp-content/uploads/2023/11/unnamed-2023-11-30T171846.902.png
END:VEVENT
BEGIN:VEVENT
DTSTART;TZID=America/Halifax:20231210T090000
DTEND;TZID=America/Halifax:20231210T103000
DTSTAMP:20260421T214533
CREATED:20231116T221656Z
LAST-MODIFIED:20231116T221747Z
UID:10000479-1702198800-1702204200@curtisbc.org
SUMMARY:Great Commission Cookie Exchange
DESCRIPTION:We are excited about our Great Commission Cookie Exchange and Bagel Fellowship on December 10th! So what exactly is the GGCE? It is a way to spend time with your family/friends baking cookies and then use the cookie to share the Good News of Jesus to someone this Christmas season. Pick up a flier from the Ministry Center for a few more details about the GCCE! May we all have a CHRIST-FILLED CHRISTMAS as we IMPACT THE WORLD with the truth of JESUS! 
URL:https://curtisbc.org/event/great-commission-cookie-exchange/
ATTACH;FMTTYPE=image/png:https://curtisbc.org/wp-content/uploads/2023/11/unnamed-2023-11-16T171433.359.png
END:VEVENT
BEGIN:VEVENT
DTSTART;TZID=America/Halifax:20231206T173000
DTEND;TZID=America/Halifax:20231206T200000
DTSTAMP:20260421T214533
CREATED:20220112T171023Z
LAST-MODIFIED:20230427T190207Z
UID:10000545-1701883800-1701892800@curtisbc.org
SUMMARY:Wednesday Bible Studies
DESCRIPTION:Join us for our Wednesday Bible studies. There’s something here for everyone!\n\n\nCurtis Kids: The Ark (Birth-4yr) & Nexkid Investigators (k4-5th)\n\n\nCurtis Student Ministry: 5:30 PM – 7:00 PM\n\n\nMen’s Bible Study: 6:00PM – 7:00 PM\n\n\nWomen’s Bible Study: 6:00 PM – 7:00 PM\n\n\nAdult Choir Practice: 7:00 PM – 8:00 PM
URL:https://curtisbc.org/event/wednesday-bible-studies-2023-04-12/2023-12-06/
ATTACH;FMTTYPE=image/png:https://curtisbc.org/wp-content/uploads/2020/12/LifeGroups-Restart.png
END:VEVENT
BEGIN:VEVENT
DTSTART;TZID=America/Halifax:20231206T173000
DTEND;TZID=America/Halifax:20231206T200000
DTSTAMP:20260421T214533
CREATED:20220112T171023Z
LAST-MODIFIED:20220112T171023Z
UID:10000017-1701883800-1701892800@curtisbc.org
SUMMARY:Wednesday Bible Studies
DESCRIPTION:Join us for our Wednesday Bible studies. There’s something here for everyone!\n\n\nCurtis Kids: The Ark (Birth-4yr) & Nexkid Investigators (k4-5th)\n\n\nCurtis Student Ministry: 5:30 PM – 7:00 PM\n\n\nMen’s Bible Study: 6:00PM – 7:00 PM\n\n\nWomen’s Bible Study: 6:00 PM – 7:00 PM\n\n\nAdult Choir Practice: 7:00 PM – 8:00 PM
URL:https://curtisbc.org/event/wednesday-bible-studies-2023-04-12/2023-12-06/
ATTACH;FMTTYPE=image/png:https://curtisbc.org/wp-content/uploads/2020/12/LifeGroups-Restart.png
END:VEVENT
BEGIN:VEVENT
DTSTART;TZID=America/Halifax:20231205T183000
DTEND;TZID=America/Halifax:20231205T213000
DTSTAMP:20260421T214533
CREATED:20231116T222136Z
LAST-MODIFIED:20231116T222136Z
UID:10000480-1701801000-1701811800@curtisbc.org
SUMMARY:Ladies' Night Out
DESCRIPTION:Mark your calendar for the December Ladies’ Night Out at Carrabba’s on December 5th at 6:30 PM. Be sure to RSVP to Terese Denney by December 4th. 
URL:https://curtisbc.org/event/ladies-night-out-25/
ATTACH;FMTTYPE=image/png:https://curtisbc.org/wp-content/uploads/2023/11/unnamed-2023-11-16T171850.923.png
END:VEVENT
BEGIN:VEVENT
DTSTART;TZID=America/Halifax:20231203T170000
DTEND;TZID=America/Halifax:20231203T180000
DTSTAMP:20260421T214533
CREATED:20231127T180826Z
LAST-MODIFIED:20231127T180853Z
UID:10000481-1701622800-1701626400@curtisbc.org
SUMMARY:Annual Church Conference
DESCRIPTION:The 2024 Proposed Budget brochures are available on the table in the Ministry Center. We will have our Annual Church Conference on December 3rd at 5 PM where we will vote on the budget without discussion.
URL:https://curtisbc.org/event/annual-church-conference/
ATTACH;FMTTYPE=image/png:https://curtisbc.org/wp-content/uploads/2023/11/unnamed-2023-11-27T130604.726.png
END:VEVENT
BEGIN:VEVENT
DTSTART;TZID=America/Halifax:20231202T100000
DTEND;TZID=America/Halifax:20231202T120000
DTSTAMP:20260421T214533
CREATED:20231114T215534Z
LAST-MODIFIED:20231114T215534Z
UID:10000478-1701511200-1701518400@curtisbc.org
SUMMARY:Baby Shower
DESCRIPTION:Ladies\, you are all invited to a drop-in shower to honor Tiffany Palacz (Pastor Ben’s wife) and the soon arrival of their baby boy. The shower will be held in Cafe 180 on December 2nd from 10 AM – 12 PM. Tiffany is registered at Target and Amazon.
URL:https://curtisbc.org/event/baby-shower/
ATTACH;FMTTYPE=image/png:https://curtisbc.org/wp-content/uploads/2023/11/unnamed-2023-11-14T164620.164.png
END:VEVENT
BEGIN:VEVENT
DTSTART;TZID=America/Halifax:20231129T180000
DTEND;TZID=America/Halifax:20231129T190000
DTSTAMP:20260421T214533
CREATED:20231114T214437Z
LAST-MODIFIED:20231130T210142Z
UID:10000477-1701280800-1701284400@curtisbc.org
SUMMARY:Women's Bible Study
DESCRIPTION:The Women’s Wednesday Night Bible Study will walk through an Advent Study November 29-December 20. There will be no book for this study except for your Bible! Hope you will join us as we prepare our hearts for the Christmas season and celebrate when our Savior was born!
URL:https://curtisbc.org/event/womens-bible-study-2/
ATTACH;FMTTYPE=image/png:https://curtisbc.org/wp-content/uploads/2023/11/unnamed-2023-11-14T164219.472.png
END:VEVENT
BEGIN:VEVENT
DTSTART;TZID=America/Halifax:20231129T173000
DTEND;TZID=America/Halifax:20231129T200000
DTSTAMP:20260421T214533
CREATED:20220112T171023Z
LAST-MODIFIED:20230427T190207Z
UID:10000544-1701279000-1701288000@curtisbc.org
SUMMARY:Wednesday Bible Studies
DESCRIPTION:Join us for our Wednesday Bible studies. There’s something here for everyone!\n\n\nCurtis Kids: The Ark (Birth-4yr) & Nexkid Investigators (k4-5th)\n\n\nCurtis Student Ministry: 5:30 PM – 7:00 PM\n\n\nMen’s Bible Study: 6:00PM – 7:00 PM\n\n\nWomen’s Bible Study: 6:00 PM – 7:00 PM\n\n\nAdult Choir Practice: 7:00 PM – 8:00 PM
URL:https://curtisbc.org/event/wednesday-bible-studies-2023-04-12/2023-11-29/
ATTACH;FMTTYPE=image/png:https://curtisbc.org/wp-content/uploads/2020/12/LifeGroups-Restart.png
END:VEVENT
BEGIN:VEVENT
DTSTART;TZID=America/Halifax:20231129T173000
DTEND;TZID=America/Halifax:20231129T200000
DTSTAMP:20260421T214533
CREATED:20220112T171023Z
LAST-MODIFIED:20220112T171023Z
UID:10000016-1701279000-1701288000@curtisbc.org
SUMMARY:Wednesday Bible Studies
DESCRIPTION:Join us for our Wednesday Bible studies. There’s something here for everyone!\n\n\nCurtis Kids: The Ark (Birth-4yr) & Nexkid Investigators (k4-5th)\n\n\nCurtis Student Ministry: 5:30 PM – 7:00 PM\n\n\nMen’s Bible Study: 6:00PM – 7:00 PM\n\n\nWomen’s Bible Study: 6:00 PM – 7:00 PM\n\n\nAdult Choir Practice: 7:00 PM – 8:00 PM
URL:https://curtisbc.org/event/wednesday-bible-studies-2023-04-12/2023-11-29/
ATTACH;FMTTYPE=image/png:https://curtisbc.org/wp-content/uploads/2020/12/LifeGroups-Restart.png
END:VEVENT
BEGIN:VEVENT
DTSTART;TZID=America/Halifax:20231122T173000
DTEND;TZID=America/Halifax:20231122T200000
DTSTAMP:20260421T214533
CREATED:20220112T171023Z
LAST-MODIFIED:20231114T214136Z
UID:10000015-1700674200-1700683200@curtisbc.org
SUMMARY:Wednesday Bible Studies
DESCRIPTION:NO Wednesday Night Activities\, Have a Happy Thanksgiving!
URL:https://curtisbc.org/event/wednesday-bible-studies-2023-04-12-2023-11-22/
ATTACH;FMTTYPE=image/png:https://curtisbc.org/wp-content/uploads/2022/01/unnamed-2023-11-14T163930.316.png
END:VEVENT
BEGIN:VEVENT
DTSTART;TZID=America/Halifax:20231119T140000
DTEND;TZID=America/Halifax:20231119T160000
DTSTAMP:20260421T214533
CREATED:20231102T194129Z
LAST-MODIFIED:20231114T213829Z
UID:10000473-1700402400-1700409600@curtisbc.org
SUMMARY:Men's Basketball
DESCRIPTION:All guys 16 and up are invited to come shoot the hoop at Cheeks Gym on Sunday\, November 19th from 2-4 PM.
URL:https://curtisbc.org/event/mens-basketball-6/
ATTACH;FMTTYPE=image/png:https://curtisbc.org/wp-content/uploads/2023/11/unnamed-2023-11-14T163709.160.png
END:VEVENT
END:VCALENDAR