BEGIN:VCALENDAR
VERSION:2.0
PRODID:-//Curtis Baptist Church - ECPv6.15.20//NONSGML v1.0//EN
CALSCALE:GREGORIAN
METHOD:PUBLISH
X-ORIGINAL-URL:https://curtisbc.org
X-WR-CALDESC:Events for Curtis Baptist Church
REFRESH-INTERVAL;VALUE=DURATION:PT1H
X-Robots-Tag:noindex
X-PUBLISHED-TTL:PT1H
BEGIN:VTIMEZONE
TZID:America/Halifax
BEGIN:DAYLIGHT
TZOFFSETFROM:-0400
TZOFFSETTO:-0300
TZNAME:ADT
DTSTART:20220313T060000
END:DAYLIGHT
BEGIN:STANDARD
TZOFFSETFROM:-0300
TZOFFSETTO:-0400
TZNAME:AST
DTSTART:20221106T050000
END:STANDARD
BEGIN:DAYLIGHT
TZOFFSETFROM:-0400
TZOFFSETTO:-0300
TZNAME:ADT
DTSTART:20230312T060000
END:DAYLIGHT
BEGIN:STANDARD
TZOFFSETFROM:-0300
TZOFFSETTO:-0400
TZNAME:AST
DTSTART:20231105T050000
END:STANDARD
BEGIN:DAYLIGHT
TZOFFSETFROM:-0400
TZOFFSETTO:-0300
TZNAME:ADT
DTSTART:20240310T060000
END:DAYLIGHT
BEGIN:STANDARD
TZOFFSETFROM:-0300
TZOFFSETTO:-0400
TZNAME:AST
DTSTART:20241103T050000
END:STANDARD
END:VTIMEZONE
BEGIN:VEVENT
DTSTART;TZID=America/Halifax:20230903T170000
DTEND;TZID=America/Halifax:20230903T180000
DTSTAMP:20260422T074034
CREATED:20230818T005707Z
LAST-MODIFIED:20230830T155519Z
UID:10000679-1693760400-1693764000@curtisbc.org
SUMMARY:Prayer & Praise
DESCRIPTION:Our next monthly Prayer and Praise service will be September 3rd at 5 PM. The Lord’s Supper will also be served during this service. Make plans to join us for this special time of praying\, praising and remembering what Jesus sacrificed for us on the cross.
URL:https://curtisbc.org/event/12397/
ATTACH;FMTTYPE=image/png:https://curtisbc.org/wp-content/uploads/2023/08/unnamed-96.png
END:VEVENT
BEGIN:VEVENT
DTSTART;TZID=America/Halifax:20230830T173000
DTEND;TZID=America/Halifax:20230830T200000
DTSTAMP:20260422T074034
CREATED:20220112T171023Z
LAST-MODIFIED:20230830T155337Z
UID:10000551-1693416600-1693425600@curtisbc.org
SUMMARY:Wednesday Bible Studies
DESCRIPTION:Due to the severe weather alert in the CSRA\, we will not have any Wednesday evening ministries – no Nexkid\, no CSM\, no Bible studies and no choir practice.
URL:https://curtisbc.org/event/wednesday-bible-studies-2023-04-12-2023-08-30/
ATTACH;FMTTYPE=image/png:https://curtisbc.org/wp-content/uploads/2022/01/Weather-Alert.png
END:VEVENT
BEGIN:VEVENT
DTSTART;TZID=America/Halifax:20230827T113000
DTEND;TZID=America/Halifax:20230827T130000
DTSTAMP:20260422T074034
CREATED:20230803T190849Z
LAST-MODIFIED:20230803T190849Z
UID:10000677-1693135800-1693141200@curtisbc.org
SUMMARY:Partner Sunday
DESCRIPTION:Come join us on August 27th following the service us for a time to fellowship and look ahead into the school year for Curtis Kids and CSM ministries! We will be serving lunch following service and the whole family is invited. Sign up by clicking here: https://curtisbc.ccbchurch.com/goto/forms/267/responses/new 
URL:https://curtisbc.org/event/partner-sunday-2/
ATTACH;FMTTYPE=image/jpeg:https://curtisbc.org/wp-content/uploads/2023/08/unnamed-9.jpg
END:VEVENT
BEGIN:VEVENT
DTSTART;TZID=America/Halifax:20230824T183000
DTEND;TZID=America/Halifax:20230824T213000
DTSTAMP:20260422T074034
CREATED:20230727T185402Z
LAST-MODIFIED:20230727T185402Z
UID:10000674-1692901800-1692912600@curtisbc.org
SUMMARY:CYP Hangout
DESCRIPTION:Join us for our next CYP Hangout on August 24th at 6:30 PM. This will be held off campus. Contact Pastor James with any questions at: jchoi@curtisbaptist.org.
URL:https://curtisbc.org/event/cyp-hangout-22/
ATTACH;FMTTYPE=image/png:https://curtisbc.org/wp-content/uploads/2022/02/CYP-Hangout-James-Choi.png
END:VEVENT
BEGIN:VEVENT
DTSTART;TZID=America/Halifax:20230823T173000
DTEND;TZID=America/Halifax:20230823T200000
DTSTAMP:20260422T074034
CREATED:20220112T171023Z
LAST-MODIFIED:20230427T190207Z
UID:10000532-1692811800-1692820800@curtisbc.org
SUMMARY:Wednesday Bible Studies
DESCRIPTION:Join us for our Wednesday Bible studies. There’s something here for everyone!\n\n\nCurtis Kids: The Ark (Birth-4yr) & Nexkid Investigators (k4-5th)\n\n\nCurtis Student Ministry: 5:30 PM – 7:00 PM\n\n\nMen’s Bible Study: 6:00PM – 7:00 PM\n\n\nWomen’s Bible Study: 6:00 PM – 7:00 PM\n\n\nAdult Choir Practice: 7:00 PM – 8:00 PM
URL:https://curtisbc.org/event/wednesday-bible-studies-2023-04-12/2023-08-23/
ATTACH;FMTTYPE=image/png:https://curtisbc.org/wp-content/uploads/2020/12/LifeGroups-Restart.png
END:VEVENT
BEGIN:VEVENT
DTSTART;TZID=America/Halifax:20230820T140000
DTEND;TZID=America/Halifax:20230820T160000
DTSTAMP:20260422T074034
CREATED:20230818T002718Z
LAST-MODIFIED:20230818T002718Z
UID:10000678-1692540000-1692547200@curtisbc.org
SUMMARY:Men's Basketball
DESCRIPTION:Calling all men ages 18 and up to join us for a time of fellowship while on the basketball court! Meet at Cheeks Gym (2230 Broad St\, Augusta\, GA 30904) at 2 PM on Sunday\, August 20th. For more information\, contact Pastor James at jchoi@curtisbaptist.org.
URL:https://curtisbc.org/event/mens-basketball-3/
ATTACH;FMTTYPE=image/png:https://curtisbc.org/wp-content/uploads/2023/08/unnamed-95.png
END:VEVENT
BEGIN:VEVENT
DTSTART;TZID=America/Halifax:20230817T183000
DTEND;TZID=America/Halifax:20230817T213000
DTSTAMP:20260422T074034
CREATED:20230727T185051Z
LAST-MODIFIED:20230727T185051Z
UID:10000675-1692297000-1692307800@curtisbc.org
SUMMARY:Third Thursday Singles' Gathering
DESCRIPTION:Our monthly Third Thursday Singles’ Gathering is August 17th at Marie Wilson’s home beginning at 6:30 PM. Please let Marie know you are coming by emailing her at mwilson1010@comcast.net by Tuesday\, August 15th. Hope to see you there!
URL:https://curtisbc.org/event/third-thursday-singles-gathering-3/
ATTACH;FMTTYPE=image/png:https://curtisbc.org/wp-content/uploads/2023/01/Singles-Gathering-No-Date.png
END:VEVENT
BEGIN:VEVENT
DTSTART;TZID=America/Halifax:20230816T173000
DTEND;TZID=America/Halifax:20230816T200000
DTSTAMP:20260422T074034
CREATED:20220112T171023Z
LAST-MODIFIED:20230427T190207Z
UID:10000531-1692207000-1692216000@curtisbc.org
SUMMARY:Wednesday Bible Studies
DESCRIPTION:Join us for our Wednesday Bible studies. There’s something here for everyone!\n\n\nCurtis Kids: The Ark (Birth-4yr) & Nexkid Investigators (k4-5th)\n\n\nCurtis Student Ministry: 5:30 PM – 7:00 PM\n\n\nMen’s Bible Study: 6:00PM – 7:00 PM\n\n\nWomen’s Bible Study: 6:00 PM – 7:00 PM\n\n\nAdult Choir Practice: 7:00 PM – 8:00 PM
URL:https://curtisbc.org/event/wednesday-bible-studies-2023-04-12/2023-08-16/
ATTACH;FMTTYPE=image/png:https://curtisbc.org/wp-content/uploads/2020/12/LifeGroups-Restart.png
END:VEVENT
BEGIN:VEVENT
DTSTART;TZID=America/Halifax:20230813T093000
DTEND;TZID=America/Halifax:20230813T123000
DTSTAMP:20260422T074034
CREATED:20230727T184558Z
LAST-MODIFIED:20230727T184558Z
UID:10000673-1691919000-1691929800@curtisbc.org
SUMMARY:Deaf Worship & Lunch
DESCRIPTION:August 13th at 9:30 am\, Worship & Lunch: Meet in the Deaf Classroom for Worship then join us for our covered dish lunch.
URL:https://curtisbc.org/event/deaf-worship-lunch-13/
ATTACH;FMTTYPE=image/png:https://curtisbc.org/wp-content/uploads/2020/12/deaf-ministry-logo.png
END:VEVENT
BEGIN:VEVENT
DTSTART;TZID=America/Halifax:20230811T183000
DTEND;TZID=America/Halifax:20230811T213000
DTSTAMP:20260422T074034
CREATED:20230727T180833Z
LAST-MODIFIED:20230727T180833Z
UID:10000670-1691778600-1691789400@curtisbc.org
SUMMARY:Ladies' Night Out
DESCRIPTION:Ladies’ Night Out will have their annual Covered Dish and Swim fellowship on Friday\, August 11th at Marie Wilson’s house. Contact Terese Denney to let her know you are planning to attend by August 10th.
URL:https://curtisbc.org/event/ladies-night-out-21/
ATTACH;FMTTYPE=image/png:https://curtisbc.org/wp-content/uploads/2023/07/unnamed-92.png
END:VEVENT
BEGIN:VEVENT
DTSTART;TZID=America/Halifax:20230810T183000
DTEND;TZID=America/Halifax:20230810T203000
DTSTAMP:20260422T074034
CREATED:20230727T184128Z
LAST-MODIFIED:20230727T185800Z
UID:10000672-1691692200-1691699400@curtisbc.org
SUMMARY:CYP Hangout
DESCRIPTION:Join us for our next CYP Hangout on August 10th at 6:30 PM. This will be held off campus. Contact Pastor James with any questions at: jchoi@curtisbaptist.org.
URL:https://curtisbc.org/event/cyp-hangout-21/
ATTACH;FMTTYPE=image/png:https://curtisbc.org/wp-content/uploads/2022/02/CYP-Hangout-James-Choi.png
END:VEVENT
BEGIN:VEVENT
DTSTART;TZID=America/Halifax:20230809T180000
DTEND;TZID=America/Halifax:20230809T190000
DTSTAMP:20260422T074034
CREATED:20230727T180444Z
LAST-MODIFIED:20230727T181136Z
UID:10000669-1691604000-1691607600@curtisbc.org
SUMMARY:Women's Bible Study
DESCRIPTION:On August 9th\, the Women’s Bible Study group will begin a new study – Seeking Him. We will meet in Café 180 on the conference side (right side) at 6 PM and we invite women of all ages to join us! The books are $15 and can be purchased on the first night of the study or you can purchase your book online using this link: SEEKING HIM BOOK. This study will continue through November 1st.
URL:https://curtisbc.org/event/12317/
ATTACH;FMTTYPE=image/png:https://curtisbc.org/wp-content/uploads/2023/07/unnamed-91.png
END:VEVENT
BEGIN:VEVENT
DTSTART;TZID=America/Halifax:20230809T173000
DTEND;TZID=America/Halifax:20230809T200000
DTSTAMP:20260422T074034
CREATED:20220112T171023Z
LAST-MODIFIED:20230427T190207Z
UID:10000530-1691602200-1691611200@curtisbc.org
SUMMARY:Wednesday Bible Studies
DESCRIPTION:Join us for our Wednesday Bible studies. There’s something here for everyone!\n\n\nCurtis Kids: The Ark (Birth-4yr) & Nexkid Investigators (k4-5th)\n\n\nCurtis Student Ministry: 5:30 PM – 7:00 PM\n\n\nMen’s Bible Study: 6:00PM – 7:00 PM\n\n\nWomen’s Bible Study: 6:00 PM – 7:00 PM\n\n\nAdult Choir Practice: 7:00 PM – 8:00 PM
URL:https://curtisbc.org/event/wednesday-bible-studies-2023-04-12/2023-08-09/
ATTACH;FMTTYPE=image/png:https://curtisbc.org/wp-content/uploads/2020/12/LifeGroups-Restart.png
END:VEVENT
BEGIN:VEVENT
DTSTART;TZID=America/Halifax:20230808T110000
DTEND;TZID=America/Halifax:20230808T130000
DTSTAMP:20260422T074034
CREATED:20230720T141955Z
LAST-MODIFIED:20230720T141955Z
UID:10000667-1691492400-1691499600@curtisbc.org
SUMMARY:Happy 39'ers
DESCRIPTION:Our next Happy 39’ers (Senior Adult Group) will be on August 8th at 11 AM in the Choir Room. Please get your RSVP to JanJee by July 30th!
URL:https://curtisbc.org/event/happy-39ers-4/
ATTACH;FMTTYPE=image/png:https://curtisbc.org/wp-content/uploads/2023/07/unnamed-87.png
END:VEVENT
BEGIN:VEVENT
DTSTART;TZID=America/Halifax:20230806T170000
DTEND;TZID=America/Halifax:20230806T180000
DTSTAMP:20260422T074034
CREATED:20230727T175801Z
LAST-MODIFIED:20230727T175801Z
UID:10000668-1691341200-1691344800@curtisbc.org
SUMMARY:Prayer & Praise
DESCRIPTION:Our monthly Prayer & Praise services will start back on August 6th at 5 PM. Join us for a time of praying together as a body of Christ.
URL:https://curtisbc.org/event/prayer-praise-19/
ATTACH;FMTTYPE=image/png:https://curtisbc.org/wp-content/uploads/2023/07/unnamed-90.png
END:VEVENT
BEGIN:VEVENT
DTSTART;TZID=America/Halifax:20230806T090000
DTEND;TZID=America/Halifax:20230806T100000
DTSTAMP:20260422T074034
CREATED:20230803T190502Z
LAST-MODIFIED:20230803T190502Z
UID:10000676-1691312400-1691316000@curtisbc.org
SUMMARY:Promotion Sunday
DESCRIPTION:It’s time to MOVE ON UP! Promotion Sunday is this week and many kids will be movin’ on up to their next class in the Ark\, Curtis Kids\, and CSM. See Susan Schaeffer (Ark)\, Pastor Ben (Curtis Kids)\, or Pastor James (CSM) if you have any questions about class promotion. It’s going to be a great start to a new semester!
URL:https://curtisbc.org/event/promotion-sunday/
ATTACH;FMTTYPE=image/png:https://curtisbc.org/wp-content/uploads/2023/08/unnamed-94.png
END:VEVENT
BEGIN:VEVENT
DTSTART;TZID=America/Halifax:20230802T173000
DTEND;TZID=America/Halifax:20230802T200000
DTSTAMP:20260422T074034
CREATED:20220112T171023Z
LAST-MODIFIED:20230427T190207Z
UID:10000529-1690997400-1691006400@curtisbc.org
SUMMARY:Wednesday Bible Studies
DESCRIPTION:Join us for our Wednesday Bible studies. There’s something here for everyone!\n\n\nCurtis Kids: The Ark (Birth-4yr) & Nexkid Investigators (k4-5th)\n\n\nCurtis Student Ministry: 5:30 PM – 7:00 PM\n\n\nMen’s Bible Study: 6:00PM – 7:00 PM\n\n\nWomen’s Bible Study: 6:00 PM – 7:00 PM\n\n\nAdult Choir Practice: 7:00 PM – 8:00 PM
URL:https://curtisbc.org/event/wednesday-bible-studies-2023-04-12/2023-08-02/
ATTACH;FMTTYPE=image/png:https://curtisbc.org/wp-content/uploads/2020/12/LifeGroups-Restart.png
END:VEVENT
BEGIN:VEVENT
DTSTART;TZID=America/Halifax:20230802T173000
DTEND;TZID=America/Halifax:20230802T190000
DTSTAMP:20260422T074034
CREATED:20230727T181724Z
LAST-MODIFIED:20230727T181724Z
UID:10000671-1690997400-1691002800@curtisbc.org
SUMMARY:NO Wednesday Activities
DESCRIPTION:Just a reminder – we will not have any Wednesday night activities on August 2nd. We will return to our regular activities on August 9th.
URL:https://curtisbc.org/event/no-wednesday-activities/
ATTACH;FMTTYPE=image/png:https://curtisbc.org/wp-content/uploads/2023/07/unnamed-93.png
END:VEVENT
BEGIN:VEVENT
DTSTART;TZID=America/Halifax:20230729T080000
DTEND;TZID=America/Halifax:20230729T120000
DTSTAMP:20260422T074034
CREATED:20230626T191626Z
LAST-MODIFIED:20230626T191626Z
UID:10000665-1690617600-1690632000@curtisbc.org
SUMMARY:Church & School Cleanup Day
DESCRIPTION:Make plans to come and help to clean up and work on different projects around the church/school!
URL:https://curtisbc.org/event/church-school-cleanup-day/
ATTACH;FMTTYPE=image/png:https://curtisbc.org/wp-content/uploads/2023/06/July-29-Cleanup-Day.png
END:VEVENT
BEGIN:VEVENT
DTSTART;TZID=America/Halifax:20230727T183000
DTEND;TZID=America/Halifax:20230727T213000
DTSTAMP:20260422T074034
CREATED:20230626T141519Z
LAST-MODIFIED:20230626T141519Z
UID:10000663-1690482600-1690493400@curtisbc.org
SUMMARY:CYP Hangout
DESCRIPTION:Join us for our next CYP Hangout on July 27th at 6:30 PM. This will be held off campus. Contact Pastor James with any questions at: jchoi@curtisbaptist.org.
URL:https://curtisbc.org/event/cyp-hangout-20/
ATTACH;FMTTYPE=image/png:https://curtisbc.org/wp-content/uploads/2022/02/CYP-Hangout-James-Choi.png
END:VEVENT
BEGIN:VEVENT
DTSTART;TZID=America/Halifax:20230726T173000
DTEND;TZID=America/Halifax:20230726T200000
DTSTAMP:20260422T074034
CREATED:20220112T171023Z
LAST-MODIFIED:20230427T190207Z
UID:10000528-1690392600-1690401600@curtisbc.org
SUMMARY:Wednesday Bible Studies
DESCRIPTION:Join us for our Wednesday Bible studies. There’s something here for everyone!\n\n\nCurtis Kids: The Ark (Birth-4yr) & Nexkid Investigators (k4-5th)\n\n\nCurtis Student Ministry: 5:30 PM – 7:00 PM\n\n\nMen’s Bible Study: 6:00PM – 7:00 PM\n\n\nWomen’s Bible Study: 6:00 PM – 7:00 PM\n\n\nAdult Choir Practice: 7:00 PM – 8:00 PM
URL:https://curtisbc.org/event/wednesday-bible-studies-2023-04-12/2023-07-26/
ATTACH;FMTTYPE=image/png:https://curtisbc.org/wp-content/uploads/2020/12/LifeGroups-Restart.png
END:VEVENT
BEGIN:VEVENT
DTSTART;TZID=America/Halifax:20230723T173000
DTEND;TZID=America/Halifax:20230723T183000
DTSTAMP:20260422T074034
CREATED:20230626T141144Z
LAST-MODIFIED:20230706T163344Z
UID:10000662-1690133400-1690137000@curtisbc.org
SUMMARY:Family Feud with Curtis Kids & CSM Families
DESCRIPTION:All of our Curtis Kids and CSM Families please join for a fun night of games on July 23rd at 5:30PM in the Sanctuary. See Pastor Ben or Pastor James for more details.
URL:https://curtisbc.org/event/family-feud-with-curtis-kids-csm-families/
ATTACH;FMTTYPE=image/png:https://curtisbc.org/wp-content/uploads/2023/06/unnamed-86.png
END:VEVENT
BEGIN:VEVENT
DTSTART;TZID=America/Halifax:20230721T090000
DTEND;TZID=America/Halifax:20230725T120000
DTSTAMP:20260422T074034
CREATED:20230202T152918Z
LAST-MODIFIED:20230626T145027Z
UID:10000635-1689930000-1690286400@curtisbc.org
SUMMARY:Vacation Bible School
DESCRIPTION:VBS will be here soon\, If you are interested in serving at VBS click HERE to sign up. Click HERE to get your kids registered today! If you have any questions contact Pastor Ben at bpalacz@curtisbaptist.org.
URL:https://curtisbc.org/event/vacation-bible-school-2/2023-07-21/
ATTACH;FMTTYPE=image/png:https://curtisbc.org/wp-content/uploads/2023/02/unnamed-76.png
END:VEVENT
BEGIN:VEVENT
DTSTART;TZID=America/Halifax:20230720T183000
DTEND;TZID=America/Halifax:20230720T203000
DTSTAMP:20260422T074034
CREATED:20230626T140242Z
LAST-MODIFIED:20230626T140356Z
UID:10000444-1689877800-1689885000@curtisbc.org
SUMMARY:Third Thursday Singles' Gathering
DESCRIPTION:Make plans to attend our Third Thursday Singles’ Gathering at Marie Wilson’s home on July 20th at 6:30PM. Please let Marie know you will be coming by July 18th @ mwilson1010@comcast.net.
URL:https://curtisbc.org/event/third-thursday-singles-gathering-2/
ATTACH;FMTTYPE=image/png:https://curtisbc.org/wp-content/uploads/2023/01/Singles-Gathering-No-Date.png
END:VEVENT
BEGIN:VEVENT
DTSTART;TZID=America/Halifax:20230719T173000
DTEND;TZID=America/Halifax:20230719T200000
DTSTAMP:20260422T074034
CREATED:20220112T171023Z
LAST-MODIFIED:20230427T190207Z
UID:10000527-1689787800-1689796800@curtisbc.org
SUMMARY:Wednesday Bible Studies
DESCRIPTION:Join us for our Wednesday Bible studies. There’s something here for everyone!\n\n\nCurtis Kids: The Ark (Birth-4yr) & Nexkid Investigators (k4-5th)\n\n\nCurtis Student Ministry: 5:30 PM – 7:00 PM\n\n\nMen’s Bible Study: 6:00PM – 7:00 PM\n\n\nWomen’s Bible Study: 6:00 PM – 7:00 PM\n\n\nAdult Choir Practice: 7:00 PM – 8:00 PM
URL:https://curtisbc.org/event/wednesday-bible-studies-2023-04-12/2023-07-19/
ATTACH;FMTTYPE=image/png:https://curtisbc.org/wp-content/uploads/2020/12/LifeGroups-Restart.png
END:VEVENT
BEGIN:VEVENT
DTSTART;TZID=America/Halifax:20230717T090000
DTEND;TZID=America/Halifax:20230721T120000
DTSTAMP:20260422T074034
CREATED:20230202T152918Z
LAST-MODIFIED:20230626T145027Z
UID:10000634-1689584400-1689940800@curtisbc.org
SUMMARY:Vacation Bible School
DESCRIPTION:VBS will be here soon\, If you are interested in serving at VBS click HERE to sign up. Click HERE to get your kids registered today! If you have any questions contact Pastor Ben at bpalacz@curtisbaptist.org.
URL:https://curtisbc.org/event/vacation-bible-school-2/2023-07-17/
ATTACH;FMTTYPE=image/png:https://curtisbc.org/wp-content/uploads/2023/02/unnamed-76.png
END:VEVENT
BEGIN:VEVENT
DTSTART;TZID=America/Halifax:20230716T093000
DTEND;TZID=America/Halifax:20230716T120000
DTSTAMP:20260422T074034
CREATED:20230626T135540Z
LAST-MODIFIED:20230626T135540Z
UID:10000442-1689499800-1689508800@curtisbc.org
SUMMARY:Deaf Worship & Covered Dish Lunch
DESCRIPTION:Our next Deaf Worship & Covered Dish Lunch will be held on July 16th beginning at 9:30AM. Make plans to join us. We will meet in the Fireside Room.
URL:https://curtisbc.org/event/deaf-worship-covered-dish-lunch-5/
ATTACH;FMTTYPE=image/png:https://curtisbc.org/wp-content/uploads/2020/12/deaf-ministry-logo.png
END:VEVENT
BEGIN:VEVENT
DTSTART;TZID=America/Halifax:20230713T183000
DTEND;TZID=America/Halifax:20230713T213000
DTSTAMP:20260422T074034
CREATED:20230626T135046Z
LAST-MODIFIED:20230626T135046Z
UID:10000440-1689273000-1689283800@curtisbc.org
SUMMARY:CYP Hangout
DESCRIPTION:Join us for our CYP Hangout on July 13th at 6:30 PM off campus. Contact Pastor James for more info @ jchoi@curtisbaptist.org.
URL:https://curtisbc.org/event/cyp-hangout-19/
ATTACH;FMTTYPE=image/png:https://curtisbc.org/wp-content/uploads/2022/02/CYP-Hangout-James-Choi.png
END:VEVENT
BEGIN:VEVENT
DTSTART;TZID=America/Halifax:20230712T173000
DTEND;TZID=America/Halifax:20230712T200000
DTSTAMP:20260422T074034
CREATED:20220112T171023Z
LAST-MODIFIED:20230427T190207Z
UID:10000526-1689183000-1689192000@curtisbc.org
SUMMARY:Wednesday Bible Studies
DESCRIPTION:Join us for our Wednesday Bible studies. There’s something here for everyone!\n\n\nCurtis Kids: The Ark (Birth-4yr) & Nexkid Investigators (k4-5th)\n\n\nCurtis Student Ministry: 5:30 PM – 7:00 PM\n\n\nMen’s Bible Study: 6:00PM – 7:00 PM\n\n\nWomen’s Bible Study: 6:00 PM – 7:00 PM\n\n\nAdult Choir Practice: 7:00 PM – 8:00 PM
URL:https://curtisbc.org/event/wednesday-bible-studies-2023-04-12/2023-07-12/
ATTACH;FMTTYPE=image/png:https://curtisbc.org/wp-content/uploads/2020/12/LifeGroups-Restart.png
END:VEVENT
BEGIN:VEVENT
DTSTART;TZID=America/Halifax:20230712T170000
DTEND;TZID=America/Halifax:20230712T180000
DTSTAMP:20260422T074034
CREATED:20230626T143116Z
LAST-MODIFIED:20230626T143116Z
UID:10000664-1689181200-1689184800@curtisbc.org
SUMMARY:VBS Training
DESCRIPTION:All volunteers make plans to join us for training as we prepare for VBS. Meet in Room B105 on July12th at 5PM. Contact Pastor Ben with any questions at bpalacz@curtisbaptist.org.
URL:https://curtisbc.org/event/vbs-training/
ATTACH;FMTTYPE=image/png:https://curtisbc.org/wp-content/uploads/2023/02/unnamed-76.png
END:VEVENT
END:VCALENDAR