BEGIN:VCALENDAR
VERSION:2.0
PRODID:-//Curtis Baptist Church - ECPv6.15.20//NONSGML v1.0//EN
CALSCALE:GREGORIAN
METHOD:PUBLISH
X-WR-CALNAME:Curtis Baptist Church
X-ORIGINAL-URL:https://curtisbc.org
X-WR-CALDESC:Events for Curtis Baptist Church
REFRESH-INTERVAL;VALUE=DURATION:PT1H
X-Robots-Tag:noindex
X-PUBLISHED-TTL:PT1H
BEGIN:VTIMEZONE
TZID:America/Halifax
BEGIN:DAYLIGHT
TZOFFSETFROM:-0400
TZOFFSETTO:-0300
TZNAME:ADT
DTSTART:20270314T060000
END:DAYLIGHT
BEGIN:STANDARD
TZOFFSETFROM:-0300
TZOFFSETTO:-0400
TZNAME:AST
DTSTART:20271107T050000
END:STANDARD
BEGIN:DAYLIGHT
TZOFFSETFROM:-0400
TZOFFSETTO:-0300
TZNAME:ADT
DTSTART:20280312T060000
END:DAYLIGHT
BEGIN:STANDARD
TZOFFSETFROM:-0300
TZOFFSETTO:-0400
TZNAME:AST
DTSTART:20281105T050000
END:STANDARD
BEGIN:DAYLIGHT
TZOFFSETFROM:-0400
TZOFFSETTO:-0300
TZNAME:ADT
DTSTART:20290311T060000
END:DAYLIGHT
BEGIN:STANDARD
TZOFFSETFROM:-0300
TZOFFSETTO:-0400
TZNAME:AST
DTSTART:20291104T050000
END:STANDARD
END:VTIMEZONE
BEGIN:VEVENT
DTSTART;TZID=America/Halifax:20280507T101500
DTEND;TZID=America/Halifax:20280507T113000
DTSTAMP:20260419T161621
CREATED:20241219T160516Z
LAST-MODIFIED:20241219T161604Z
UID:10001109-1841307300-1841311800@curtisbc.org
SUMMARY:Sunday Service
DESCRIPTION:Join us every Sunday for Worship at 10:15AM. You can come in person or watch on our livestream!\nChild care is provided every Sunday.\nHere is a link to our Youtube page to join us via Livestream https://www.youtube.com/user/CurtisChurchTV
URL:https://curtisbc.org/event/sunday-service-5/2028-05-07/
ATTACH;FMTTYPE=image/png:https://curtisbc.org/wp-content/uploads/2021/11/1440-×-810-px.png
END:VEVENT
BEGIN:VEVENT
DTSTART;TZID=America/Halifax:20280510T173000
DTEND;TZID=America/Halifax:20280510T200000
DTSTAMP:20260419T161621
CREATED:20260219T142808Z
LAST-MODIFIED:20260219T142809Z
UID:10001369-1841592600-1841601600@curtisbc.org
SUMMARY:Wednesday Bible Studies
DESCRIPTION:Join us for our Wednesday Bible studies. There’s something for everyone!\n\n\nCurtis Kids: The Ark (Birth-4yr) & Nexkid Investigators (k4-5th) 6:00 PM – 7:00 PM\n\n\nCurtis Student Ministry: (6th-12th) 5:30 PM – 7:00 PM\n\n\nMen’s Bible Study: 6:00 PM – 7:00 PM\n\n\nWomen’s Bible Study: 6:00 PM – 7:00 PM\n\n\nAdult Choir Practice: 7:00 PM – 8:00 PM
URL:https://curtisbc.org/event/wednesday-bible-studies-4-9/2028-05-10/
ATTACH;FMTTYPE=image/png:https://curtisbc.org/wp-content/uploads/2020/12/LifeGroups-Restart.png
END:VEVENT
BEGIN:VEVENT
DTSTART;TZID=America/Halifax:20280514T101500
DTEND;TZID=America/Halifax:20280514T113000
DTSTAMP:20260419T161621
CREATED:20241219T160516Z
LAST-MODIFIED:20241219T161604Z
UID:10001110-1841912100-1841916600@curtisbc.org
SUMMARY:Sunday Service
DESCRIPTION:Join us every Sunday for Worship at 10:15AM. You can come in person or watch on our livestream!\nChild care is provided every Sunday.\nHere is a link to our Youtube page to join us via Livestream https://www.youtube.com/user/CurtisChurchTV
URL:https://curtisbc.org/event/sunday-service-5/2028-05-14/
ATTACH;FMTTYPE=image/png:https://curtisbc.org/wp-content/uploads/2021/11/1440-×-810-px.png
END:VEVENT
BEGIN:VEVENT
DTSTART;TZID=America/Halifax:20280517T173000
DTEND;TZID=America/Halifax:20280517T200000
DTSTAMP:20260419T161621
CREATED:20260219T142808Z
LAST-MODIFIED:20260219T142809Z
UID:10001370-1842197400-1842206400@curtisbc.org
SUMMARY:Wednesday Bible Studies
DESCRIPTION:Join us for our Wednesday Bible studies. There’s something for everyone!\n\n\nCurtis Kids: The Ark (Birth-4yr) & Nexkid Investigators (k4-5th) 6:00 PM – 7:00 PM\n\n\nCurtis Student Ministry: (6th-12th) 5:30 PM – 7:00 PM\n\n\nMen’s Bible Study: 6:00 PM – 7:00 PM\n\n\nWomen’s Bible Study: 6:00 PM – 7:00 PM\n\n\nAdult Choir Practice: 7:00 PM – 8:00 PM
URL:https://curtisbc.org/event/wednesday-bible-studies-4-9/2028-05-17/
ATTACH;FMTTYPE=image/png:https://curtisbc.org/wp-content/uploads/2020/12/LifeGroups-Restart.png
END:VEVENT
BEGIN:VEVENT
DTSTART;TZID=America/Halifax:20280521T101500
DTEND;TZID=America/Halifax:20280521T113000
DTSTAMP:20260419T161621
CREATED:20241219T160516Z
LAST-MODIFIED:20241219T161604Z
UID:10001111-1842516900-1842521400@curtisbc.org
SUMMARY:Sunday Service
DESCRIPTION:Join us every Sunday for Worship at 10:15AM. You can come in person or watch on our livestream!\nChild care is provided every Sunday.\nHere is a link to our Youtube page to join us via Livestream https://www.youtube.com/user/CurtisChurchTV
URL:https://curtisbc.org/event/sunday-service-5/2028-05-21/
ATTACH;FMTTYPE=image/png:https://curtisbc.org/wp-content/uploads/2021/11/1440-×-810-px.png
END:VEVENT
BEGIN:VEVENT
DTSTART;TZID=America/Halifax:20280524T173000
DTEND;TZID=America/Halifax:20280524T200000
DTSTAMP:20260419T161621
CREATED:20260219T142808Z
LAST-MODIFIED:20260219T142809Z
UID:10001371-1842802200-1842811200@curtisbc.org
SUMMARY:Wednesday Bible Studies
DESCRIPTION:Join us for our Wednesday Bible studies. There’s something for everyone!\n\n\nCurtis Kids: The Ark (Birth-4yr) & Nexkid Investigators (k4-5th) 6:00 PM – 7:00 PM\n\n\nCurtis Student Ministry: (6th-12th) 5:30 PM – 7:00 PM\n\n\nMen’s Bible Study: 6:00 PM – 7:00 PM\n\n\nWomen’s Bible Study: 6:00 PM – 7:00 PM\n\n\nAdult Choir Practice: 7:00 PM – 8:00 PM
URL:https://curtisbc.org/event/wednesday-bible-studies-4-9/2028-05-24/
ATTACH;FMTTYPE=image/png:https://curtisbc.org/wp-content/uploads/2020/12/LifeGroups-Restart.png
END:VEVENT
BEGIN:VEVENT
DTSTART;TZID=America/Halifax:20280528T101500
DTEND;TZID=America/Halifax:20280528T113000
DTSTAMP:20260419T161621
CREATED:20241219T160516Z
LAST-MODIFIED:20241219T161604Z
UID:10001112-1843121700-1843126200@curtisbc.org
SUMMARY:Sunday Service
DESCRIPTION:Join us every Sunday for Worship at 10:15AM. You can come in person or watch on our livestream!\nChild care is provided every Sunday.\nHere is a link to our Youtube page to join us via Livestream https://www.youtube.com/user/CurtisChurchTV
URL:https://curtisbc.org/event/sunday-service-5/2028-05-28/
ATTACH;FMTTYPE=image/png:https://curtisbc.org/wp-content/uploads/2021/11/1440-×-810-px.png
END:VEVENT
BEGIN:VEVENT
DTSTART;TZID=America/Halifax:20280531T173000
DTEND;TZID=America/Halifax:20280531T200000
DTSTAMP:20260419T161621
CREATED:20260219T142808Z
LAST-MODIFIED:20260219T142809Z
UID:10001372-1843407000-1843416000@curtisbc.org
SUMMARY:Wednesday Bible Studies
DESCRIPTION:Join us for our Wednesday Bible studies. There’s something for everyone!\n\n\nCurtis Kids: The Ark (Birth-4yr) & Nexkid Investigators (k4-5th) 6:00 PM – 7:00 PM\n\n\nCurtis Student Ministry: (6th-12th) 5:30 PM – 7:00 PM\n\n\nMen’s Bible Study: 6:00 PM – 7:00 PM\n\n\nWomen’s Bible Study: 6:00 PM – 7:00 PM\n\n\nAdult Choir Practice: 7:00 PM – 8:00 PM
URL:https://curtisbc.org/event/wednesday-bible-studies-4-9/2028-05-31/
ATTACH;FMTTYPE=image/png:https://curtisbc.org/wp-content/uploads/2020/12/LifeGroups-Restart.png
END:VEVENT
BEGIN:VEVENT
DTSTART;TZID=America/Halifax:20280604T101500
DTEND;TZID=America/Halifax:20280604T113000
DTSTAMP:20260419T161621
CREATED:20241219T160516Z
LAST-MODIFIED:20241219T161604Z
UID:10001113-1843726500-1843731000@curtisbc.org
SUMMARY:Sunday Service
DESCRIPTION:Join us every Sunday for Worship at 10:15AM. You can come in person or watch on our livestream!\nChild care is provided every Sunday.\nHere is a link to our Youtube page to join us via Livestream https://www.youtube.com/user/CurtisChurchTV
URL:https://curtisbc.org/event/sunday-service-5/2028-06-04/
ATTACH;FMTTYPE=image/png:https://curtisbc.org/wp-content/uploads/2021/11/1440-×-810-px.png
END:VEVENT
BEGIN:VEVENT
DTSTART;TZID=America/Halifax:20280607T173000
DTEND;TZID=America/Halifax:20280607T200000
DTSTAMP:20260419T161621
CREATED:20260219T142808Z
LAST-MODIFIED:20260219T142809Z
UID:10001373-1844011800-1844020800@curtisbc.org
SUMMARY:Wednesday Bible Studies
DESCRIPTION:Join us for our Wednesday Bible studies. There’s something for everyone!\n\n\nCurtis Kids: The Ark (Birth-4yr) & Nexkid Investigators (k4-5th) 6:00 PM – 7:00 PM\n\n\nCurtis Student Ministry: (6th-12th) 5:30 PM – 7:00 PM\n\n\nMen’s Bible Study: 6:00 PM – 7:00 PM\n\n\nWomen’s Bible Study: 6:00 PM – 7:00 PM\n\n\nAdult Choir Practice: 7:00 PM – 8:00 PM
URL:https://curtisbc.org/event/wednesday-bible-studies-4-9/2028-06-07/
ATTACH;FMTTYPE=image/png:https://curtisbc.org/wp-content/uploads/2020/12/LifeGroups-Restart.png
END:VEVENT
BEGIN:VEVENT
DTSTART;TZID=America/Halifax:20280611T101500
DTEND;TZID=America/Halifax:20280611T113000
DTSTAMP:20260419T161621
CREATED:20241219T160516Z
LAST-MODIFIED:20241219T161604Z
UID:10001114-1844331300-1844335800@curtisbc.org
SUMMARY:Sunday Service
DESCRIPTION:Join us every Sunday for Worship at 10:15AM. You can come in person or watch on our livestream!\nChild care is provided every Sunday.\nHere is a link to our Youtube page to join us via Livestream https://www.youtube.com/user/CurtisChurchTV
URL:https://curtisbc.org/event/sunday-service-5/2028-06-11/
ATTACH;FMTTYPE=image/png:https://curtisbc.org/wp-content/uploads/2021/11/1440-×-810-px.png
END:VEVENT
BEGIN:VEVENT
DTSTART;TZID=America/Halifax:20280614T173000
DTEND;TZID=America/Halifax:20280614T200000
DTSTAMP:20260419T161621
CREATED:20260219T142808Z
LAST-MODIFIED:20260219T142809Z
UID:10001374-1844616600-1844625600@curtisbc.org
SUMMARY:Wednesday Bible Studies
DESCRIPTION:Join us for our Wednesday Bible studies. There’s something for everyone!\n\n\nCurtis Kids: The Ark (Birth-4yr) & Nexkid Investigators (k4-5th) 6:00 PM – 7:00 PM\n\n\nCurtis Student Ministry: (6th-12th) 5:30 PM – 7:00 PM\n\n\nMen’s Bible Study: 6:00 PM – 7:00 PM\n\n\nWomen’s Bible Study: 6:00 PM – 7:00 PM\n\n\nAdult Choir Practice: 7:00 PM – 8:00 PM
URL:https://curtisbc.org/event/wednesday-bible-studies-4-9/2028-06-14/
ATTACH;FMTTYPE=image/png:https://curtisbc.org/wp-content/uploads/2020/12/LifeGroups-Restart.png
END:VEVENT
BEGIN:VEVENT
DTSTART;TZID=America/Halifax:20280618T101500
DTEND;TZID=America/Halifax:20280618T113000
DTSTAMP:20260419T161621
CREATED:20241219T160516Z
LAST-MODIFIED:20241219T161604Z
UID:10001115-1844936100-1844940600@curtisbc.org
SUMMARY:Sunday Service
DESCRIPTION:Join us every Sunday for Worship at 10:15AM. You can come in person or watch on our livestream!\nChild care is provided every Sunday.\nHere is a link to our Youtube page to join us via Livestream https://www.youtube.com/user/CurtisChurchTV
URL:https://curtisbc.org/event/sunday-service-5/2028-06-18/
ATTACH;FMTTYPE=image/png:https://curtisbc.org/wp-content/uploads/2021/11/1440-×-810-px.png
END:VEVENT
BEGIN:VEVENT
DTSTART;TZID=America/Halifax:20280621T173000
DTEND;TZID=America/Halifax:20280621T200000
DTSTAMP:20260419T161621
CREATED:20260219T142808Z
LAST-MODIFIED:20260219T142809Z
UID:10001375-1845221400-1845230400@curtisbc.org
SUMMARY:Wednesday Bible Studies
DESCRIPTION:Join us for our Wednesday Bible studies. There’s something for everyone!\n\n\nCurtis Kids: The Ark (Birth-4yr) & Nexkid Investigators (k4-5th) 6:00 PM – 7:00 PM\n\n\nCurtis Student Ministry: (6th-12th) 5:30 PM – 7:00 PM\n\n\nMen’s Bible Study: 6:00 PM – 7:00 PM\n\n\nWomen’s Bible Study: 6:00 PM – 7:00 PM\n\n\nAdult Choir Practice: 7:00 PM – 8:00 PM
URL:https://curtisbc.org/event/wednesday-bible-studies-4-9/2028-06-21/
ATTACH;FMTTYPE=image/png:https://curtisbc.org/wp-content/uploads/2020/12/LifeGroups-Restart.png
END:VEVENT
BEGIN:VEVENT
DTSTART;TZID=America/Halifax:20280625T101500
DTEND;TZID=America/Halifax:20280625T113000
DTSTAMP:20260419T161621
CREATED:20241219T160516Z
LAST-MODIFIED:20241219T161604Z
UID:10001116-1845540900-1845545400@curtisbc.org
SUMMARY:Sunday Service
DESCRIPTION:Join us every Sunday for Worship at 10:15AM. You can come in person or watch on our livestream!\nChild care is provided every Sunday.\nHere is a link to our Youtube page to join us via Livestream https://www.youtube.com/user/CurtisChurchTV
URL:https://curtisbc.org/event/sunday-service-5/2028-06-25/
ATTACH;FMTTYPE=image/png:https://curtisbc.org/wp-content/uploads/2021/11/1440-×-810-px.png
END:VEVENT
BEGIN:VEVENT
DTSTART;TZID=America/Halifax:20280628T173000
DTEND;TZID=America/Halifax:20280628T200000
DTSTAMP:20260419T161621
CREATED:20260219T142808Z
LAST-MODIFIED:20260219T142809Z
UID:10001376-1845826200-1845835200@curtisbc.org
SUMMARY:Wednesday Bible Studies
DESCRIPTION:Join us for our Wednesday Bible studies. There’s something for everyone!\n\n\nCurtis Kids: The Ark (Birth-4yr) & Nexkid Investigators (k4-5th) 6:00 PM – 7:00 PM\n\n\nCurtis Student Ministry: (6th-12th) 5:30 PM – 7:00 PM\n\n\nMen’s Bible Study: 6:00 PM – 7:00 PM\n\n\nWomen’s Bible Study: 6:00 PM – 7:00 PM\n\n\nAdult Choir Practice: 7:00 PM – 8:00 PM
URL:https://curtisbc.org/event/wednesday-bible-studies-4-9/2028-06-28/
ATTACH;FMTTYPE=image/png:https://curtisbc.org/wp-content/uploads/2020/12/LifeGroups-Restart.png
END:VEVENT
BEGIN:VEVENT
DTSTART;TZID=America/Halifax:20280702T101500
DTEND;TZID=America/Halifax:20280702T113000
DTSTAMP:20260419T161621
CREATED:20241219T160516Z
LAST-MODIFIED:20241219T161604Z
UID:10001117-1846145700-1846150200@curtisbc.org
SUMMARY:Sunday Service
DESCRIPTION:Join us every Sunday for Worship at 10:15AM. You can come in person or watch on our livestream!\nChild care is provided every Sunday.\nHere is a link to our Youtube page to join us via Livestream https://www.youtube.com/user/CurtisChurchTV
URL:https://curtisbc.org/event/sunday-service-5/2028-07-02/
ATTACH;FMTTYPE=image/png:https://curtisbc.org/wp-content/uploads/2021/11/1440-×-810-px.png
END:VEVENT
BEGIN:VEVENT
DTSTART;TZID=America/Halifax:20280705T173000
DTEND;TZID=America/Halifax:20280705T200000
DTSTAMP:20260419T161621
CREATED:20260219T142808Z
LAST-MODIFIED:20260219T142809Z
UID:10001377-1846431000-1846440000@curtisbc.org
SUMMARY:Wednesday Bible Studies
DESCRIPTION:Join us for our Wednesday Bible studies. There’s something for everyone!\n\n\nCurtis Kids: The Ark (Birth-4yr) & Nexkid Investigators (k4-5th) 6:00 PM – 7:00 PM\n\n\nCurtis Student Ministry: (6th-12th) 5:30 PM – 7:00 PM\n\n\nMen’s Bible Study: 6:00 PM – 7:00 PM\n\n\nWomen’s Bible Study: 6:00 PM – 7:00 PM\n\n\nAdult Choir Practice: 7:00 PM – 8:00 PM
URL:https://curtisbc.org/event/wednesday-bible-studies-4-9/2028-07-05/
ATTACH;FMTTYPE=image/png:https://curtisbc.org/wp-content/uploads/2020/12/LifeGroups-Restart.png
END:VEVENT
BEGIN:VEVENT
DTSTART;TZID=America/Halifax:20280709T101500
DTEND;TZID=America/Halifax:20280709T113000
DTSTAMP:20260419T161621
CREATED:20241219T160516Z
LAST-MODIFIED:20241219T161604Z
UID:10001118-1846750500-1846755000@curtisbc.org
SUMMARY:Sunday Service
DESCRIPTION:Join us every Sunday for Worship at 10:15AM. You can come in person or watch on our livestream!\nChild care is provided every Sunday.\nHere is a link to our Youtube page to join us via Livestream https://www.youtube.com/user/CurtisChurchTV
URL:https://curtisbc.org/event/sunday-service-5/2028-07-09/
ATTACH;FMTTYPE=image/png:https://curtisbc.org/wp-content/uploads/2021/11/1440-×-810-px.png
END:VEVENT
BEGIN:VEVENT
DTSTART;TZID=America/Halifax:20280712T173000
DTEND;TZID=America/Halifax:20280712T200000
DTSTAMP:20260419T161621
CREATED:20260219T142808Z
LAST-MODIFIED:20260219T142809Z
UID:10001378-1847035800-1847044800@curtisbc.org
SUMMARY:Wednesday Bible Studies
DESCRIPTION:Join us for our Wednesday Bible studies. There’s something for everyone!\n\n\nCurtis Kids: The Ark (Birth-4yr) & Nexkid Investigators (k4-5th) 6:00 PM – 7:00 PM\n\n\nCurtis Student Ministry: (6th-12th) 5:30 PM – 7:00 PM\n\n\nMen’s Bible Study: 6:00 PM – 7:00 PM\n\n\nWomen’s Bible Study: 6:00 PM – 7:00 PM\n\n\nAdult Choir Practice: 7:00 PM – 8:00 PM
URL:https://curtisbc.org/event/wednesday-bible-studies-4-9/2028-07-12/
ATTACH;FMTTYPE=image/png:https://curtisbc.org/wp-content/uploads/2020/12/LifeGroups-Restart.png
END:VEVENT
BEGIN:VEVENT
DTSTART;TZID=America/Halifax:20280716T101500
DTEND;TZID=America/Halifax:20280716T113000
DTSTAMP:20260419T161621
CREATED:20241219T160516Z
LAST-MODIFIED:20241219T161604Z
UID:10001119-1847355300-1847359800@curtisbc.org
SUMMARY:Sunday Service
DESCRIPTION:Join us every Sunday for Worship at 10:15AM. You can come in person or watch on our livestream!\nChild care is provided every Sunday.\nHere is a link to our Youtube page to join us via Livestream https://www.youtube.com/user/CurtisChurchTV
URL:https://curtisbc.org/event/sunday-service-5/2028-07-16/
ATTACH;FMTTYPE=image/png:https://curtisbc.org/wp-content/uploads/2021/11/1440-×-810-px.png
END:VEVENT
BEGIN:VEVENT
DTSTART;TZID=America/Halifax:20280719T173000
DTEND;TZID=America/Halifax:20280719T200000
DTSTAMP:20260419T161621
CREATED:20260219T142808Z
LAST-MODIFIED:20260219T142809Z
UID:10001379-1847640600-1847649600@curtisbc.org
SUMMARY:Wednesday Bible Studies
DESCRIPTION:Join us for our Wednesday Bible studies. There’s something for everyone!\n\n\nCurtis Kids: The Ark (Birth-4yr) & Nexkid Investigators (k4-5th) 6:00 PM – 7:00 PM\n\n\nCurtis Student Ministry: (6th-12th) 5:30 PM – 7:00 PM\n\n\nMen’s Bible Study: 6:00 PM – 7:00 PM\n\n\nWomen’s Bible Study: 6:00 PM – 7:00 PM\n\n\nAdult Choir Practice: 7:00 PM – 8:00 PM
URL:https://curtisbc.org/event/wednesday-bible-studies-4-9/2028-07-19/
ATTACH;FMTTYPE=image/png:https://curtisbc.org/wp-content/uploads/2020/12/LifeGroups-Restart.png
END:VEVENT
BEGIN:VEVENT
DTSTART;TZID=America/Halifax:20280723T101500
DTEND;TZID=America/Halifax:20280723T113000
DTSTAMP:20260419T161621
CREATED:20241219T160516Z
LAST-MODIFIED:20241219T161604Z
UID:10001120-1847960100-1847964600@curtisbc.org
SUMMARY:Sunday Service
DESCRIPTION:Join us every Sunday for Worship at 10:15AM. You can come in person or watch on our livestream!\nChild care is provided every Sunday.\nHere is a link to our Youtube page to join us via Livestream https://www.youtube.com/user/CurtisChurchTV
URL:https://curtisbc.org/event/sunday-service-5/2028-07-23/
ATTACH;FMTTYPE=image/png:https://curtisbc.org/wp-content/uploads/2021/11/1440-×-810-px.png
END:VEVENT
BEGIN:VEVENT
DTSTART;TZID=America/Halifax:20280726T173000
DTEND;TZID=America/Halifax:20280726T200000
DTSTAMP:20260419T161621
CREATED:20260219T142808Z
LAST-MODIFIED:20260219T142809Z
UID:10001380-1848245400-1848254400@curtisbc.org
SUMMARY:Wednesday Bible Studies
DESCRIPTION:Join us for our Wednesday Bible studies. There’s something for everyone!\n\n\nCurtis Kids: The Ark (Birth-4yr) & Nexkid Investigators (k4-5th) 6:00 PM – 7:00 PM\n\n\nCurtis Student Ministry: (6th-12th) 5:30 PM – 7:00 PM\n\n\nMen’s Bible Study: 6:00 PM – 7:00 PM\n\n\nWomen’s Bible Study: 6:00 PM – 7:00 PM\n\n\nAdult Choir Practice: 7:00 PM – 8:00 PM
URL:https://curtisbc.org/event/wednesday-bible-studies-4-9/2028-07-26/
ATTACH;FMTTYPE=image/png:https://curtisbc.org/wp-content/uploads/2020/12/LifeGroups-Restart.png
END:VEVENT
BEGIN:VEVENT
DTSTART;TZID=America/Halifax:20280730T101500
DTEND;TZID=America/Halifax:20280730T113000
DTSTAMP:20260419T161621
CREATED:20241219T160516Z
LAST-MODIFIED:20241219T161604Z
UID:10001121-1848564900-1848569400@curtisbc.org
SUMMARY:Sunday Service
DESCRIPTION:Join us every Sunday for Worship at 10:15AM. You can come in person or watch on our livestream!\nChild care is provided every Sunday.\nHere is a link to our Youtube page to join us via Livestream https://www.youtube.com/user/CurtisChurchTV
URL:https://curtisbc.org/event/sunday-service-5/2028-07-30/
ATTACH;FMTTYPE=image/png:https://curtisbc.org/wp-content/uploads/2021/11/1440-×-810-px.png
END:VEVENT
BEGIN:VEVENT
DTSTART;TZID=America/Halifax:20280802T173000
DTEND;TZID=America/Halifax:20280802T200000
DTSTAMP:20260419T161621
CREATED:20260219T142808Z
LAST-MODIFIED:20260219T142809Z
UID:10001381-1848850200-1848859200@curtisbc.org
SUMMARY:Wednesday Bible Studies
DESCRIPTION:Join us for our Wednesday Bible studies. There’s something for everyone!\n\n\nCurtis Kids: The Ark (Birth-4yr) & Nexkid Investigators (k4-5th) 6:00 PM – 7:00 PM\n\n\nCurtis Student Ministry: (6th-12th) 5:30 PM – 7:00 PM\n\n\nMen’s Bible Study: 6:00 PM – 7:00 PM\n\n\nWomen’s Bible Study: 6:00 PM – 7:00 PM\n\n\nAdult Choir Practice: 7:00 PM – 8:00 PM
URL:https://curtisbc.org/event/wednesday-bible-studies-4-9/2028-08-02/
ATTACH;FMTTYPE=image/png:https://curtisbc.org/wp-content/uploads/2020/12/LifeGroups-Restart.png
END:VEVENT
BEGIN:VEVENT
DTSTART;TZID=America/Halifax:20280806T101500
DTEND;TZID=America/Halifax:20280806T113000
DTSTAMP:20260419T161621
CREATED:20241219T160516Z
LAST-MODIFIED:20241219T161604Z
UID:10001122-1849169700-1849174200@curtisbc.org
SUMMARY:Sunday Service
DESCRIPTION:Join us every Sunday for Worship at 10:15AM. You can come in person or watch on our livestream!\nChild care is provided every Sunday.\nHere is a link to our Youtube page to join us via Livestream https://www.youtube.com/user/CurtisChurchTV
URL:https://curtisbc.org/event/sunday-service-5/2028-08-06/
ATTACH;FMTTYPE=image/png:https://curtisbc.org/wp-content/uploads/2021/11/1440-×-810-px.png
END:VEVENT
BEGIN:VEVENT
DTSTART;TZID=America/Halifax:20280809T173000
DTEND;TZID=America/Halifax:20280809T200000
DTSTAMP:20260419T161621
CREATED:20260219T142808Z
LAST-MODIFIED:20260219T142809Z
UID:10001382-1849455000-1849464000@curtisbc.org
SUMMARY:Wednesday Bible Studies
DESCRIPTION:Join us for our Wednesday Bible studies. There’s something for everyone!\n\n\nCurtis Kids: The Ark (Birth-4yr) & Nexkid Investigators (k4-5th) 6:00 PM – 7:00 PM\n\n\nCurtis Student Ministry: (6th-12th) 5:30 PM – 7:00 PM\n\n\nMen’s Bible Study: 6:00 PM – 7:00 PM\n\n\nWomen’s Bible Study: 6:00 PM – 7:00 PM\n\n\nAdult Choir Practice: 7:00 PM – 8:00 PM
URL:https://curtisbc.org/event/wednesday-bible-studies-4-9/2028-08-09/
ATTACH;FMTTYPE=image/png:https://curtisbc.org/wp-content/uploads/2020/12/LifeGroups-Restart.png
END:VEVENT
BEGIN:VEVENT
DTSTART;TZID=America/Halifax:20280813T101500
DTEND;TZID=America/Halifax:20280813T113000
DTSTAMP:20260419T161621
CREATED:20241219T160516Z
LAST-MODIFIED:20241219T161604Z
UID:10001123-1849774500-1849779000@curtisbc.org
SUMMARY:Sunday Service
DESCRIPTION:Join us every Sunday for Worship at 10:15AM. You can come in person or watch on our livestream!\nChild care is provided every Sunday.\nHere is a link to our Youtube page to join us via Livestream https://www.youtube.com/user/CurtisChurchTV
URL:https://curtisbc.org/event/sunday-service-5/2028-08-13/
ATTACH;FMTTYPE=image/png:https://curtisbc.org/wp-content/uploads/2021/11/1440-×-810-px.png
END:VEVENT
BEGIN:VEVENT
DTSTART;TZID=America/Halifax:20280816T173000
DTEND;TZID=America/Halifax:20280816T200000
DTSTAMP:20260419T161621
CREATED:20260219T142808Z
LAST-MODIFIED:20260219T142809Z
UID:10001383-1850059800-1850068800@curtisbc.org
SUMMARY:Wednesday Bible Studies
DESCRIPTION:Join us for our Wednesday Bible studies. There’s something for everyone!\n\n\nCurtis Kids: The Ark (Birth-4yr) & Nexkid Investigators (k4-5th) 6:00 PM – 7:00 PM\n\n\nCurtis Student Ministry: (6th-12th) 5:30 PM – 7:00 PM\n\n\nMen’s Bible Study: 6:00 PM – 7:00 PM\n\n\nWomen’s Bible Study: 6:00 PM – 7:00 PM\n\n\nAdult Choir Practice: 7:00 PM – 8:00 PM
URL:https://curtisbc.org/event/wednesday-bible-studies-4-9/2028-08-16/
ATTACH;FMTTYPE=image/png:https://curtisbc.org/wp-content/uploads/2020/12/LifeGroups-Restart.png
END:VEVENT
END:VCALENDAR