BEGIN:VCALENDAR
VERSION:2.0
PRODID:-//Curtis Baptist Church - ECPv6.15.20//NONSGML v1.0//EN
CALSCALE:GREGORIAN
METHOD:PUBLISH
X-ORIGINAL-URL:https://curtisbc.org
X-WR-CALDESC:Events for Curtis Baptist Church
REFRESH-INTERVAL;VALUE=DURATION:PT1H
X-Robots-Tag:noindex
X-PUBLISHED-TTL:PT1H
BEGIN:VTIMEZONE
TZID:America/Halifax
BEGIN:DAYLIGHT
TZOFFSETFROM:-0400
TZOFFSETTO:-0300
TZNAME:ADT
DTSTART:20280312T060000
END:DAYLIGHT
BEGIN:STANDARD
TZOFFSETFROM:-0300
TZOFFSETTO:-0400
TZNAME:AST
DTSTART:20281105T050000
END:STANDARD
BEGIN:DAYLIGHT
TZOFFSETFROM:-0400
TZOFFSETTO:-0300
TZNAME:ADT
DTSTART:20290311T060000
END:DAYLIGHT
BEGIN:STANDARD
TZOFFSETFROM:-0300
TZOFFSETTO:-0400
TZNAME:AST
DTSTART:20291104T050000
END:STANDARD
BEGIN:DAYLIGHT
TZOFFSETFROM:-0400
TZOFFSETTO:-0300
TZNAME:ADT
DTSTART:20300310T060000
END:DAYLIGHT
BEGIN:STANDARD
TZOFFSETFROM:-0300
TZOFFSETTO:-0400
TZNAME:AST
DTSTART:20301103T050000
END:STANDARD
END:VTIMEZONE
BEGIN:VEVENT
DTSTART;TZID=America/Halifax:20290812T101500
DTEND;TZID=America/Halifax:20290812T113000
DTSTAMP:20260420T074901
CREATED:20241219T160516Z
LAST-MODIFIED:20241219T161604Z
UID:10001175-1881224100-1881228600@curtisbc.org
SUMMARY:Sunday Service
DESCRIPTION:Join us every Sunday for Worship at 10:15AM. You can come in person or watch on our livestream!\nChild care is provided every Sunday.\nHere is a link to our Youtube page to join us via Livestream https://www.youtube.com/user/CurtisChurchTV
URL:https://curtisbc.org/event/sunday-service-5/2029-08-12/
ATTACH;FMTTYPE=image/png:https://curtisbc.org/wp-content/uploads/2021/11/1440-×-810-px.png
END:VEVENT
BEGIN:VEVENT
DTSTART;TZID=America/Halifax:20290815T173000
DTEND;TZID=America/Halifax:20290815T200000
DTSTAMP:20260420T074901
CREATED:20260219T142808Z
LAST-MODIFIED:20260219T142809Z
UID:10001435-1881509400-1881518400@curtisbc.org
SUMMARY:Wednesday Bible Studies
DESCRIPTION:Join us for our Wednesday Bible studies. There’s something for everyone!\n\n\nCurtis Kids: The Ark (Birth-4yr) & Nexkid Investigators (k4-5th) 6:00 PM – 7:00 PM\n\n\nCurtis Student Ministry: (6th-12th) 5:30 PM – 7:00 PM\n\n\nMen’s Bible Study: 6:00 PM – 7:00 PM\n\n\nWomen’s Bible Study: 6:00 PM – 7:00 PM\n\n\nAdult Choir Practice: 7:00 PM – 8:00 PM
URL:https://curtisbc.org/event/wednesday-bible-studies-4-9/2029-08-15/
ATTACH;FMTTYPE=image/png:https://curtisbc.org/wp-content/uploads/2020/12/LifeGroups-Restart.png
END:VEVENT
BEGIN:VEVENT
DTSTART;TZID=America/Halifax:20290819T101500
DTEND;TZID=America/Halifax:20290819T113000
DTSTAMP:20260420T074901
CREATED:20241219T160516Z
LAST-MODIFIED:20241219T161604Z
UID:10001176-1881828900-1881833400@curtisbc.org
SUMMARY:Sunday Service
DESCRIPTION:Join us every Sunday for Worship at 10:15AM. You can come in person or watch on our livestream!\nChild care is provided every Sunday.\nHere is a link to our Youtube page to join us via Livestream https://www.youtube.com/user/CurtisChurchTV
URL:https://curtisbc.org/event/sunday-service-5/2029-08-19/
ATTACH;FMTTYPE=image/png:https://curtisbc.org/wp-content/uploads/2021/11/1440-×-810-px.png
END:VEVENT
BEGIN:VEVENT
DTSTART;TZID=America/Halifax:20290822T173000
DTEND;TZID=America/Halifax:20290822T200000
DTSTAMP:20260420T074901
CREATED:20260219T142808Z
LAST-MODIFIED:20260219T142809Z
UID:10001436-1882114200-1882123200@curtisbc.org
SUMMARY:Wednesday Bible Studies
DESCRIPTION:Join us for our Wednesday Bible studies. There’s something for everyone!\n\n\nCurtis Kids: The Ark (Birth-4yr) & Nexkid Investigators (k4-5th) 6:00 PM – 7:00 PM\n\n\nCurtis Student Ministry: (6th-12th) 5:30 PM – 7:00 PM\n\n\nMen’s Bible Study: 6:00 PM – 7:00 PM\n\n\nWomen’s Bible Study: 6:00 PM – 7:00 PM\n\n\nAdult Choir Practice: 7:00 PM – 8:00 PM
URL:https://curtisbc.org/event/wednesday-bible-studies-4-9/2029-08-22/
ATTACH;FMTTYPE=image/png:https://curtisbc.org/wp-content/uploads/2020/12/LifeGroups-Restart.png
END:VEVENT
BEGIN:VEVENT
DTSTART;TZID=America/Halifax:20290826T101500
DTEND;TZID=America/Halifax:20290826T113000
DTSTAMP:20260420T074901
CREATED:20241219T160516Z
LAST-MODIFIED:20241219T161604Z
UID:10001177-1882433700-1882438200@curtisbc.org
SUMMARY:Sunday Service
DESCRIPTION:Join us every Sunday for Worship at 10:15AM. You can come in person or watch on our livestream!\nChild care is provided every Sunday.\nHere is a link to our Youtube page to join us via Livestream https://www.youtube.com/user/CurtisChurchTV
URL:https://curtisbc.org/event/sunday-service-5/2029-08-26/
ATTACH;FMTTYPE=image/png:https://curtisbc.org/wp-content/uploads/2021/11/1440-×-810-px.png
END:VEVENT
BEGIN:VEVENT
DTSTART;TZID=America/Halifax:20290829T173000
DTEND;TZID=America/Halifax:20290829T200000
DTSTAMP:20260420T074901
CREATED:20260219T142808Z
LAST-MODIFIED:20260219T142809Z
UID:10001437-1882719000-1882728000@curtisbc.org
SUMMARY:Wednesday Bible Studies
DESCRIPTION:Join us for our Wednesday Bible studies. There’s something for everyone!\n\n\nCurtis Kids: The Ark (Birth-4yr) & Nexkid Investigators (k4-5th) 6:00 PM – 7:00 PM\n\n\nCurtis Student Ministry: (6th-12th) 5:30 PM – 7:00 PM\n\n\nMen’s Bible Study: 6:00 PM – 7:00 PM\n\n\nWomen’s Bible Study: 6:00 PM – 7:00 PM\n\n\nAdult Choir Practice: 7:00 PM – 8:00 PM
URL:https://curtisbc.org/event/wednesday-bible-studies-4-9/2029-08-29/
ATTACH;FMTTYPE=image/png:https://curtisbc.org/wp-content/uploads/2020/12/LifeGroups-Restart.png
END:VEVENT
BEGIN:VEVENT
DTSTART;TZID=America/Halifax:20290902T101500
DTEND;TZID=America/Halifax:20290902T113000
DTSTAMP:20260420T074901
CREATED:20241219T160516Z
LAST-MODIFIED:20241219T161604Z
UID:10001178-1883038500-1883043000@curtisbc.org
SUMMARY:Sunday Service
DESCRIPTION:Join us every Sunday for Worship at 10:15AM. You can come in person or watch on our livestream!\nChild care is provided every Sunday.\nHere is a link to our Youtube page to join us via Livestream https://www.youtube.com/user/CurtisChurchTV
URL:https://curtisbc.org/event/sunday-service-5/2029-09-02/
ATTACH;FMTTYPE=image/png:https://curtisbc.org/wp-content/uploads/2021/11/1440-×-810-px.png
END:VEVENT
BEGIN:VEVENT
DTSTART;TZID=America/Halifax:20290905T173000
DTEND;TZID=America/Halifax:20290905T200000
DTSTAMP:20260420T074901
CREATED:20260219T142808Z
LAST-MODIFIED:20260219T142809Z
UID:10001438-1883323800-1883332800@curtisbc.org
SUMMARY:Wednesday Bible Studies
DESCRIPTION:Join us for our Wednesday Bible studies. There’s something for everyone!\n\n\nCurtis Kids: The Ark (Birth-4yr) & Nexkid Investigators (k4-5th) 6:00 PM – 7:00 PM\n\n\nCurtis Student Ministry: (6th-12th) 5:30 PM – 7:00 PM\n\n\nMen’s Bible Study: 6:00 PM – 7:00 PM\n\n\nWomen’s Bible Study: 6:00 PM – 7:00 PM\n\n\nAdult Choir Practice: 7:00 PM – 8:00 PM
URL:https://curtisbc.org/event/wednesday-bible-studies-4-9/2029-09-05/
ATTACH;FMTTYPE=image/png:https://curtisbc.org/wp-content/uploads/2020/12/LifeGroups-Restart.png
END:VEVENT
BEGIN:VEVENT
DTSTART;TZID=America/Halifax:20290909T101500
DTEND;TZID=America/Halifax:20290909T113000
DTSTAMP:20260420T074901
CREATED:20241219T160516Z
LAST-MODIFIED:20241219T161604Z
UID:10001179-1883643300-1883647800@curtisbc.org
SUMMARY:Sunday Service
DESCRIPTION:Join us every Sunday for Worship at 10:15AM. You can come in person or watch on our livestream!\nChild care is provided every Sunday.\nHere is a link to our Youtube page to join us via Livestream https://www.youtube.com/user/CurtisChurchTV
URL:https://curtisbc.org/event/sunday-service-5/2029-09-09/
ATTACH;FMTTYPE=image/png:https://curtisbc.org/wp-content/uploads/2021/11/1440-×-810-px.png
END:VEVENT
BEGIN:VEVENT
DTSTART;TZID=America/Halifax:20290912T173000
DTEND;TZID=America/Halifax:20290912T200000
DTSTAMP:20260420T074901
CREATED:20260219T142808Z
LAST-MODIFIED:20260219T142809Z
UID:10001439-1883928600-1883937600@curtisbc.org
SUMMARY:Wednesday Bible Studies
DESCRIPTION:Join us for our Wednesday Bible studies. There’s something for everyone!\n\n\nCurtis Kids: The Ark (Birth-4yr) & Nexkid Investigators (k4-5th) 6:00 PM – 7:00 PM\n\n\nCurtis Student Ministry: (6th-12th) 5:30 PM – 7:00 PM\n\n\nMen’s Bible Study: 6:00 PM – 7:00 PM\n\n\nWomen’s Bible Study: 6:00 PM – 7:00 PM\n\n\nAdult Choir Practice: 7:00 PM – 8:00 PM
URL:https://curtisbc.org/event/wednesday-bible-studies-4-9/2029-09-12/
ATTACH;FMTTYPE=image/png:https://curtisbc.org/wp-content/uploads/2020/12/LifeGroups-Restart.png
END:VEVENT
BEGIN:VEVENT
DTSTART;TZID=America/Halifax:20290916T101500
DTEND;TZID=America/Halifax:20290916T113000
DTSTAMP:20260420T074901
CREATED:20241219T160516Z
LAST-MODIFIED:20241219T161604Z
UID:10001180-1884248100-1884252600@curtisbc.org
SUMMARY:Sunday Service
DESCRIPTION:Join us every Sunday for Worship at 10:15AM. You can come in person or watch on our livestream!\nChild care is provided every Sunday.\nHere is a link to our Youtube page to join us via Livestream https://www.youtube.com/user/CurtisChurchTV
URL:https://curtisbc.org/event/sunday-service-5/2029-09-16/
ATTACH;FMTTYPE=image/png:https://curtisbc.org/wp-content/uploads/2021/11/1440-×-810-px.png
END:VEVENT
BEGIN:VEVENT
DTSTART;TZID=America/Halifax:20290919T173000
DTEND;TZID=America/Halifax:20290919T200000
DTSTAMP:20260420T074901
CREATED:20260219T142808Z
LAST-MODIFIED:20260219T142809Z
UID:10001440-1884533400-1884542400@curtisbc.org
SUMMARY:Wednesday Bible Studies
DESCRIPTION:Join us for our Wednesday Bible studies. There’s something for everyone!\n\n\nCurtis Kids: The Ark (Birth-4yr) & Nexkid Investigators (k4-5th) 6:00 PM – 7:00 PM\n\n\nCurtis Student Ministry: (6th-12th) 5:30 PM – 7:00 PM\n\n\nMen’s Bible Study: 6:00 PM – 7:00 PM\n\n\nWomen’s Bible Study: 6:00 PM – 7:00 PM\n\n\nAdult Choir Practice: 7:00 PM – 8:00 PM
URL:https://curtisbc.org/event/wednesday-bible-studies-4-9/2029-09-19/
ATTACH;FMTTYPE=image/png:https://curtisbc.org/wp-content/uploads/2020/12/LifeGroups-Restart.png
END:VEVENT
BEGIN:VEVENT
DTSTART;TZID=America/Halifax:20290923T101500
DTEND;TZID=America/Halifax:20290923T113000
DTSTAMP:20260420T074901
CREATED:20241219T160516Z
LAST-MODIFIED:20241219T161604Z
UID:10001181-1884852900-1884857400@curtisbc.org
SUMMARY:Sunday Service
DESCRIPTION:Join us every Sunday for Worship at 10:15AM. You can come in person or watch on our livestream!\nChild care is provided every Sunday.\nHere is a link to our Youtube page to join us via Livestream https://www.youtube.com/user/CurtisChurchTV
URL:https://curtisbc.org/event/sunday-service-5/2029-09-23/
ATTACH;FMTTYPE=image/png:https://curtisbc.org/wp-content/uploads/2021/11/1440-×-810-px.png
END:VEVENT
BEGIN:VEVENT
DTSTART;TZID=America/Halifax:20290926T173000
DTEND;TZID=America/Halifax:20290926T200000
DTSTAMP:20260420T074901
CREATED:20260219T142808Z
LAST-MODIFIED:20260219T142809Z
UID:10001441-1885138200-1885147200@curtisbc.org
SUMMARY:Wednesday Bible Studies
DESCRIPTION:Join us for our Wednesday Bible studies. There’s something for everyone!\n\n\nCurtis Kids: The Ark (Birth-4yr) & Nexkid Investigators (k4-5th) 6:00 PM – 7:00 PM\n\n\nCurtis Student Ministry: (6th-12th) 5:30 PM – 7:00 PM\n\n\nMen’s Bible Study: 6:00 PM – 7:00 PM\n\n\nWomen’s Bible Study: 6:00 PM – 7:00 PM\n\n\nAdult Choir Practice: 7:00 PM – 8:00 PM
URL:https://curtisbc.org/event/wednesday-bible-studies-4-9/2029-09-26/
ATTACH;FMTTYPE=image/png:https://curtisbc.org/wp-content/uploads/2020/12/LifeGroups-Restart.png
END:VEVENT
BEGIN:VEVENT
DTSTART;TZID=America/Halifax:20290930T101500
DTEND;TZID=America/Halifax:20290930T113000
DTSTAMP:20260420T074901
CREATED:20241219T160516Z
LAST-MODIFIED:20241219T161604Z
UID:10001182-1885457700-1885462200@curtisbc.org
SUMMARY:Sunday Service
DESCRIPTION:Join us every Sunday for Worship at 10:15AM. You can come in person or watch on our livestream!\nChild care is provided every Sunday.\nHere is a link to our Youtube page to join us via Livestream https://www.youtube.com/user/CurtisChurchTV
URL:https://curtisbc.org/event/sunday-service-5/2029-09-30/
ATTACH;FMTTYPE=image/png:https://curtisbc.org/wp-content/uploads/2021/11/1440-×-810-px.png
END:VEVENT
BEGIN:VEVENT
DTSTART;TZID=America/Halifax:20291003T173000
DTEND;TZID=America/Halifax:20291003T200000
DTSTAMP:20260420T074901
CREATED:20260219T142808Z
LAST-MODIFIED:20260219T142809Z
UID:10001442-1885743000-1885752000@curtisbc.org
SUMMARY:Wednesday Bible Studies
DESCRIPTION:Join us for our Wednesday Bible studies. There’s something for everyone!\n\n\nCurtis Kids: The Ark (Birth-4yr) & Nexkid Investigators (k4-5th) 6:00 PM – 7:00 PM\n\n\nCurtis Student Ministry: (6th-12th) 5:30 PM – 7:00 PM\n\n\nMen’s Bible Study: 6:00 PM – 7:00 PM\n\n\nWomen’s Bible Study: 6:00 PM – 7:00 PM\n\n\nAdult Choir Practice: 7:00 PM – 8:00 PM
URL:https://curtisbc.org/event/wednesday-bible-studies-4-9/2029-10-03/
ATTACH;FMTTYPE=image/png:https://curtisbc.org/wp-content/uploads/2020/12/LifeGroups-Restart.png
END:VEVENT
BEGIN:VEVENT
DTSTART;TZID=America/Halifax:20291007T101500
DTEND;TZID=America/Halifax:20291007T113000
DTSTAMP:20260420T074901
CREATED:20241219T160516Z
LAST-MODIFIED:20241219T161604Z
UID:10001183-1886062500-1886067000@curtisbc.org
SUMMARY:Sunday Service
DESCRIPTION:Join us every Sunday for Worship at 10:15AM. You can come in person or watch on our livestream!\nChild care is provided every Sunday.\nHere is a link to our Youtube page to join us via Livestream https://www.youtube.com/user/CurtisChurchTV
URL:https://curtisbc.org/event/sunday-service-5/2029-10-07/
ATTACH;FMTTYPE=image/png:https://curtisbc.org/wp-content/uploads/2021/11/1440-×-810-px.png
END:VEVENT
BEGIN:VEVENT
DTSTART;TZID=America/Halifax:20291010T173000
DTEND;TZID=America/Halifax:20291010T200000
DTSTAMP:20260420T074901
CREATED:20260219T142808Z
LAST-MODIFIED:20260219T142809Z
UID:10001443-1886347800-1886356800@curtisbc.org
SUMMARY:Wednesday Bible Studies
DESCRIPTION:Join us for our Wednesday Bible studies. There’s something for everyone!\n\n\nCurtis Kids: The Ark (Birth-4yr) & Nexkid Investigators (k4-5th) 6:00 PM – 7:00 PM\n\n\nCurtis Student Ministry: (6th-12th) 5:30 PM – 7:00 PM\n\n\nMen’s Bible Study: 6:00 PM – 7:00 PM\n\n\nWomen’s Bible Study: 6:00 PM – 7:00 PM\n\n\nAdult Choir Practice: 7:00 PM – 8:00 PM
URL:https://curtisbc.org/event/wednesday-bible-studies-4-9/2029-10-10/
ATTACH;FMTTYPE=image/png:https://curtisbc.org/wp-content/uploads/2020/12/LifeGroups-Restart.png
END:VEVENT
BEGIN:VEVENT
DTSTART;TZID=America/Halifax:20291014T101500
DTEND;TZID=America/Halifax:20291014T113000
DTSTAMP:20260420T074901
CREATED:20241219T160516Z
LAST-MODIFIED:20241219T161604Z
UID:10001184-1886667300-1886671800@curtisbc.org
SUMMARY:Sunday Service
DESCRIPTION:Join us every Sunday for Worship at 10:15AM. You can come in person or watch on our livestream!\nChild care is provided every Sunday.\nHere is a link to our Youtube page to join us via Livestream https://www.youtube.com/user/CurtisChurchTV
URL:https://curtisbc.org/event/sunday-service-5/2029-10-14/
ATTACH;FMTTYPE=image/png:https://curtisbc.org/wp-content/uploads/2021/11/1440-×-810-px.png
END:VEVENT
BEGIN:VEVENT
DTSTART;TZID=America/Halifax:20291017T173000
DTEND;TZID=America/Halifax:20291017T200000
DTSTAMP:20260420T074901
CREATED:20260219T142808Z
LAST-MODIFIED:20260219T142809Z
UID:10001444-1886952600-1886961600@curtisbc.org
SUMMARY:Wednesday Bible Studies
DESCRIPTION:Join us for our Wednesday Bible studies. There’s something for everyone!\n\n\nCurtis Kids: The Ark (Birth-4yr) & Nexkid Investigators (k4-5th) 6:00 PM – 7:00 PM\n\n\nCurtis Student Ministry: (6th-12th) 5:30 PM – 7:00 PM\n\n\nMen’s Bible Study: 6:00 PM – 7:00 PM\n\n\nWomen’s Bible Study: 6:00 PM – 7:00 PM\n\n\nAdult Choir Practice: 7:00 PM – 8:00 PM
URL:https://curtisbc.org/event/wednesday-bible-studies-4-9/2029-10-17/
ATTACH;FMTTYPE=image/png:https://curtisbc.org/wp-content/uploads/2020/12/LifeGroups-Restart.png
END:VEVENT
BEGIN:VEVENT
DTSTART;TZID=America/Halifax:20291021T101500
DTEND;TZID=America/Halifax:20291021T113000
DTSTAMP:20260420T074901
CREATED:20241219T160516Z
LAST-MODIFIED:20241219T161604Z
UID:10001185-1887272100-1887276600@curtisbc.org
SUMMARY:Sunday Service
DESCRIPTION:Join us every Sunday for Worship at 10:15AM. You can come in person or watch on our livestream!\nChild care is provided every Sunday.\nHere is a link to our Youtube page to join us via Livestream https://www.youtube.com/user/CurtisChurchTV
URL:https://curtisbc.org/event/sunday-service-5/2029-10-21/
ATTACH;FMTTYPE=image/png:https://curtisbc.org/wp-content/uploads/2021/11/1440-×-810-px.png
END:VEVENT
BEGIN:VEVENT
DTSTART;TZID=America/Halifax:20291024T173000
DTEND;TZID=America/Halifax:20291024T200000
DTSTAMP:20260420T074901
CREATED:20260219T142808Z
LAST-MODIFIED:20260219T142809Z
UID:10001445-1887557400-1887566400@curtisbc.org
SUMMARY:Wednesday Bible Studies
DESCRIPTION:Join us for our Wednesday Bible studies. There’s something for everyone!\n\n\nCurtis Kids: The Ark (Birth-4yr) & Nexkid Investigators (k4-5th) 6:00 PM – 7:00 PM\n\n\nCurtis Student Ministry: (6th-12th) 5:30 PM – 7:00 PM\n\n\nMen’s Bible Study: 6:00 PM – 7:00 PM\n\n\nWomen’s Bible Study: 6:00 PM – 7:00 PM\n\n\nAdult Choir Practice: 7:00 PM – 8:00 PM
URL:https://curtisbc.org/event/wednesday-bible-studies-4-9/2029-10-24/
ATTACH;FMTTYPE=image/png:https://curtisbc.org/wp-content/uploads/2020/12/LifeGroups-Restart.png
END:VEVENT
BEGIN:VEVENT
DTSTART;TZID=America/Halifax:20291028T101500
DTEND;TZID=America/Halifax:20291028T113000
DTSTAMP:20260420T074901
CREATED:20241219T160516Z
LAST-MODIFIED:20241219T161604Z
UID:10001186-1887876900-1887881400@curtisbc.org
SUMMARY:Sunday Service
DESCRIPTION:Join us every Sunday for Worship at 10:15AM. You can come in person or watch on our livestream!\nChild care is provided every Sunday.\nHere is a link to our Youtube page to join us via Livestream https://www.youtube.com/user/CurtisChurchTV
URL:https://curtisbc.org/event/sunday-service-5/2029-10-28/
ATTACH;FMTTYPE=image/png:https://curtisbc.org/wp-content/uploads/2021/11/1440-×-810-px.png
END:VEVENT
BEGIN:VEVENT
DTSTART;TZID=America/Halifax:20291031T173000
DTEND;TZID=America/Halifax:20291031T200000
DTSTAMP:20260420T074901
CREATED:20260219T142808Z
LAST-MODIFIED:20260219T142809Z
UID:10001446-1888162200-1888171200@curtisbc.org
SUMMARY:Wednesday Bible Studies
DESCRIPTION:Join us for our Wednesday Bible studies. There’s something for everyone!\n\n\nCurtis Kids: The Ark (Birth-4yr) & Nexkid Investigators (k4-5th) 6:00 PM – 7:00 PM\n\n\nCurtis Student Ministry: (6th-12th) 5:30 PM – 7:00 PM\n\n\nMen’s Bible Study: 6:00 PM – 7:00 PM\n\n\nWomen’s Bible Study: 6:00 PM – 7:00 PM\n\n\nAdult Choir Practice: 7:00 PM – 8:00 PM
URL:https://curtisbc.org/event/wednesday-bible-studies-4-9/2029-10-31/
ATTACH;FMTTYPE=image/png:https://curtisbc.org/wp-content/uploads/2020/12/LifeGroups-Restart.png
END:VEVENT
BEGIN:VEVENT
DTSTART;TZID=America/Halifax:20291104T101500
DTEND;TZID=America/Halifax:20291104T113000
DTSTAMP:20260420T074901
CREATED:20241219T160516Z
LAST-MODIFIED:20241219T161604Z
UID:10001187-1888481700-1888486200@curtisbc.org
SUMMARY:Sunday Service
DESCRIPTION:Join us every Sunday for Worship at 10:15AM. You can come in person or watch on our livestream!\nChild care is provided every Sunday.\nHere is a link to our Youtube page to join us via Livestream https://www.youtube.com/user/CurtisChurchTV
URL:https://curtisbc.org/event/sunday-service-5/2029-11-04/
ATTACH;FMTTYPE=image/png:https://curtisbc.org/wp-content/uploads/2021/11/1440-×-810-px.png
END:VEVENT
BEGIN:VEVENT
DTSTART;TZID=America/Halifax:20291107T173000
DTEND;TZID=America/Halifax:20291107T200000
DTSTAMP:20260420T074901
CREATED:20260219T142808Z
LAST-MODIFIED:20260219T142809Z
UID:10001447-1888767000-1888776000@curtisbc.org
SUMMARY:Wednesday Bible Studies
DESCRIPTION:Join us for our Wednesday Bible studies. There’s something for everyone!\n\n\nCurtis Kids: The Ark (Birth-4yr) & Nexkid Investigators (k4-5th) 6:00 PM – 7:00 PM\n\n\nCurtis Student Ministry: (6th-12th) 5:30 PM – 7:00 PM\n\n\nMen’s Bible Study: 6:00 PM – 7:00 PM\n\n\nWomen’s Bible Study: 6:00 PM – 7:00 PM\n\n\nAdult Choir Practice: 7:00 PM – 8:00 PM
URL:https://curtisbc.org/event/wednesday-bible-studies-4-9/2029-11-07/
ATTACH;FMTTYPE=image/png:https://curtisbc.org/wp-content/uploads/2020/12/LifeGroups-Restart.png
END:VEVENT
BEGIN:VEVENT
DTSTART;TZID=America/Halifax:20291111T101500
DTEND;TZID=America/Halifax:20291111T113000
DTSTAMP:20260420T074901
CREATED:20241219T160516Z
LAST-MODIFIED:20241219T161604Z
UID:10001188-1889086500-1889091000@curtisbc.org
SUMMARY:Sunday Service
DESCRIPTION:Join us every Sunday for Worship at 10:15AM. You can come in person or watch on our livestream!\nChild care is provided every Sunday.\nHere is a link to our Youtube page to join us via Livestream https://www.youtube.com/user/CurtisChurchTV
URL:https://curtisbc.org/event/sunday-service-5/2029-11-11/
ATTACH;FMTTYPE=image/png:https://curtisbc.org/wp-content/uploads/2021/11/1440-×-810-px.png
END:VEVENT
BEGIN:VEVENT
DTSTART;TZID=America/Halifax:20291114T173000
DTEND;TZID=America/Halifax:20291114T200000
DTSTAMP:20260420T074901
CREATED:20260219T142808Z
LAST-MODIFIED:20260219T142809Z
UID:10001448-1889371800-1889380800@curtisbc.org
SUMMARY:Wednesday Bible Studies
DESCRIPTION:Join us for our Wednesday Bible studies. There’s something for everyone!\n\n\nCurtis Kids: The Ark (Birth-4yr) & Nexkid Investigators (k4-5th) 6:00 PM – 7:00 PM\n\n\nCurtis Student Ministry: (6th-12th) 5:30 PM – 7:00 PM\n\n\nMen’s Bible Study: 6:00 PM – 7:00 PM\n\n\nWomen’s Bible Study: 6:00 PM – 7:00 PM\n\n\nAdult Choir Practice: 7:00 PM – 8:00 PM
URL:https://curtisbc.org/event/wednesday-bible-studies-4-9/2029-11-14/
ATTACH;FMTTYPE=image/png:https://curtisbc.org/wp-content/uploads/2020/12/LifeGroups-Restart.png
END:VEVENT
BEGIN:VEVENT
DTSTART;TZID=America/Halifax:20291118T101500
DTEND;TZID=America/Halifax:20291118T113000
DTSTAMP:20260420T074901
CREATED:20241219T160516Z
LAST-MODIFIED:20241219T161604Z
UID:10001189-1889691300-1889695800@curtisbc.org
SUMMARY:Sunday Service
DESCRIPTION:Join us every Sunday for Worship at 10:15AM. You can come in person or watch on our livestream!\nChild care is provided every Sunday.\nHere is a link to our Youtube page to join us via Livestream https://www.youtube.com/user/CurtisChurchTV
URL:https://curtisbc.org/event/sunday-service-5/2029-11-18/
ATTACH;FMTTYPE=image/png:https://curtisbc.org/wp-content/uploads/2021/11/1440-×-810-px.png
END:VEVENT
BEGIN:VEVENT
DTSTART;TZID=America/Halifax:20291121T173000
DTEND;TZID=America/Halifax:20291121T200000
DTSTAMP:20260420T074901
CREATED:20260219T142808Z
LAST-MODIFIED:20260219T142809Z
UID:10001449-1889976600-1889985600@curtisbc.org
SUMMARY:Wednesday Bible Studies
DESCRIPTION:Join us for our Wednesday Bible studies. There’s something for everyone!\n\n\nCurtis Kids: The Ark (Birth-4yr) & Nexkid Investigators (k4-5th) 6:00 PM – 7:00 PM\n\n\nCurtis Student Ministry: (6th-12th) 5:30 PM – 7:00 PM\n\n\nMen’s Bible Study: 6:00 PM – 7:00 PM\n\n\nWomen’s Bible Study: 6:00 PM – 7:00 PM\n\n\nAdult Choir Practice: 7:00 PM – 8:00 PM
URL:https://curtisbc.org/event/wednesday-bible-studies-4-9/2029-11-21/
ATTACH;FMTTYPE=image/png:https://curtisbc.org/wp-content/uploads/2020/12/LifeGroups-Restart.png
END:VEVENT
END:VCALENDAR