BEGIN:VCALENDAR
VERSION:2.0
PRODID:-//Curtis Baptist Church - ECPv6.15.20//NONSGML v1.0//EN
CALSCALE:GREGORIAN
METHOD:PUBLISH
X-ORIGINAL-URL:https://curtisbc.org
X-WR-CALDESC:Events for Curtis Baptist Church
REFRESH-INTERVAL;VALUE=DURATION:PT1H
X-Robots-Tag:noindex
X-PUBLISHED-TTL:PT1H
BEGIN:VTIMEZONE
TZID:America/Halifax
BEGIN:DAYLIGHT
TZOFFSETFROM:-0400
TZOFFSETTO:-0300
TZNAME:ADT
DTSTART:20290311T060000
END:DAYLIGHT
BEGIN:STANDARD
TZOFFSETFROM:-0300
TZOFFSETTO:-0400
TZNAME:AST
DTSTART:20291104T050000
END:STANDARD
BEGIN:DAYLIGHT
TZOFFSETFROM:-0400
TZOFFSETTO:-0300
TZNAME:ADT
DTSTART:20300310T060000
END:DAYLIGHT
BEGIN:STANDARD
TZOFFSETFROM:-0300
TZOFFSETTO:-0400
TZNAME:AST
DTSTART:20301103T050000
END:STANDARD
BEGIN:DAYLIGHT
TZOFFSETFROM:-0400
TZOFFSETTO:-0300
TZNAME:ADT
DTSTART:20310309T060000
END:DAYLIGHT
BEGIN:STANDARD
TZOFFSETFROM:-0300
TZOFFSETTO:-0400
TZNAME:AST
DTSTART:20311102T050000
END:STANDARD
END:VTIMEZONE
BEGIN:VEVENT
DTSTART;TZID=America/Halifax:20300310T101500
DTEND;TZID=America/Halifax:20300310T113000
DTSTAMP:20260420T114713
CREATED:20241219T160516Z
LAST-MODIFIED:20241219T161604Z
UID:10001499-1899368100-1899372600@curtisbc.org
SUMMARY:Sunday Service
DESCRIPTION:Join us every Sunday for Worship at 10:15AM. You can come in person or watch on our livestream!\nChild care is provided every Sunday.\nHere is a link to our Youtube page to join us via Livestream https://www.youtube.com/user/CurtisChurchTV
URL:https://curtisbc.org/event/sunday-service-5/2030-03-10/
ATTACH;FMTTYPE=image/png:https://curtisbc.org/wp-content/uploads/2021/11/1440-×-810-px.png
END:VEVENT
BEGIN:VEVENT
DTSTART;TZID=America/Halifax:20300313T173000
DTEND;TZID=America/Halifax:20300313T200000
DTSTAMP:20260420T114713
CREATED:20260219T142808Z
LAST-MODIFIED:20260219T142809Z
UID:10001515-1899653400-1899662400@curtisbc.org
SUMMARY:Wednesday Bible Studies
DESCRIPTION:Join us for our Wednesday Bible studies. There’s something for everyone!\n\n\nCurtis Kids: The Ark (Birth-4yr) & Nexkid Investigators (k4-5th) 6:00 PM – 7:00 PM\n\n\nCurtis Student Ministry: (6th-12th) 5:30 PM – 7:00 PM\n\n\nMen’s Bible Study: 6:00 PM – 7:00 PM\n\n\nWomen’s Bible Study: 6:00 PM – 7:00 PM\n\n\nAdult Choir Practice: 7:00 PM – 8:00 PM
URL:https://curtisbc.org/event/wednesday-bible-studies-4-9/2030-03-13/
ATTACH;FMTTYPE=image/png:https://curtisbc.org/wp-content/uploads/2020/12/LifeGroups-Restart.png
END:VEVENT
BEGIN:VEVENT
DTSTART;TZID=America/Halifax:20300317T101500
DTEND;TZID=America/Halifax:20300317T113000
DTSTAMP:20260420T114713
CREATED:20241219T160516Z
LAST-MODIFIED:20241219T161604Z
UID:10001500-1899972900-1899977400@curtisbc.org
SUMMARY:Sunday Service
DESCRIPTION:Join us every Sunday for Worship at 10:15AM. You can come in person or watch on our livestream!\nChild care is provided every Sunday.\nHere is a link to our Youtube page to join us via Livestream https://www.youtube.com/user/CurtisChurchTV
URL:https://curtisbc.org/event/sunday-service-5/2030-03-17/
ATTACH;FMTTYPE=image/png:https://curtisbc.org/wp-content/uploads/2021/11/1440-×-810-px.png
END:VEVENT
BEGIN:VEVENT
DTSTART;TZID=America/Halifax:20300320T173000
DTEND;TZID=America/Halifax:20300320T200000
DTSTAMP:20260420T114713
CREATED:20260219T142808Z
LAST-MODIFIED:20260219T142809Z
UID:10001516-1900258200-1900267200@curtisbc.org
SUMMARY:Wednesday Bible Studies
DESCRIPTION:Join us for our Wednesday Bible studies. There’s something for everyone!\n\n\nCurtis Kids: The Ark (Birth-4yr) & Nexkid Investigators (k4-5th) 6:00 PM – 7:00 PM\n\n\nCurtis Student Ministry: (6th-12th) 5:30 PM – 7:00 PM\n\n\nMen’s Bible Study: 6:00 PM – 7:00 PM\n\n\nWomen’s Bible Study: 6:00 PM – 7:00 PM\n\n\nAdult Choir Practice: 7:00 PM – 8:00 PM
URL:https://curtisbc.org/event/wednesday-bible-studies-4-9/2030-03-20/
ATTACH;FMTTYPE=image/png:https://curtisbc.org/wp-content/uploads/2020/12/LifeGroups-Restart.png
END:VEVENT
BEGIN:VEVENT
DTSTART;TZID=America/Halifax:20300324T101500
DTEND;TZID=America/Halifax:20300324T113000
DTSTAMP:20260420T114713
CREATED:20241219T160516Z
LAST-MODIFIED:20241219T161604Z
UID:10001501-1900577700-1900582200@curtisbc.org
SUMMARY:Sunday Service
DESCRIPTION:Join us every Sunday for Worship at 10:15AM. You can come in person or watch on our livestream!\nChild care is provided every Sunday.\nHere is a link to our Youtube page to join us via Livestream https://www.youtube.com/user/CurtisChurchTV
URL:https://curtisbc.org/event/sunday-service-5/2030-03-24/
ATTACH;FMTTYPE=image/png:https://curtisbc.org/wp-content/uploads/2021/11/1440-×-810-px.png
END:VEVENT
BEGIN:VEVENT
DTSTART;TZID=America/Halifax:20300327T173000
DTEND;TZID=America/Halifax:20300327T200000
DTSTAMP:20260420T114713
CREATED:20260219T142808Z
LAST-MODIFIED:20260219T142809Z
UID:10001517-1900863000-1900872000@curtisbc.org
SUMMARY:Wednesday Bible Studies
DESCRIPTION:Join us for our Wednesday Bible studies. There’s something for everyone!\n\n\nCurtis Kids: The Ark (Birth-4yr) & Nexkid Investigators (k4-5th) 6:00 PM – 7:00 PM\n\n\nCurtis Student Ministry: (6th-12th) 5:30 PM – 7:00 PM\n\n\nMen’s Bible Study: 6:00 PM – 7:00 PM\n\n\nWomen’s Bible Study: 6:00 PM – 7:00 PM\n\n\nAdult Choir Practice: 7:00 PM – 8:00 PM
URL:https://curtisbc.org/event/wednesday-bible-studies-4-9/2030-03-27/
ATTACH;FMTTYPE=image/png:https://curtisbc.org/wp-content/uploads/2020/12/LifeGroups-Restart.png
END:VEVENT
BEGIN:VEVENT
DTSTART;TZID=America/Halifax:20300331T101500
DTEND;TZID=America/Halifax:20300331T113000
DTSTAMP:20260420T114713
CREATED:20241219T160516Z
LAST-MODIFIED:20241219T161604Z
UID:10001502-1901182500-1901187000@curtisbc.org
SUMMARY:Sunday Service
DESCRIPTION:Join us every Sunday for Worship at 10:15AM. You can come in person or watch on our livestream!\nChild care is provided every Sunday.\nHere is a link to our Youtube page to join us via Livestream https://www.youtube.com/user/CurtisChurchTV
URL:https://curtisbc.org/event/sunday-service-5/2030-03-31/
ATTACH;FMTTYPE=image/png:https://curtisbc.org/wp-content/uploads/2021/11/1440-×-810-px.png
END:VEVENT
BEGIN:VEVENT
DTSTART;TZID=America/Halifax:20300403T173000
DTEND;TZID=America/Halifax:20300403T200000
DTSTAMP:20260420T114713
CREATED:20260219T142808Z
LAST-MODIFIED:20260219T142809Z
UID:10001518-1901467800-1901476800@curtisbc.org
SUMMARY:Wednesday Bible Studies
DESCRIPTION:Join us for our Wednesday Bible studies. There’s something for everyone!\n\n\nCurtis Kids: The Ark (Birth-4yr) & Nexkid Investigators (k4-5th) 6:00 PM – 7:00 PM\n\n\nCurtis Student Ministry: (6th-12th) 5:30 PM – 7:00 PM\n\n\nMen’s Bible Study: 6:00 PM – 7:00 PM\n\n\nWomen’s Bible Study: 6:00 PM – 7:00 PM\n\n\nAdult Choir Practice: 7:00 PM – 8:00 PM
URL:https://curtisbc.org/event/wednesday-bible-studies-4-9/2030-04-03/
ATTACH;FMTTYPE=image/png:https://curtisbc.org/wp-content/uploads/2020/12/LifeGroups-Restart.png
END:VEVENT
BEGIN:VEVENT
DTSTART;TZID=America/Halifax:20300407T101500
DTEND;TZID=America/Halifax:20300407T113000
DTSTAMP:20260420T114713
CREATED:20241219T160516Z
LAST-MODIFIED:20241219T161604Z
UID:10001581-1901787300-1901791800@curtisbc.org
SUMMARY:Sunday Service
DESCRIPTION:Join us every Sunday for Worship at 10:15AM. You can come in person or watch on our livestream!\nChild care is provided every Sunday.\nHere is a link to our Youtube page to join us via Livestream https://www.youtube.com/user/CurtisChurchTV
URL:https://curtisbc.org/event/sunday-service-5/2030-04-07/
ATTACH;FMTTYPE=image/png:https://curtisbc.org/wp-content/uploads/2021/11/1440-×-810-px.png
END:VEVENT
BEGIN:VEVENT
DTSTART;TZID=America/Halifax:20300410T173000
DTEND;TZID=America/Halifax:20300410T200000
DTSTAMP:20260420T114713
CREATED:20260219T142808Z
LAST-MODIFIED:20260219T142809Z
UID:10001536-1902072600-1902081600@curtisbc.org
SUMMARY:Wednesday Bible Studies
DESCRIPTION:Join us for our Wednesday Bible studies. There’s something for everyone!\n\n\nCurtis Kids: The Ark (Birth-4yr) & Nexkid Investigators (k4-5th) 6:00 PM – 7:00 PM\n\n\nCurtis Student Ministry: (6th-12th) 5:30 PM – 7:00 PM\n\n\nMen’s Bible Study: 6:00 PM – 7:00 PM\n\n\nWomen’s Bible Study: 6:00 PM – 7:00 PM\n\n\nAdult Choir Practice: 7:00 PM – 8:00 PM
URL:https://curtisbc.org/event/wednesday-bible-studies-4-9/2030-04-10/
ATTACH;FMTTYPE=image/png:https://curtisbc.org/wp-content/uploads/2020/12/LifeGroups-Restart.png
END:VEVENT
BEGIN:VEVENT
DTSTART;TZID=America/Halifax:20300414T101500
DTEND;TZID=America/Halifax:20300414T113000
DTSTAMP:20260420T114713
CREATED:20241219T160516Z
LAST-MODIFIED:20241219T161604Z
UID:10001582-1902392100-1902396600@curtisbc.org
SUMMARY:Sunday Service
DESCRIPTION:Join us every Sunday for Worship at 10:15AM. You can come in person or watch on our livestream!\nChild care is provided every Sunday.\nHere is a link to our Youtube page to join us via Livestream https://www.youtube.com/user/CurtisChurchTV
URL:https://curtisbc.org/event/sunday-service-5/2030-04-14/
ATTACH;FMTTYPE=image/png:https://curtisbc.org/wp-content/uploads/2021/11/1440-×-810-px.png
END:VEVENT
BEGIN:VEVENT
DTSTART;TZID=America/Halifax:20300417T173000
DTEND;TZID=America/Halifax:20300417T200000
DTSTAMP:20260420T114713
CREATED:20260219T142808Z
LAST-MODIFIED:20260219T142809Z
UID:10001537-1902677400-1902686400@curtisbc.org
SUMMARY:Wednesday Bible Studies
DESCRIPTION:Join us for our Wednesday Bible studies. There’s something for everyone!\n\n\nCurtis Kids: The Ark (Birth-4yr) & Nexkid Investigators (k4-5th) 6:00 PM – 7:00 PM\n\n\nCurtis Student Ministry: (6th-12th) 5:30 PM – 7:00 PM\n\n\nMen’s Bible Study: 6:00 PM – 7:00 PM\n\n\nWomen’s Bible Study: 6:00 PM – 7:00 PM\n\n\nAdult Choir Practice: 7:00 PM – 8:00 PM
URL:https://curtisbc.org/event/wednesday-bible-studies-4-9/2030-04-17/
ATTACH;FMTTYPE=image/png:https://curtisbc.org/wp-content/uploads/2020/12/LifeGroups-Restart.png
END:VEVENT
BEGIN:VEVENT
DTSTART;TZID=America/Halifax:20300421T101500
DTEND;TZID=America/Halifax:20300421T113000
DTSTAMP:20260420T114713
CREATED:20241219T160516Z
LAST-MODIFIED:20241219T161604Z
UID:10001583-1902996900-1903001400@curtisbc.org
SUMMARY:Sunday Service
DESCRIPTION:Join us every Sunday for Worship at 10:15AM. You can come in person or watch on our livestream!\nChild care is provided every Sunday.\nHere is a link to our Youtube page to join us via Livestream https://www.youtube.com/user/CurtisChurchTV
URL:https://curtisbc.org/event/sunday-service-5/2030-04-21/
ATTACH;FMTTYPE=image/png:https://curtisbc.org/wp-content/uploads/2021/11/1440-×-810-px.png
END:VEVENT
BEGIN:VEVENT
DTSTART;TZID=America/Halifax:20300424T173000
DTEND;TZID=America/Halifax:20300424T200000
DTSTAMP:20260420T114713
CREATED:20260219T142808Z
LAST-MODIFIED:20260219T142809Z
UID:10001538-1903282200-1903291200@curtisbc.org
SUMMARY:Wednesday Bible Studies
DESCRIPTION:Join us for our Wednesday Bible studies. There’s something for everyone!\n\n\nCurtis Kids: The Ark (Birth-4yr) & Nexkid Investigators (k4-5th) 6:00 PM – 7:00 PM\n\n\nCurtis Student Ministry: (6th-12th) 5:30 PM – 7:00 PM\n\n\nMen’s Bible Study: 6:00 PM – 7:00 PM\n\n\nWomen’s Bible Study: 6:00 PM – 7:00 PM\n\n\nAdult Choir Practice: 7:00 PM – 8:00 PM
URL:https://curtisbc.org/event/wednesday-bible-studies-4-9/2030-04-24/
ATTACH;FMTTYPE=image/png:https://curtisbc.org/wp-content/uploads/2020/12/LifeGroups-Restart.png
END:VEVENT
BEGIN:VEVENT
DTSTART;TZID=America/Halifax:20300428T101500
DTEND;TZID=America/Halifax:20300428T113000
DTSTAMP:20260420T114713
CREATED:20241219T160516Z
LAST-MODIFIED:20241219T161604Z
UID:10001584-1903601700-1903606200@curtisbc.org
SUMMARY:Sunday Service
DESCRIPTION:Join us every Sunday for Worship at 10:15AM. You can come in person or watch on our livestream!\nChild care is provided every Sunday.\nHere is a link to our Youtube page to join us via Livestream https://www.youtube.com/user/CurtisChurchTV
URL:https://curtisbc.org/event/sunday-service-5/2030-04-28/
ATTACH;FMTTYPE=image/png:https://curtisbc.org/wp-content/uploads/2021/11/1440-×-810-px.png
END:VEVENT
BEGIN:VEVENT
DTSTART;TZID=America/Halifax:20300501T173000
DTEND;TZID=America/Halifax:20300501T200000
DTSTAMP:20260420T114713
CREATED:20260219T142808Z
LAST-MODIFIED:20260219T142809Z
UID:10001539-1903887000-1903896000@curtisbc.org
SUMMARY:Wednesday Bible Studies
DESCRIPTION:Join us for our Wednesday Bible studies. There’s something for everyone!\n\n\nCurtis Kids: The Ark (Birth-4yr) & Nexkid Investigators (k4-5th) 6:00 PM – 7:00 PM\n\n\nCurtis Student Ministry: (6th-12th) 5:30 PM – 7:00 PM\n\n\nMen’s Bible Study: 6:00 PM – 7:00 PM\n\n\nWomen’s Bible Study: 6:00 PM – 7:00 PM\n\n\nAdult Choir Practice: 7:00 PM – 8:00 PM
URL:https://curtisbc.org/event/wednesday-bible-studies-4-9/2030-05-01/
ATTACH;FMTTYPE=image/png:https://curtisbc.org/wp-content/uploads/2020/12/LifeGroups-Restart.png
END:VEVENT
BEGIN:VEVENT
DTSTART;TZID=America/Halifax:20300505T101500
DTEND;TZID=America/Halifax:20300505T113000
DTSTAMP:20260420T114713
CREATED:20241219T160516Z
LAST-MODIFIED:20241219T161604Z
UID:10001585-1904206500-1904211000@curtisbc.org
SUMMARY:Sunday Service
DESCRIPTION:Join us every Sunday for Worship at 10:15AM. You can come in person or watch on our livestream!\nChild care is provided every Sunday.\nHere is a link to our Youtube page to join us via Livestream https://www.youtube.com/user/CurtisChurchTV
URL:https://curtisbc.org/event/sunday-service-5/2030-05-05/
ATTACH;FMTTYPE=image/png:https://curtisbc.org/wp-content/uploads/2021/11/1440-×-810-px.png
END:VEVENT
BEGIN:VEVENT
DTSTART;TZID=America/Halifax:20300508T173000
DTEND;TZID=America/Halifax:20300508T200000
DTSTAMP:20260420T114713
CREATED:20260219T142808Z
LAST-MODIFIED:20260219T142809Z
UID:10001540-1904491800-1904500800@curtisbc.org
SUMMARY:Wednesday Bible Studies
DESCRIPTION:Join us for our Wednesday Bible studies. There’s something for everyone!\n\n\nCurtis Kids: The Ark (Birth-4yr) & Nexkid Investigators (k4-5th) 6:00 PM – 7:00 PM\n\n\nCurtis Student Ministry: (6th-12th) 5:30 PM – 7:00 PM\n\n\nMen’s Bible Study: 6:00 PM – 7:00 PM\n\n\nWomen’s Bible Study: 6:00 PM – 7:00 PM\n\n\nAdult Choir Practice: 7:00 PM – 8:00 PM
URL:https://curtisbc.org/event/wednesday-bible-studies-4-9/2030-05-08/
ATTACH;FMTTYPE=image/png:https://curtisbc.org/wp-content/uploads/2020/12/LifeGroups-Restart.png
END:VEVENT
BEGIN:VEVENT
DTSTART;TZID=America/Halifax:20300512T101500
DTEND;TZID=America/Halifax:20300512T113000
DTSTAMP:20260420T114713
CREATED:20241219T160516Z
LAST-MODIFIED:20241219T161604Z
UID:10001586-1904811300-1904815800@curtisbc.org
SUMMARY:Sunday Service
DESCRIPTION:Join us every Sunday for Worship at 10:15AM. You can come in person or watch on our livestream!\nChild care is provided every Sunday.\nHere is a link to our Youtube page to join us via Livestream https://www.youtube.com/user/CurtisChurchTV
URL:https://curtisbc.org/event/sunday-service-5/2030-05-12/
ATTACH;FMTTYPE=image/png:https://curtisbc.org/wp-content/uploads/2021/11/1440-×-810-px.png
END:VEVENT
BEGIN:VEVENT
DTSTART;TZID=America/Halifax:20300515T173000
DTEND;TZID=America/Halifax:20300515T200000
DTSTAMP:20260420T114713
CREATED:20260219T142808Z
LAST-MODIFIED:20260219T142809Z
UID:10001541-1905096600-1905105600@curtisbc.org
SUMMARY:Wednesday Bible Studies
DESCRIPTION:Join us for our Wednesday Bible studies. There’s something for everyone!\n\n\nCurtis Kids: The Ark (Birth-4yr) & Nexkid Investigators (k4-5th) 6:00 PM – 7:00 PM\n\n\nCurtis Student Ministry: (6th-12th) 5:30 PM – 7:00 PM\n\n\nMen’s Bible Study: 6:00 PM – 7:00 PM\n\n\nWomen’s Bible Study: 6:00 PM – 7:00 PM\n\n\nAdult Choir Practice: 7:00 PM – 8:00 PM
URL:https://curtisbc.org/event/wednesday-bible-studies-4-9/2030-05-15/
ATTACH;FMTTYPE=image/png:https://curtisbc.org/wp-content/uploads/2020/12/LifeGroups-Restart.png
END:VEVENT
BEGIN:VEVENT
DTSTART;TZID=America/Halifax:20300519T101500
DTEND;TZID=America/Halifax:20300519T113000
DTSTAMP:20260420T114713
CREATED:20241219T160516Z
LAST-MODIFIED:20241219T161604Z
UID:10001587-1905416100-1905420600@curtisbc.org
SUMMARY:Sunday Service
DESCRIPTION:Join us every Sunday for Worship at 10:15AM. You can come in person or watch on our livestream!\nChild care is provided every Sunday.\nHere is a link to our Youtube page to join us via Livestream https://www.youtube.com/user/CurtisChurchTV
URL:https://curtisbc.org/event/sunday-service-5/2030-05-19/
ATTACH;FMTTYPE=image/png:https://curtisbc.org/wp-content/uploads/2021/11/1440-×-810-px.png
END:VEVENT
BEGIN:VEVENT
DTSTART;TZID=America/Halifax:20300522T173000
DTEND;TZID=America/Halifax:20300522T200000
DTSTAMP:20260420T114713
CREATED:20260219T142808Z
LAST-MODIFIED:20260219T142809Z
UID:10001542-1905701400-1905710400@curtisbc.org
SUMMARY:Wednesday Bible Studies
DESCRIPTION:Join us for our Wednesday Bible studies. There’s something for everyone!\n\n\nCurtis Kids: The Ark (Birth-4yr) & Nexkid Investigators (k4-5th) 6:00 PM – 7:00 PM\n\n\nCurtis Student Ministry: (6th-12th) 5:30 PM – 7:00 PM\n\n\nMen’s Bible Study: 6:00 PM – 7:00 PM\n\n\nWomen’s Bible Study: 6:00 PM – 7:00 PM\n\n\nAdult Choir Practice: 7:00 PM – 8:00 PM
URL:https://curtisbc.org/event/wednesday-bible-studies-4-9/2030-05-22/
ATTACH;FMTTYPE=image/png:https://curtisbc.org/wp-content/uploads/2020/12/LifeGroups-Restart.png
END:VEVENT
BEGIN:VEVENT
DTSTART;TZID=America/Halifax:20300526T101500
DTEND;TZID=America/Halifax:20300526T113000
DTSTAMP:20260420T114713
CREATED:20241219T160516Z
LAST-MODIFIED:20241219T161604Z
UID:10001588-1906020900-1906025400@curtisbc.org
SUMMARY:Sunday Service
DESCRIPTION:Join us every Sunday for Worship at 10:15AM. You can come in person or watch on our livestream!\nChild care is provided every Sunday.\nHere is a link to our Youtube page to join us via Livestream https://www.youtube.com/user/CurtisChurchTV
URL:https://curtisbc.org/event/sunday-service-5/2030-05-26/
ATTACH;FMTTYPE=image/png:https://curtisbc.org/wp-content/uploads/2021/11/1440-×-810-px.png
END:VEVENT
BEGIN:VEVENT
DTSTART;TZID=America/Halifax:20300529T173000
DTEND;TZID=America/Halifax:20300529T200000
DTSTAMP:20260420T114713
CREATED:20260219T142808Z
LAST-MODIFIED:20260219T142809Z
UID:10001543-1906306200-1906315200@curtisbc.org
SUMMARY:Wednesday Bible Studies
DESCRIPTION:Join us for our Wednesday Bible studies. There’s something for everyone!\n\n\nCurtis Kids: The Ark (Birth-4yr) & Nexkid Investigators (k4-5th) 6:00 PM – 7:00 PM\n\n\nCurtis Student Ministry: (6th-12th) 5:30 PM – 7:00 PM\n\n\nMen’s Bible Study: 6:00 PM – 7:00 PM\n\n\nWomen’s Bible Study: 6:00 PM – 7:00 PM\n\n\nAdult Choir Practice: 7:00 PM – 8:00 PM
URL:https://curtisbc.org/event/wednesday-bible-studies-4-9/2030-05-29/
ATTACH;FMTTYPE=image/png:https://curtisbc.org/wp-content/uploads/2020/12/LifeGroups-Restart.png
END:VEVENT
BEGIN:VEVENT
DTSTART;TZID=America/Halifax:20300602T101500
DTEND;TZID=America/Halifax:20300602T113000
DTSTAMP:20260420T114713
CREATED:20241219T160516Z
LAST-MODIFIED:20241219T161604Z
UID:10001589-1906625700-1906630200@curtisbc.org
SUMMARY:Sunday Service
DESCRIPTION:Join us every Sunday for Worship at 10:15AM. You can come in person or watch on our livestream!\nChild care is provided every Sunday.\nHere is a link to our Youtube page to join us via Livestream https://www.youtube.com/user/CurtisChurchTV
URL:https://curtisbc.org/event/sunday-service-5/2030-06-02/
ATTACH;FMTTYPE=image/png:https://curtisbc.org/wp-content/uploads/2021/11/1440-×-810-px.png
END:VEVENT
BEGIN:VEVENT
DTSTART;TZID=America/Halifax:20300605T173000
DTEND;TZID=America/Halifax:20300605T200000
DTSTAMP:20260420T114713
CREATED:20260219T142808Z
LAST-MODIFIED:20260219T142809Z
UID:10001554-1906911000-1906920000@curtisbc.org
SUMMARY:Wednesday Bible Studies
DESCRIPTION:Join us for our Wednesday Bible studies. There’s something for everyone!\n\n\nCurtis Kids: The Ark (Birth-4yr) & Nexkid Investigators (k4-5th) 6:00 PM – 7:00 PM\n\n\nCurtis Student Ministry: (6th-12th) 5:30 PM – 7:00 PM\n\n\nMen’s Bible Study: 6:00 PM – 7:00 PM\n\n\nWomen’s Bible Study: 6:00 PM – 7:00 PM\n\n\nAdult Choir Practice: 7:00 PM – 8:00 PM
URL:https://curtisbc.org/event/wednesday-bible-studies-4-9/2030-06-05/
ATTACH;FMTTYPE=image/png:https://curtisbc.org/wp-content/uploads/2020/12/LifeGroups-Restart.png
END:VEVENT
BEGIN:VEVENT
DTSTART;TZID=America/Halifax:20300609T101500
DTEND;TZID=America/Halifax:20300609T113000
DTSTAMP:20260420T114713
CREATED:20241219T160516Z
LAST-MODIFIED:20241219T161604Z
UID:10001590-1907230500-1907235000@curtisbc.org
SUMMARY:Sunday Service
DESCRIPTION:Join us every Sunday for Worship at 10:15AM. You can come in person or watch on our livestream!\nChild care is provided every Sunday.\nHere is a link to our Youtube page to join us via Livestream https://www.youtube.com/user/CurtisChurchTV
URL:https://curtisbc.org/event/sunday-service-5/2030-06-09/
ATTACH;FMTTYPE=image/png:https://curtisbc.org/wp-content/uploads/2021/11/1440-×-810-px.png
END:VEVENT
BEGIN:VEVENT
DTSTART;TZID=America/Halifax:20300612T173000
DTEND;TZID=America/Halifax:20300612T200000
DTSTAMP:20260420T114713
CREATED:20260219T142808Z
LAST-MODIFIED:20260219T142809Z
UID:10001555-1907515800-1907524800@curtisbc.org
SUMMARY:Wednesday Bible Studies
DESCRIPTION:Join us for our Wednesday Bible studies. There’s something for everyone!\n\n\nCurtis Kids: The Ark (Birth-4yr) & Nexkid Investigators (k4-5th) 6:00 PM – 7:00 PM\n\n\nCurtis Student Ministry: (6th-12th) 5:30 PM – 7:00 PM\n\n\nMen’s Bible Study: 6:00 PM – 7:00 PM\n\n\nWomen’s Bible Study: 6:00 PM – 7:00 PM\n\n\nAdult Choir Practice: 7:00 PM – 8:00 PM
URL:https://curtisbc.org/event/wednesday-bible-studies-4-9/2030-06-12/
ATTACH;FMTTYPE=image/png:https://curtisbc.org/wp-content/uploads/2020/12/LifeGroups-Restart.png
END:VEVENT
BEGIN:VEVENT
DTSTART;TZID=America/Halifax:20300616T101500
DTEND;TZID=America/Halifax:20300616T113000
DTSTAMP:20260420T114713
CREATED:20241219T160516Z
LAST-MODIFIED:20241219T161604Z
UID:10001591-1907835300-1907839800@curtisbc.org
SUMMARY:Sunday Service
DESCRIPTION:Join us every Sunday for Worship at 10:15AM. You can come in person or watch on our livestream!\nChild care is provided every Sunday.\nHere is a link to our Youtube page to join us via Livestream https://www.youtube.com/user/CurtisChurchTV
URL:https://curtisbc.org/event/sunday-service-5/2030-06-16/
ATTACH;FMTTYPE=image/png:https://curtisbc.org/wp-content/uploads/2021/11/1440-×-810-px.png
END:VEVENT
BEGIN:VEVENT
DTSTART;TZID=America/Halifax:20300619T173000
DTEND;TZID=America/Halifax:20300619T200000
DTSTAMP:20260420T114713
CREATED:20260219T142808Z
LAST-MODIFIED:20260219T142809Z
UID:10001556-1908120600-1908129600@curtisbc.org
SUMMARY:Wednesday Bible Studies
DESCRIPTION:Join us for our Wednesday Bible studies. There’s something for everyone!\n\n\nCurtis Kids: The Ark (Birth-4yr) & Nexkid Investigators (k4-5th) 6:00 PM – 7:00 PM\n\n\nCurtis Student Ministry: (6th-12th) 5:30 PM – 7:00 PM\n\n\nMen’s Bible Study: 6:00 PM – 7:00 PM\n\n\nWomen’s Bible Study: 6:00 PM – 7:00 PM\n\n\nAdult Choir Practice: 7:00 PM – 8:00 PM
URL:https://curtisbc.org/event/wednesday-bible-studies-4-9/2030-06-19/
ATTACH;FMTTYPE=image/png:https://curtisbc.org/wp-content/uploads/2020/12/LifeGroups-Restart.png
END:VEVENT
END:VCALENDAR