BEGIN:VCALENDAR
VERSION:2.0
PRODID:-//Curtis Baptist Church - ECPv6.15.20//NONSGML v1.0//EN
CALSCALE:GREGORIAN
METHOD:PUBLISH
X-ORIGINAL-URL:https://curtisbc.org
X-WR-CALDESC:Events for Curtis Baptist Church
REFRESH-INTERVAL;VALUE=DURATION:PT1H
X-Robots-Tag:noindex
X-PUBLISHED-TTL:PT1H
BEGIN:VTIMEZONE
TZID:America/Halifax
BEGIN:DAYLIGHT
TZOFFSETFROM:-0400
TZOFFSETTO:-0300
TZNAME:ADT
DTSTART:20240310T060000
END:DAYLIGHT
BEGIN:STANDARD
TZOFFSETFROM:-0300
TZOFFSETTO:-0400
TZNAME:AST
DTSTART:20241103T050000
END:STANDARD
BEGIN:DAYLIGHT
TZOFFSETFROM:-0400
TZOFFSETTO:-0300
TZNAME:ADT
DTSTART:20250309T060000
END:DAYLIGHT
BEGIN:STANDARD
TZOFFSETFROM:-0300
TZOFFSETTO:-0400
TZNAME:AST
DTSTART:20251102T050000
END:STANDARD
BEGIN:DAYLIGHT
TZOFFSETFROM:-0400
TZOFFSETTO:-0300
TZNAME:ADT
DTSTART:20260308T060000
END:DAYLIGHT
BEGIN:STANDARD
TZOFFSETFROM:-0300
TZOFFSETTO:-0400
TZNAME:AST
DTSTART:20261101T050000
END:STANDARD
END:VTIMEZONE
BEGIN:VEVENT
DTSTART;TZID=America/Halifax:20250413T101500
DTEND;TZID=America/Halifax:20250413T113000
DTSTAMP:20260420T095804
CREATED:20241219T160516Z
LAST-MODIFIED:20241219T161604Z
UID:10000949-1744539300-1744543800@curtisbc.org
SUMMARY:Sunday Service
DESCRIPTION:Join us every Sunday for Worship at 10:15AM. You can come in person or watch on our livestream!\nChild care is provided every Sunday.\nHere is a link to our Youtube page to join us via Livestream https://www.youtube.com/user/CurtisChurchTV
URL:https://curtisbc.org/event/sunday-service-5/2025-04-13/
ATTACH;FMTTYPE=image/png:https://curtisbc.org/wp-content/uploads/2021/11/1440-×-810-px.png
END:VEVENT
BEGIN:VEVENT
DTSTART;TZID=America/Halifax:20250415T110000
DTEND;TZID=America/Halifax:20250415T130000
DTSTAMP:20260420T095804
CREATED:20250320T134239Z
LAST-MODIFIED:20250320T134453Z
UID:10001483-1744714800-1744722000@curtisbc.org
SUMMARY:Happy 39'ers
DESCRIPTION:Our next Happy 39’ers lunch and meeting will be held on April 15th at 11 AM in room B105. The deadline to RSVP is April 6th. Let us know you are coming by using one of the follow ways to RSVP: Sign up in the Ministry Center\, call JanJee at 706-722-7348 (leave a message if she does not answer)\, or email her at jhitt@curtisbaptist.org.
URL:https://curtisbc.org/event/happy-39ers-10/
ATTACH;FMTTYPE=image/png:https://curtisbc.org/wp-content/uploads/2025/03/unnamed-2025-03-20T093844.122.png
END:VEVENT
BEGIN:VEVENT
DTSTART;TZID=America/Halifax:20250415T183000
DTEND;TZID=America/Halifax:20250415T210000
DTSTAMP:20260420T095804
CREATED:20250403T142826Z
LAST-MODIFIED:20250403T142826Z
UID:10001519-1744741800-1744750800@curtisbc.org
SUMMARY:Ladies' Night Out
DESCRIPTION:This month’s Ladies’ Night Out will be at Outback Steakhouse on Washington Road on April 15th at 6:30 PM. Afterwards\, Deb Ulrich will host the dessert at her house. Let Terese Denney know if you are coming by texting her at 706-799-3872 no later than April 14th.
URL:https://curtisbc.org/event/ladies-night-out-39/
ATTACH;FMTTYPE=image/png:https://curtisbc.org/wp-content/uploads/2025/04/unnamed-2025-04-03T102439.249.png
END:VEVENT
BEGIN:VEVENT
DTSTART;TZID=America/Halifax:20250416T173000
DTEND;TZID=America/Halifax:20250416T200000
DTSTAMP:20260420T095804
CREATED:20241219T161044Z
LAST-MODIFIED:20260219T142619Z
UID:10001209-1744824600-1744833600@curtisbc.org
SUMMARY:Wednesday Bible Studies
DESCRIPTION:Join us for our Wednesday Bible studies. There’s something for everyone!\n\n\nCurtis Kids: The Ark (Birth-4yr) & Nexkid Investigators (k4-5th) 6:00 PM – 7:00 PM\n\n\nCurtis Student Ministry: (6th-12th grades) 5:30 PM – 7:00 PM\n\n\nMen’s Bible Study: 6:00 PM – 7:00 PM\n\n\nWomen’s Bible Study: 6:00 PM – 7:00 PM\n\n\nAdult Choir Practice: 7:00 PM – 8:00 PM
URL:https://curtisbc.org/event/wednesday-bible-studies-4/2025-04-16/
ATTACH;FMTTYPE=image/png:https://curtisbc.org/wp-content/uploads/2020/12/LifeGroups-Restart.png
END:VEVENT
BEGIN:VEVENT
DTSTART;TZID=America/Halifax:20250417T183000
DTEND;TZID=America/Halifax:20250417T210000
DTSTAMP:20260420T095804
CREATED:20250410T161754Z
LAST-MODIFIED:20250410T161754Z
UID:10001521-1744914600-1744923600@curtisbc.org
SUMMARY:3rd Thursday Singles' Gathering
DESCRIPTION:Marie Wilson will host the 3rd Thursday Singles’ Gathering at her house on April 17th at 6:30 PM. Be sure to text her to let her know you are coming by April 15th (803-640-2776).
URL:https://curtisbc.org/event/3rd-thursday-singles-gathering-22/
ATTACH;FMTTYPE=image/png:https://curtisbc.org/wp-content/uploads/2025/04/unnamed-2025-04-10T121219.690.png
END:VEVENT
BEGIN:VEVENT
DTSTART;TZID=America/Halifax:20250419T113000
DTEND;TZID=America/Halifax:20250419T133000
DTSTAMP:20260420T095804
CREATED:20250327T124729Z
LAST-MODIFIED:20250418T115509Z
UID:10001487-1745062200-1745069400@curtisbc.org
SUMMARY:Curtis Kids Family Picnic and Easter Egg Hunt
DESCRIPTION:The Curtis Kids Family Picnic and Easter Egg Hunt will be held this Saturday\, April 19th. The event will take place at Curtis on the playground. Grab up the whole family and invite your friends to join you for this fun time!\nIf you would like to help with this event or if you have questions\, contact Pastor Ben at bpalacz@curtisbaptist.org or Susan Schaeffer at sschaeffer@curtisbaptist.org.
URL:https://curtisbc.org/event/curtis-kids-family-picnic-and-easter-egg-hunt/
ATTACH;FMTTYPE=image/png:https://curtisbc.org/wp-content/uploads/2025/03/unnamed-2025-04-10T122117.953.png
END:VEVENT
END:VCALENDAR