BEGIN:VCALENDAR
VERSION:2.0
PRODID:-//Curtis Baptist Church - ECPv6.15.20//NONSGML v1.0//EN
CALSCALE:GREGORIAN
METHOD:PUBLISH
X-WR-CALNAME:Curtis Baptist Church
X-ORIGINAL-URL:https://curtisbc.org
X-WR-CALDESC:Events for Curtis Baptist Church
REFRESH-INTERVAL;VALUE=DURATION:PT1H
X-Robots-Tag:noindex
X-PUBLISHED-TTL:PT1H
BEGIN:VTIMEZONE
TZID:America/Halifax
BEGIN:DAYLIGHT
TZOFFSETFROM:-0400
TZOFFSETTO:-0300
TZNAME:ADT
DTSTART:20240310T060000
END:DAYLIGHT
BEGIN:STANDARD
TZOFFSETFROM:-0300
TZOFFSETTO:-0400
TZNAME:AST
DTSTART:20241103T050000
END:STANDARD
BEGIN:DAYLIGHT
TZOFFSETFROM:-0400
TZOFFSETTO:-0300
TZNAME:ADT
DTSTART:20250309T060000
END:DAYLIGHT
BEGIN:STANDARD
TZOFFSETFROM:-0300
TZOFFSETTO:-0400
TZNAME:AST
DTSTART:20251102T050000
END:STANDARD
BEGIN:DAYLIGHT
TZOFFSETFROM:-0400
TZOFFSETTO:-0300
TZNAME:ADT
DTSTART:20260308T060000
END:DAYLIGHT
BEGIN:STANDARD
TZOFFSETFROM:-0300
TZOFFSETTO:-0400
TZNAME:AST
DTSTART:20261101T050000
END:STANDARD
END:VTIMEZONE
BEGIN:VEVENT
DTSTART;TZID=America/Halifax:20250914T093000
DTEND;TZID=America/Halifax:20250914T123000
DTSTAMP:20260419T170718
CREATED:20250904T193154Z
LAST-MODIFIED:20250904T193154Z
UID:10001606-1757842200-1757853000@curtisbc.org
SUMMARY:Deaf Worship and Covered Dish Lunch
DESCRIPTION:Join us for Deaf Worship and a Covered Dish Lunch in the Fireside Room on September 14th at 9:30 AM.
URL:https://curtisbc.org/event/deaf-worship-and-covered-dish-lunch-2/
ATTACH;FMTTYPE=image/png:https://curtisbc.org/wp-content/uploads/2020/12/deaf-ministry-logo.png
END:VEVENT
BEGIN:VEVENT
DTSTART;TZID=America/Halifax:20250914T101500
DTEND;TZID=America/Halifax:20250914T113000
DTSTAMP:20260419T170719
CREATED:20241219T160516Z
LAST-MODIFIED:20241219T161604Z
UID:10000971-1757844900-1757849400@curtisbc.org
SUMMARY:Sunday Service
DESCRIPTION:Join us every Sunday for Worship at 10:15AM. You can come in person or watch on our livestream!\nChild care is provided every Sunday.\nHere is a link to our Youtube page to join us via Livestream https://www.youtube.com/user/CurtisChurchTV
URL:https://curtisbc.org/event/sunday-service-5/2025-09-14/
ATTACH;FMTTYPE=image/png:https://curtisbc.org/wp-content/uploads/2021/11/1440-×-810-px.png
END:VEVENT
BEGIN:VEVENT
DTSTART;TZID=America/Halifax:20250914T110000
DTEND;TZID=America/Halifax:20250914T130000
DTSTAMP:20260419T170719
CREATED:20250918T133503Z
LAST-MODIFIED:20250918T133503Z
UID:10001615-1757847600-1757854800@curtisbc.org
SUMMARY:Happy 39ers
DESCRIPTION:The next Happy 39ers is scheduled for October 14th at 11 AM in B105. Anyone 55 and older is welcome to join us for our lunch meeting! The cost is $7/person but you will need to RSVP by October 6th so plans can be made for the catering. You can either sign up in the Ministry Center or email JanJee at jhitt@curtisbaptist.org. 
URL:https://curtisbc.org/event/happy-39ers-12/
ATTACH;FMTTYPE=image/png:https://curtisbc.org/wp-content/uploads/2025/09/unnamed-2025-09-18T093253.110.png
END:VEVENT
BEGIN:VEVENT
DTSTART;TZID=America/Halifax:20250917T173000
DTEND;TZID=America/Halifax:20250917T200000
DTSTAMP:20260419T170719
CREATED:20241219T161044Z
LAST-MODIFIED:20260219T142619Z
UID:10001231-1758130200-1758139200@curtisbc.org
SUMMARY:Wednesday Bible Studies
DESCRIPTION:Join us for our Wednesday Bible studies. There’s something for everyone!\n\n\nCurtis Kids: The Ark (Birth-4yr) & Nexkid Investigators (k4-5th) 6:00 PM – 7:00 PM\n\n\nCurtis Student Ministry: (6th-12th grades) 5:30 PM – 7:00 PM\n\n\nMen’s Bible Study: 6:00 PM – 7:00 PM\n\n\nWomen’s Bible Study: 6:00 PM – 7:00 PM\n\n\nAdult Choir Practice: 7:00 PM – 8:00 PM
URL:https://curtisbc.org/event/wednesday-bible-studies-4/2025-09-17/
ATTACH;FMTTYPE=image/png:https://curtisbc.org/wp-content/uploads/2020/12/LifeGroups-Restart.png
END:VEVENT
BEGIN:VEVENT
DTSTART;TZID=America/Halifax:20250918T183000
DTEND;TZID=America/Halifax:20250918T210000
DTSTAMP:20260419T170719
CREATED:20250911T135308Z
LAST-MODIFIED:20250911T135339Z
UID:10001609-1758220200-1758229200@curtisbc.org
SUMMARY:Third Thursday Singles' Gathering
DESCRIPTION:Marie Wilson will host this month’s Third Thursday Singles’ Gathering at her house on September 18th at 6:30 PM. Please let her know by September 16th if you will be coming by texting her at 803-640-2776.
URL:https://curtisbc.org/event/third-thursday-singles-gathering-14/
ATTACH;FMTTYPE=image/png:https://curtisbc.org/wp-content/uploads/2025/09/unnamed-2025-09-11T094731.800.png
END:VEVENT
BEGIN:VEVENT
DTSTART;TZID=America/Halifax:20250918T183000
DTEND;TZID=America/Halifax:20250918T210000
DTSTAMP:20260419T170719
CREATED:20250911T135736Z
LAST-MODIFIED:20250911T135736Z
UID:10001610-1758220200-1758229200@curtisbc.org
SUMMARY:CYA Hangout
DESCRIPTION:On September 18th\, Alan and Kim Jones will host the next CYA Hangout. Make plans to meet there at 6:30 PM\, but RSVP to Alan by texting him at 803-292-9779.
URL:https://curtisbc.org/event/cya-hangout-23/
ATTACH;FMTTYPE=image/png:https://curtisbc.org/wp-content/uploads/2025/09/unnamed-2025-09-11T095406.073.png
END:VEVENT
END:VCALENDAR