BEGIN:VCALENDAR
VERSION:2.0
PRODID:-//Curtis Baptist Church - ECPv6.15.20//NONSGML v1.0//EN
CALSCALE:GREGORIAN
METHOD:PUBLISH
X-ORIGINAL-URL:https://curtisbc.org
X-WR-CALDESC:Events for Curtis Baptist Church
REFRESH-INTERVAL;VALUE=DURATION:PT1H
X-Robots-Tag:noindex
X-PUBLISHED-TTL:PT1H
BEGIN:VTIMEZONE
TZID:America/Halifax
BEGIN:DAYLIGHT
TZOFFSETFROM:-0400
TZOFFSETTO:-0300
TZNAME:ADT
DTSTART:20240310T060000
END:DAYLIGHT
BEGIN:STANDARD
TZOFFSETFROM:-0300
TZOFFSETTO:-0400
TZNAME:AST
DTSTART:20241103T050000
END:STANDARD
BEGIN:DAYLIGHT
TZOFFSETFROM:-0400
TZOFFSETTO:-0300
TZNAME:ADT
DTSTART:20250309T060000
END:DAYLIGHT
BEGIN:STANDARD
TZOFFSETFROM:-0300
TZOFFSETTO:-0400
TZNAME:AST
DTSTART:20251102T050000
END:STANDARD
BEGIN:DAYLIGHT
TZOFFSETFROM:-0400
TZOFFSETTO:-0300
TZNAME:ADT
DTSTART:20260308T060000
END:DAYLIGHT
BEGIN:STANDARD
TZOFFSETFROM:-0300
TZOFFSETTO:-0400
TZNAME:AST
DTSTART:20261101T050000
END:STANDARD
END:VTIMEZONE
BEGIN:VEVENT
DTSTART;TZID=America/Halifax:20250921T101500
DTEND;TZID=America/Halifax:20250921T113000
DTSTAMP:20260419T155302
CREATED:20241219T160516Z
LAST-MODIFIED:20241219T161604Z
UID:10000972-1758449700-1758454200@curtisbc.org
SUMMARY:Sunday Service
DESCRIPTION:Join us every Sunday for Worship at 10:15AM. You can come in person or watch on our livestream!\nChild care is provided every Sunday.\nHere is a link to our Youtube page to join us via Livestream https://www.youtube.com/user/CurtisChurchTV
URL:https://curtisbc.org/event/sunday-service-5/2025-09-21/
ATTACH;FMTTYPE=image/png:https://curtisbc.org/wp-content/uploads/2021/11/1440-×-810-px.png
END:VEVENT
BEGIN:VEVENT
DTSTART;TZID=America/Halifax:20250921T113000
DTEND;TZID=America/Halifax:20250921T123000
DTSTAMP:20260419T155302
CREATED:20250830T011715Z
LAST-MODIFIED:20250830T011715Z
UID:10001602-1758454200-1758457800@curtisbc.org
SUMMARY:Pray For Me Campaign
DESCRIPTION:Do you want to build bridges to other generations within our church and call out to the Lord based on his Word for them? Our Pray For Me Campaign gives you the chance to do both! Sign up to commit TO PRAY or to BE PRAYED FOR (as a MS/HS student or family of birth – 5th grade kids). God works powerfully when his people pray.\nThe Pray For Me Campaign will launch on September 21st following the worship service. Please complete the form to be a part of this campaign to PRAY! For more information about Pray For Me\, contact Pastor Ben or Pastor Damon.
URL:https://curtisbc.org/event/pray-for-me-campaign/
ATTACH;FMTTYPE=image/png:https://curtisbc.org/wp-content/uploads/2025/08/unnamed-2025-08-29T211413.584.png
END:VEVENT
BEGIN:VEVENT
DTSTART;TZID=America/Halifax:20250921T140000
DTEND;TZID=America/Halifax:20250921T160000
DTSTAMP:20260419T155302
CREATED:20250918T132058Z
LAST-MODIFIED:20250918T132058Z
UID:10001611-1758463200-1758470400@curtisbc.org
SUMMARY:Men's Basketball
DESCRIPTION:Any guys interested in playing some basketball are welcome to join Nic Hoffmann at Cheeks Gym on Sunday\, September 21st from 2-4 PM. 
URL:https://curtisbc.org/event/mens-basketball-8/
END:VEVENT
BEGIN:VEVENT
DTSTART;TZID=America/Halifax:20250924T072000
DTEND;TZID=America/Halifax:20250924T074000
DTSTAMP:20260419T155302
CREATED:20250918T132854Z
LAST-MODIFIED:20250918T132854Z
UID:10001613-1758698400-1758699600@curtisbc.org
SUMMARY:See You At The Pole
DESCRIPTION:Everyone is invited to See You At The Pole on Wednesday\, September 24th as we gather on the Curtis playground for prayer from 7:20-7:40 AM.
URL:https://curtisbc.org/event/see-you-at-the-pole-2/
ATTACH;FMTTYPE=image/png:https://curtisbc.org/wp-content/uploads/2025/09/unnamed-2025-09-18T092503.490.png
END:VEVENT
BEGIN:VEVENT
DTSTART;TZID=America/Halifax:20250924T173000
DTEND;TZID=America/Halifax:20250924T200000
DTSTAMP:20260419T155302
CREATED:20241219T161044Z
LAST-MODIFIED:20260219T142619Z
UID:10001232-1758735000-1758744000@curtisbc.org
SUMMARY:Wednesday Bible Studies
DESCRIPTION:Join us for our Wednesday Bible studies. There’s something for everyone!\n\n\nCurtis Kids: The Ark (Birth-4yr) & Nexkid Investigators (k4-5th) 6:00 PM – 7:00 PM\n\n\nCurtis Student Ministry: (6th-12th grades) 5:30 PM – 7:00 PM\n\n\nMen’s Bible Study: 6:00 PM – 7:00 PM\n\n\nWomen’s Bible Study: 6:00 PM – 7:00 PM\n\n\nAdult Choir Practice: 7:00 PM – 8:00 PM
URL:https://curtisbc.org/event/wednesday-bible-studies-4/2025-09-24/
ATTACH;FMTTYPE=image/png:https://curtisbc.org/wp-content/uploads/2020/12/LifeGroups-Restart.png
END:VEVENT
END:VCALENDAR