BEGIN:VCALENDAR
VERSION:2.0
PRODID:-//Curtis Baptist Church - ECPv6.15.20//NONSGML v1.0//EN
CALSCALE:GREGORIAN
METHOD:PUBLISH
X-WR-CALNAME:Curtis Baptist Church
X-ORIGINAL-URL:https://curtisbc.org
X-WR-CALDESC:Events for Curtis Baptist Church
REFRESH-INTERVAL;VALUE=DURATION:PT1H
X-Robots-Tag:noindex
X-PUBLISHED-TTL:PT1H
BEGIN:VTIMEZONE
TZID:America/Halifax
BEGIN:DAYLIGHT
TZOFFSETFROM:-0400
TZOFFSETTO:-0300
TZNAME:ADT
DTSTART:20240310T060000
END:DAYLIGHT
BEGIN:STANDARD
TZOFFSETFROM:-0300
TZOFFSETTO:-0400
TZNAME:AST
DTSTART:20241103T050000
END:STANDARD
BEGIN:DAYLIGHT
TZOFFSETFROM:-0400
TZOFFSETTO:-0300
TZNAME:ADT
DTSTART:20250309T060000
END:DAYLIGHT
BEGIN:STANDARD
TZOFFSETFROM:-0300
TZOFFSETTO:-0400
TZNAME:AST
DTSTART:20251102T050000
END:STANDARD
BEGIN:DAYLIGHT
TZOFFSETFROM:-0400
TZOFFSETTO:-0300
TZNAME:ADT
DTSTART:20260308T060000
END:DAYLIGHT
BEGIN:STANDARD
TZOFFSETFROM:-0300
TZOFFSETTO:-0400
TZNAME:AST
DTSTART:20261101T050000
END:STANDARD
END:VTIMEZONE
BEGIN:VEVENT
DTSTART;TZID=America/Halifax:20251119T180000
DTEND;TZID=America/Halifax:20251217T190000
DTSTAMP:20260419T122741
CREATED:20251113T132804Z
LAST-MODIFIED:20251113T134507Z
UID:10001632-1763575200-1765998000@curtisbc.org
SUMMARY:Women's Wednesday night Bible study
DESCRIPTION:The Women’s Wednesday night Bible study class has begun – Good News\, Great Joy\, an advent study. It’s not too late for you to join them starting next week!
URL:https://curtisbc.org/event/14251/
ATTACH;FMTTYPE=image/png:https://curtisbc.org/wp-content/uploads/2025/11/unnamed-2025-11-13T082124.444.png
END:VEVENT
BEGIN:VEVENT
DTSTART;TZID=America/Halifax:20251207T090000
DTEND;TZID=America/Halifax:20251207T120000
DTSTAMP:20260419T122741
CREATED:20251120T133306Z
LAST-MODIFIED:20251120T133306Z
UID:10001639-1765098000-1765108800@curtisbc.org
SUMMARY:Touch of Love Ministry/Christmas Bags
DESCRIPTION:The Touch of Love Ministry will once again fill bags with goodies for our homebound members. Look for more information on Sunday on the table in the Ministry Center about how you can be involved with filling a bag. 
URL:https://curtisbc.org/event/touch-of-love-ministry-christmas-bags/
ATTACH;FMTTYPE=image/png:https://curtisbc.org/wp-content/uploads/2025/11/unnamed-2025-11-20T083017.405.png
END:VEVENT
BEGIN:VEVENT
DTSTART;TZID=America/Halifax:20251207T093000
DTEND;TZID=America/Halifax:20251207T120000
DTSTAMP:20260419T122741
CREATED:20251126T161130Z
LAST-MODIFIED:20251126T161130Z
UID:10001641-1765099800-1765108800@curtisbc.org
SUMMARY:Deaf Worship
DESCRIPTION:Join us for Deaf Worship in the Fireside room on December 7th\, at 9:30am followed by a covered dish luncheon.
URL:https://curtisbc.org/event/deaf-worship-11/
ATTACH;FMTTYPE=image/png:https://curtisbc.org/wp-content/uploads/2020/12/deaf-ministry-logo.png
END:VEVENT
BEGIN:VEVENT
DTSTART;TZID=America/Halifax:20251207T101500
DTEND;TZID=America/Halifax:20251207T113000
DTSTAMP:20260419T122741
CREATED:20241219T160516Z
LAST-MODIFIED:20241219T161604Z
UID:10000983-1765102500-1765107000@curtisbc.org
SUMMARY:Sunday Service
DESCRIPTION:Join us every Sunday for Worship at 10:15AM. You can come in person or watch on our livestream!\nChild care is provided every Sunday.\nHere is a link to our Youtube page to join us via Livestream https://www.youtube.com/user/CurtisChurchTV
URL:https://curtisbc.org/event/sunday-service-5/2025-12-07/
ATTACH;FMTTYPE=image/png:https://curtisbc.org/wp-content/uploads/2021/11/1440-×-810-px.png
END:VEVENT
BEGIN:VEVENT
DTSTART;TZID=America/Halifax:20251209T110000
DTEND;TZID=America/Halifax:20251209T130000
DTSTAMP:20260419T122741
CREATED:20251120T132226Z
LAST-MODIFIED:20251120T132226Z
UID:10001637-1765278000-1765285200@curtisbc.org
SUMMARY:December Happy 39'ers
DESCRIPTION:The December Happy 39’ers is scheduled for December 9th at 11 AM in B105. We hope you will make plans to attend this time of fellowshipping\, singing Christmas Carols\, and of course enjoying a delicious meal from Wife Saver! We are also doing a ornament gift exchange\, so everyone is to bring a wrapped Christmas ornament (valued at $5-$10).\nLet us know you are attending no later than December 1st. You can RSVP by calling 706-722-7348\, emailing jhitt@curtisbaptist.org\, or signing up in the Ministry Center.
URL:https://curtisbc.org/event/december-happy-39ers/
ATTACH;FMTTYPE=image/png:https://curtisbc.org/wp-content/uploads/2025/11/unnamed-2025-11-20T081842.241.png
END:VEVENT
BEGIN:VEVENT
DTSTART;TZID=America/Halifax:20251209T183000
DTEND;TZID=America/Halifax:20251209T213000
DTSTAMP:20260419T122741
CREATED:20251204T153449Z
LAST-MODIFIED:20251204T153449Z
UID:10001644-1765305000-1765315800@curtisbc.org
SUMMARY:Ladies' Night Out
DESCRIPTION:This month’s Ladies’ Night Out will be on December 9th at Carrabba’s on Washington Road. They will meet at Carrabba’s at 6:30 PM for dinner then go to Deb Ulrich’s house afterwards for dessert. Let Terese Denney know you are attending by texting her at 706-799-3872 by December 8th. 
URL:https://curtisbc.org/event/ladies-night-out-46/
ATTACH;FMTTYPE=image/png:https://curtisbc.org/wp-content/uploads/2025/12/unnamed-2025-12-04T103158.458.png
END:VEVENT
BEGIN:VEVENT
DTSTART;TZID=America/Halifax:20251210T173000
DTEND;TZID=America/Halifax:20251210T200000
DTSTAMP:20260419T122741
CREATED:20241219T161044Z
LAST-MODIFIED:20260219T142619Z
UID:10001243-1765387800-1765396800@curtisbc.org
SUMMARY:Wednesday Bible Studies
DESCRIPTION:Join us for our Wednesday Bible studies. There’s something for everyone!\n\n\nCurtis Kids: The Ark (Birth-4yr) & Nexkid Investigators (k4-5th) 6:00 PM – 7:00 PM\n\n\nCurtis Student Ministry: (6th-12th grades) 5:30 PM – 7:00 PM\n\n\nMen’s Bible Study: 6:00 PM – 7:00 PM\n\n\nWomen’s Bible Study: 6:00 PM – 7:00 PM\n\n\nAdult Choir Practice: 7:00 PM – 8:00 PM
URL:https://curtisbc.org/event/wednesday-bible-studies-4/2025-12-10/
ATTACH;FMTTYPE=image/png:https://curtisbc.org/wp-content/uploads/2020/12/LifeGroups-Restart.png
END:VEVENT
BEGIN:VEVENT
DTSTART;TZID=America/Halifax:20251211T183000
DTEND;TZID=America/Halifax:20251211T210000
DTSTAMP:20260419T122741
CREATED:20251211T134543Z
LAST-MODIFIED:20251211T134543Z
UID:10001645-1765477800-1765486800@curtisbc.org
SUMMARY:3rd Thursday Singles' Gathering
DESCRIPTION:The 3rd Thursday Singles’ Gathering is tonight (one week earlier) at Marie Wilson’s. Everyone is asked to bring a breakfast food to share and a $15 or less gift for the gift exchange game! Text Marie at 803-640-2776 if you are planning to attend.
URL:https://curtisbc.org/event/3rd-thursday-singles-gathering-26/
ATTACH;FMTTYPE=image/png:https://curtisbc.org/wp-content/uploads/2025/12/unnamed-2025-12-11T084149.218.png
END:VEVENT
END:VCALENDAR