BEGIN:VCALENDAR
VERSION:2.0
PRODID:-//Curtis Baptist Church - ECPv6.15.20//NONSGML v1.0//EN
CALSCALE:GREGORIAN
METHOD:PUBLISH
X-ORIGINAL-URL:https://curtisbc.org
X-WR-CALDESC:Events for Curtis Baptist Church
REFRESH-INTERVAL;VALUE=DURATION:PT1H
X-Robots-Tag:noindex
X-PUBLISHED-TTL:PT1H
BEGIN:VTIMEZONE
TZID:America/Halifax
BEGIN:DAYLIGHT
TZOFFSETFROM:-0400
TZOFFSETTO:-0300
TZNAME:ADT
DTSTART:20240310T060000
END:DAYLIGHT
BEGIN:STANDARD
TZOFFSETFROM:-0300
TZOFFSETTO:-0400
TZNAME:AST
DTSTART:20241103T050000
END:STANDARD
BEGIN:DAYLIGHT
TZOFFSETFROM:-0400
TZOFFSETTO:-0300
TZNAME:ADT
DTSTART:20250309T060000
END:DAYLIGHT
BEGIN:STANDARD
TZOFFSETFROM:-0300
TZOFFSETTO:-0400
TZNAME:AST
DTSTART:20251102T050000
END:STANDARD
BEGIN:DAYLIGHT
TZOFFSETFROM:-0400
TZOFFSETTO:-0300
TZNAME:ADT
DTSTART:20260308T060000
END:DAYLIGHT
BEGIN:STANDARD
TZOFFSETFROM:-0300
TZOFFSETTO:-0400
TZNAME:AST
DTSTART:20261101T050000
END:STANDARD
END:VTIMEZONE
BEGIN:VEVENT
DTSTART;TZID=America/Halifax:20251221T101500
DTEND;TZID=America/Halifax:20251221T113000
DTSTAMP:20260419T134442
CREATED:20251218T144516Z
LAST-MODIFIED:20251218T144517Z
UID:10000985-1766312100-1766316600@curtisbc.org
SUMMARY:Sunday Service
DESCRIPTION:Join us every Sunday for Worship at 10:15AM. You can come in person or watch on our livestream!\nChild care is provided every Sunday.\nHere is a link to our Youtube page to join us via Livestream https://www.youtube.com/user/CurtisChurchTV
URL:https://curtisbc.org/event/sunday-service-5-4/
ATTACH;FMTTYPE=image/png:https://curtisbc.org/wp-content/uploads/2024/12/unnamed-2025-12-18T094417.258.png
END:VEVENT
BEGIN:VEVENT
DTSTART;TZID=America/Halifax:20251224T170000
DTEND;TZID=America/Halifax:20251224T180000
DTSTAMP:20260419T134442
CREATED:20251204T152947Z
LAST-MODIFIED:20251204T152947Z
UID:10001643-1766595600-1766599200@curtisbc.org
SUMMARY:Christmas Eve Service
DESCRIPTION:We will have our annual Christmas Eve Service on December 24th at 5 PM. Bring the whole family for this special time of worship.
URL:https://curtisbc.org/event/christmas-eve-service-2/
ATTACH;FMTTYPE=image/png:https://curtisbc.org/wp-content/uploads/2025/12/unnamed-2025-12-04T102711.382.png
END:VEVENT
BEGIN:VEVENT
DTSTART;TZID=America/Halifax:20251224T173000
DTEND;TZID=America/Halifax:20251224T190000
DTSTAMP:20260419T134442
CREATED:20251218T143021Z
LAST-MODIFIED:20251218T143021Z
UID:10001722-1766597400-1766602800@curtisbc.org
SUMMARY:NO Wednesday Night Bible Studies
DESCRIPTION:We will not have Wednesday night Bible study/discipleship classes on December 24th and 31st. We will resume on January 7th with our Lighting of the Lamp Post at 6 PM. 
URL:https://curtisbc.org/event/no-wednesday-night-bible-studies/
ATTACH;FMTTYPE=image/png:https://curtisbc.org/wp-content/uploads/2025/12/unnamed-2025-12-18T085424.479.png
END:VEVENT
END:VCALENDAR