BEGIN:VCALENDAR
VERSION:2.0
PRODID:-//Curtis Baptist Church - ECPv6.15.20//NONSGML v1.0//EN
CALSCALE:GREGORIAN
METHOD:PUBLISH
X-WR-CALNAME:Curtis Baptist Church
X-ORIGINAL-URL:https://curtisbc.org
X-WR-CALDESC:Events for Curtis Baptist Church
REFRESH-INTERVAL;VALUE=DURATION:PT1H
X-Robots-Tag:noindex
X-PUBLISHED-TTL:PT1H
BEGIN:VTIMEZONE
TZID:America/Halifax
BEGIN:DAYLIGHT
TZOFFSETFROM:-0400
TZOFFSETTO:-0300
TZNAME:ADT
DTSTART:20250309T060000
END:DAYLIGHT
BEGIN:STANDARD
TZOFFSETFROM:-0300
TZOFFSETTO:-0400
TZNAME:AST
DTSTART:20251102T050000
END:STANDARD
BEGIN:DAYLIGHT
TZOFFSETFROM:-0400
TZOFFSETTO:-0300
TZNAME:ADT
DTSTART:20260308T060000
END:DAYLIGHT
BEGIN:STANDARD
TZOFFSETFROM:-0300
TZOFFSETTO:-0400
TZNAME:AST
DTSTART:20261101T050000
END:STANDARD
BEGIN:DAYLIGHT
TZOFFSETFROM:-0400
TZOFFSETTO:-0300
TZNAME:ADT
DTSTART:20270314T060000
END:DAYLIGHT
BEGIN:STANDARD
TZOFFSETFROM:-0300
TZOFFSETTO:-0400
TZNAME:AST
DTSTART:20271107T050000
END:STANDARD
END:VTIMEZONE
BEGIN:VEVENT
DTSTART;TZID=America/Halifax:20260104T101500
DTEND;TZID=America/Halifax:20260104T113000
DTSTAMP:20260421T054110
CREATED:20241219T160516Z
LAST-MODIFIED:20241219T161604Z
UID:10000987-1767521700-1767526200@curtisbc.org
SUMMARY:Sunday Service
DESCRIPTION:Join us every Sunday for Worship at 10:15AM. You can come in person or watch on our livestream!\nChild care is provided every Sunday.\nHere is a link to our Youtube page to join us via Livestream https://www.youtube.com/user/CurtisChurchTV
URL:https://curtisbc.org/event/sunday-service-5/2026-01-04/
ATTACH;FMTTYPE=image/png:https://curtisbc.org/wp-content/uploads/2021/11/1440-×-810-px.png
END:VEVENT
BEGIN:VEVENT
DTSTART;TZID=America/Halifax:20260107T180000
DTEND;TZID=America/Halifax:20260107T190000
DTSTAMP:20260421T054110
CREATED:20251120T130949Z
LAST-MODIFIED:20251231T185733Z
UID:10001635-1767808800-1767812400@curtisbc.org
SUMMARY:Lighting of the Lamp Post
DESCRIPTION:This Wednesday we will have our special time of Lighting of the Lamp Post. We will begin by gathering in the Ministry Center and then move to the new location of the lamp post and historical sign at the end of the side walk in the front parking lot. Make plans to attend this time of celebrating.
URL:https://curtisbc.org/event/lighting-of-the-lamp-post/
ATTACH;FMTTYPE=image/png:https://curtisbc.org/wp-content/uploads/2025/11/unnamed-2025-12-31T135534.565.png
END:VEVENT
BEGIN:VEVENT
DTSTART;TZID=America/Halifax:20260108T183000
DTEND;TZID=America/Halifax:20260108T213000
DTSTAMP:20260421T054110
CREATED:20251231T190256Z
LAST-MODIFIED:20251231T190256Z
UID:10001740-1767897000-1767907800@curtisbc.org
SUMMARY:Ladies' Night Out
DESCRIPTION:Ladies’ Night Out will kick off the New Year on January 8th at French Market Grille West on Furys Ferry Road. They will meet at 6:30 PM at the restaurant\, but please text Terese by January 7th to let her know you will be coming (706-799-3872).
URL:https://curtisbc.org/event/ladies-night-out-47/
ATTACH;FMTTYPE=image/png:https://curtisbc.org/wp-content/uploads/2025/12/unnamed-2025-12-31T140050.811.png
END:VEVENT
END:VCALENDAR