BEGIN:VCALENDAR
VERSION:2.0
PRODID:-//Curtis Baptist Church - ECPv6.15.20//NONSGML v1.0//EN
CALSCALE:GREGORIAN
METHOD:PUBLISH
X-WR-CALNAME:Curtis Baptist Church
X-ORIGINAL-URL:https://curtisbc.org
X-WR-CALDESC:Events for Curtis Baptist Church
REFRESH-INTERVAL;VALUE=DURATION:PT1H
X-Robots-Tag:noindex
X-PUBLISHED-TTL:PT1H
BEGIN:VTIMEZONE
TZID:America/Halifax
BEGIN:DAYLIGHT
TZOFFSETFROM:-0400
TZOFFSETTO:-0300
TZNAME:ADT
DTSTART:20250309T060000
END:DAYLIGHT
BEGIN:STANDARD
TZOFFSETFROM:-0300
TZOFFSETTO:-0400
TZNAME:AST
DTSTART:20251102T050000
END:STANDARD
BEGIN:DAYLIGHT
TZOFFSETFROM:-0400
TZOFFSETTO:-0300
TZNAME:ADT
DTSTART:20260308T060000
END:DAYLIGHT
BEGIN:STANDARD
TZOFFSETFROM:-0300
TZOFFSETTO:-0400
TZNAME:AST
DTSTART:20261101T050000
END:STANDARD
BEGIN:DAYLIGHT
TZOFFSETFROM:-0400
TZOFFSETTO:-0300
TZNAME:ADT
DTSTART:20270314T060000
END:DAYLIGHT
BEGIN:STANDARD
TZOFFSETFROM:-0300
TZOFFSETTO:-0400
TZNAME:AST
DTSTART:20271107T050000
END:STANDARD
END:VTIMEZONE
BEGIN:VEVENT
DTSTART;TZID=America/Halifax:20260111T100000
DTEND;TZID=America/Halifax:20260111T110000
DTSTAMP:20260419T134210
CREATED:20251120T131454Z
LAST-MODIFIED:20251231T190017Z
UID:10001636-1768125600-1768129200@curtisbc.org
SUMMARY:150th Year Celebration  
DESCRIPTION:We are so excited about our 150 Year Celebration Service on January 11th as we look at the ministry of our church and also cast a vision for impacting the world with the gospel.  We will hear from former pastors\, some will share testimonies\, we will worship through song\, prayer and through God’s Word. Following the service\, we will have a time of prayer\, dedication of our renovated area\, fellowship and open the new space for a walk through. Looking forward to this time of celebrating God’s faithfulness! 
URL:https://curtisbc.org/event/150th-year-celebration-new-worship-are-revealing-prayer/
ATTACH;FMTTYPE=image/png:https://curtisbc.org/wp-content/uploads/2025/11/unnamed-2025-12-31T135753.152.png
END:VEVENT
BEGIN:VEVENT
DTSTART;TZID=America/Halifax:20260111T101500
DTEND;TZID=America/Halifax:20260111T113000
DTSTAMP:20260419T134210
CREATED:20241219T160516Z
LAST-MODIFIED:20241219T161604Z
UID:10000988-1768126500-1768131000@curtisbc.org
SUMMARY:Sunday Service
DESCRIPTION:Join us every Sunday for Worship at 10:15AM. You can come in person or watch on our livestream!\nChild care is provided every Sunday.\nHere is a link to our Youtube page to join us via Livestream https://www.youtube.com/user/CurtisChurchTV
URL:https://curtisbc.org/event/sunday-service-5/2026-01-11/
ATTACH;FMTTYPE=image/png:https://curtisbc.org/wp-content/uploads/2021/11/1440-×-810-px.png
END:VEVENT
BEGIN:VEVENT
DTSTART;TZID=America/Halifax:20260114T173000
DTEND;TZID=America/Halifax:20260114T200000
DTSTAMP:20260419T134210
CREATED:20241219T161044Z
LAST-MODIFIED:20260219T142619Z
UID:10001248-1768411800-1768420800@curtisbc.org
SUMMARY:Wednesday Bible Studies
DESCRIPTION:Join us for our Wednesday Bible studies. There’s something for everyone!\n\n\nCurtis Kids: The Ark (Birth-4yr) & Nexkid Investigators (k4-5th) 6:00 PM – 7:00 PM\n\n\nCurtis Student Ministry: (6th-12th grades) 5:30 PM – 7:00 PM\n\n\nMen’s Bible Study: 6:00 PM – 7:00 PM\n\n\nWomen’s Bible Study: 6:00 PM – 7:00 PM\n\n\nAdult Choir Practice: 7:00 PM – 8:00 PM
URL:https://curtisbc.org/event/wednesday-bible-studies-4/2026-01-14/
ATTACH;FMTTYPE=image/png:https://curtisbc.org/wp-content/uploads/2020/12/LifeGroups-Restart.png
END:VEVENT
BEGIN:VEVENT
DTSTART;TZID=America/Halifax:20260114T180000
DTEND;TZID=America/Halifax:20260114T190000
DTSTAMP:20260419T134210
CREATED:20260114T184541Z
LAST-MODIFIED:20260114T184541Z
UID:10001745-1768413600-1768417200@curtisbc.org
SUMMARY:Women's Wednesday Night Bible Study
DESCRIPTION:The Women’s Wednesday Night Bible Study Class is studying through Colossians. Books are $5 and can be purchased in class. Come as we strengthen our faith and knowledge of God’s Word! Every Wednesday at 6 PM in Cafe 180 (right side).
URL:https://curtisbc.org/event/womens-wednesday-night-bible-study-3/
ATTACH;FMTTYPE=image/png:https://curtisbc.org/wp-content/uploads/2026/01/unnamed-2026-01-14T134033.310.png
END:VEVENT
BEGIN:VEVENT
DTSTART;TZID=America/Halifax:20260115T183000
DTEND;TZID=America/Halifax:20260115T210000
DTSTAMP:20260419T134210
CREATED:20260114T185408Z
LAST-MODIFIED:20260114T185408Z
UID:10001746-1768501800-1768510800@curtisbc.org
SUMMARY:3rd Thursday Singles' Gathering
DESCRIPTION:3rd Thursday Singles’ Gathering at Marie Wilson’s house. You need to RSVP by 1/14 if you have not already done so! Text Marie at 803-640-2776.
URL:https://curtisbc.org/event/3rd-thursday-singles-gathering-27/
ATTACH;FMTTYPE=image/png:https://curtisbc.org/wp-content/uploads/2026/01/unnamed-2026-01-14T135059.521.png
END:VEVENT
END:VCALENDAR