BEGIN:VCALENDAR
VERSION:2.0
PRODID:-//Curtis Baptist Church - ECPv6.15.20//NONSGML v1.0//EN
CALSCALE:GREGORIAN
METHOD:PUBLISH
X-WR-CALNAME:Curtis Baptist Church
X-ORIGINAL-URL:https://curtisbc.org
X-WR-CALDESC:Events for Curtis Baptist Church
REFRESH-INTERVAL;VALUE=DURATION:PT1H
X-Robots-Tag:noindex
X-PUBLISHED-TTL:PT1H
BEGIN:VTIMEZONE
TZID:America/Halifax
BEGIN:DAYLIGHT
TZOFFSETFROM:-0400
TZOFFSETTO:-0300
TZNAME:ADT
DTSTART:20250309T060000
END:DAYLIGHT
BEGIN:STANDARD
TZOFFSETFROM:-0300
TZOFFSETTO:-0400
TZNAME:AST
DTSTART:20251102T050000
END:STANDARD
BEGIN:DAYLIGHT
TZOFFSETFROM:-0400
TZOFFSETTO:-0300
TZNAME:ADT
DTSTART:20260308T060000
END:DAYLIGHT
BEGIN:STANDARD
TZOFFSETFROM:-0300
TZOFFSETTO:-0400
TZNAME:AST
DTSTART:20261101T050000
END:STANDARD
BEGIN:DAYLIGHT
TZOFFSETFROM:-0400
TZOFFSETTO:-0300
TZNAME:ADT
DTSTART:20270314T060000
END:DAYLIGHT
BEGIN:STANDARD
TZOFFSETFROM:-0300
TZOFFSETTO:-0400
TZNAME:AST
DTSTART:20271107T050000
END:STANDARD
END:VTIMEZONE
BEGIN:VEVENT
DTSTART;TZID=America/Halifax:20260118T101500
DTEND;TZID=America/Halifax:20260118T113000
DTSTAMP:20260419T150752
CREATED:20241219T160516Z
LAST-MODIFIED:20241219T161604Z
UID:10000989-1768731300-1768735800@curtisbc.org
SUMMARY:Sunday Service
DESCRIPTION:Join us every Sunday for Worship at 10:15AM. You can come in person or watch on our livestream!\nChild care is provided every Sunday.\nHere is a link to our Youtube page to join us via Livestream https://www.youtube.com/user/CurtisChurchTV
URL:https://curtisbc.org/event/sunday-service-5/2026-01-18/
ATTACH;FMTTYPE=image/png:https://curtisbc.org/wp-content/uploads/2021/11/1440-×-810-px.png
END:VEVENT
BEGIN:VEVENT
DTSTART;TZID=America/Halifax:20260118T101500
DTEND;TZID=America/Halifax:20260118T113000
DTSTAMP:20260419T150752
CREATED:20260114T183523Z
LAST-MODIFIED:20260114T183640Z
UID:10001743-1768731300-1768735800@curtisbc.org
SUMMARY:Time of Remembrance
DESCRIPTION:This Sunday during our worship service\, we will have a Time of Remembrance as we remember those who went to their eternal home in 2025. Please join us in praying for these families to continue to feel God’s peace and depend on His strength during their time of loss.
URL:https://curtisbc.org/event/time-of-remembrance-2/
ATTACH;FMTTYPE=image/png:https://curtisbc.org/wp-content/uploads/2026/01/unnamed-2026-01-14T133128.190.png
END:VEVENT
BEGIN:VEVENT
DTSTART;TZID=America/Halifax:20260118T140000
DTEND;TZID=America/Halifax:20260118T160000
DTSTAMP:20260419T150752
CREATED:20260114T185628Z
LAST-MODIFIED:20260114T185628Z
UID:10001747-1768744800-1768752000@curtisbc.org
SUMMARY:Men's Basketball
DESCRIPTION:The Men’s Basketball group will meet this Sunday\, January 18th at 2 PM for fellowship and basketball at Cheeks Gym. Invite a friend and join us!
URL:https://curtisbc.org/event/mens-basketball-10/
ATTACH;FMTTYPE=image/png:https://curtisbc.org/wp-content/uploads/2026/01/unnamed-2026-01-14T135424.085.png
END:VEVENT
BEGIN:VEVENT
DTSTART;TZID=America/Halifax:20260121T173000
DTEND;TZID=America/Halifax:20260121T200000
DTSTAMP:20260419T150752
CREATED:20241219T161044Z
LAST-MODIFIED:20260219T142619Z
UID:10001249-1769016600-1769025600@curtisbc.org
SUMMARY:Wednesday Bible Studies
DESCRIPTION:Join us for our Wednesday Bible studies. There’s something for everyone!\n\n\nCurtis Kids: The Ark (Birth-4yr) & Nexkid Investigators (k4-5th) 6:00 PM – 7:00 PM\n\n\nCurtis Student Ministry: (6th-12th grades) 5:30 PM – 7:00 PM\n\n\nMen’s Bible Study: 6:00 PM – 7:00 PM\n\n\nWomen’s Bible Study: 6:00 PM – 7:00 PM\n\n\nAdult Choir Practice: 7:00 PM – 8:00 PM
URL:https://curtisbc.org/event/wednesday-bible-studies-4/2026-01-21/
ATTACH;FMTTYPE=image/png:https://curtisbc.org/wp-content/uploads/2020/12/LifeGroups-Restart.png
END:VEVENT
END:VCALENDAR