BEGIN:VCALENDAR
VERSION:2.0
PRODID:-//Curtis Baptist Church - ECPv6.15.20//NONSGML v1.0//EN
CALSCALE:GREGORIAN
METHOD:PUBLISH
X-ORIGINAL-URL:https://curtisbc.org
X-WR-CALDESC:Events for Curtis Baptist Church
REFRESH-INTERVAL;VALUE=DURATION:PT1H
X-Robots-Tag:noindex
X-PUBLISHED-TTL:PT1H
BEGIN:VTIMEZONE
TZID:America/Halifax
BEGIN:DAYLIGHT
TZOFFSETFROM:-0400
TZOFFSETTO:-0300
TZNAME:ADT
DTSTART:20250309T060000
END:DAYLIGHT
BEGIN:STANDARD
TZOFFSETFROM:-0300
TZOFFSETTO:-0400
TZNAME:AST
DTSTART:20251102T050000
END:STANDARD
BEGIN:DAYLIGHT
TZOFFSETFROM:-0400
TZOFFSETTO:-0300
TZNAME:ADT
DTSTART:20260308T060000
END:DAYLIGHT
BEGIN:STANDARD
TZOFFSETFROM:-0300
TZOFFSETTO:-0400
TZNAME:AST
DTSTART:20261101T050000
END:STANDARD
BEGIN:DAYLIGHT
TZOFFSETFROM:-0400
TZOFFSETTO:-0300
TZNAME:ADT
DTSTART:20270314T060000
END:DAYLIGHT
BEGIN:STANDARD
TZOFFSETFROM:-0300
TZOFFSETTO:-0400
TZNAME:AST
DTSTART:20271107T050000
END:STANDARD
END:VTIMEZONE
BEGIN:VEVENT
DTSTART;TZID=America/Halifax:20260201T101500
DTEND;TZID=America/Halifax:20260201T113000
DTSTAMP:20260419T091751
CREATED:20260202T183623Z
LAST-MODIFIED:20260202T183624Z
UID:10000991-1769940900-1769945400@curtisbc.org
SUMMARY:Sunday Service
DESCRIPTION:Due to the wintry weather\, we have decided to move tomorrow’s service to online only as Pastor Mark brings the next message from the Be the Church Build the Church sermon series.\nThe service will be available to watch starting at 10 AM tomorrow using this link: https://youtu.be/_jiZfYW2R5U.\nPrepare for the message by reading 1 Thessalonians 1:1-10.\nStay warm and stay safe!
URL:https://curtisbc.org/event/sunday-service-5-5/
ATTACH;FMTTYPE=image/png:https://curtisbc.org/wp-content/uploads/2024/12/unnamed-2026-02-02T133508.866.png
END:VEVENT
BEGIN:VEVENT
DTSTART;TZID=America/Halifax:20260204T173000
DTEND;TZID=America/Halifax:20260204T200000
DTSTAMP:20260419T091751
CREATED:20241219T161044Z
LAST-MODIFIED:20260219T142619Z
UID:10001251-1770226200-1770235200@curtisbc.org
SUMMARY:Wednesday Bible Studies
DESCRIPTION:Join us for our Wednesday Bible studies. There’s something for everyone!\n\n\nCurtis Kids: The Ark (Birth-4yr) & Nexkid Investigators (k4-5th) 6:00 PM – 7:00 PM\n\n\nCurtis Student Ministry: (6th-12th grades) 5:30 PM – 7:00 PM\n\n\nMen’s Bible Study: 6:00 PM – 7:00 PM\n\n\nWomen’s Bible Study: 6:00 PM – 7:00 PM\n\n\nAdult Choir Practice: 7:00 PM – 8:00 PM
URL:https://curtisbc.org/event/wednesday-bible-studies-4/2026-02-04/
ATTACH;FMTTYPE=image/png:https://curtisbc.org/wp-content/uploads/2020/12/LifeGroups-Restart.png
END:VEVENT
END:VCALENDAR