BEGIN:VCALENDAR
VERSION:2.0
PRODID:-//Curtis Baptist Church - ECPv6.15.20//NONSGML v1.0//EN
CALSCALE:GREGORIAN
METHOD:PUBLISH
X-ORIGINAL-URL:https://curtisbc.org
X-WR-CALDESC:Events for Curtis Baptist Church
REFRESH-INTERVAL;VALUE=DURATION:PT1H
X-Robots-Tag:noindex
X-PUBLISHED-TTL:PT1H
BEGIN:VTIMEZONE
TZID:America/Halifax
BEGIN:DAYLIGHT
TZOFFSETFROM:-0400
TZOFFSETTO:-0300
TZNAME:ADT
DTSTART:20250309T060000
END:DAYLIGHT
BEGIN:STANDARD
TZOFFSETFROM:-0300
TZOFFSETTO:-0400
TZNAME:AST
DTSTART:20251102T050000
END:STANDARD
BEGIN:DAYLIGHT
TZOFFSETFROM:-0400
TZOFFSETTO:-0300
TZNAME:ADT
DTSTART:20260308T060000
END:DAYLIGHT
BEGIN:STANDARD
TZOFFSETFROM:-0300
TZOFFSETTO:-0400
TZNAME:AST
DTSTART:20261101T050000
END:STANDARD
BEGIN:DAYLIGHT
TZOFFSETFROM:-0400
TZOFFSETTO:-0300
TZNAME:ADT
DTSTART:20270314T060000
END:DAYLIGHT
BEGIN:STANDARD
TZOFFSETFROM:-0300
TZOFFSETTO:-0400
TZNAME:AST
DTSTART:20271107T050000
END:STANDARD
END:VTIMEZONE
BEGIN:VEVENT
DTSTART;TZID=America/Halifax:20260628T080000
DTEND;TZID=America/Halifax:20260703T170000
DTSTAMP:20260419T132722
CREATED:20260305T154331Z
LAST-MODIFIED:20260326T130544Z
UID:10001776-1782633600-1783098000@curtisbc.org
SUMMARY:CSM Summer Camp
DESCRIPTION:CSM Summer Camp will be June 28th-July 3rd as we head to Awanita Valley Christian Camp for a week. Sign up is now open! Registration is $315 per student. CLICK TO SIGN UP TODAY!
URL:https://curtisbc.org/event/14471/
ATTACH;FMTTYPE=image/png:https://curtisbc.org/wp-content/uploads/2026/03/unnamed-2026-03-05T103949.711.png
END:VEVENT
BEGIN:VEVENT
DTSTART;TZID=America/Halifax:20260628T101500
DTEND;TZID=America/Halifax:20260628T113000
DTSTAMP:20260419T132722
CREATED:20241219T160516Z
LAST-MODIFIED:20241219T161604Z
UID:10001012-1782641700-1782646200@curtisbc.org
SUMMARY:Sunday Service
DESCRIPTION:Join us every Sunday for Worship at 10:15AM. You can come in person or watch on our livestream!\nChild care is provided every Sunday.\nHere is a link to our Youtube page to join us via Livestream https://www.youtube.com/user/CurtisChurchTV
URL:https://curtisbc.org/event/sunday-service-5/2026-06-28/
ATTACH;FMTTYPE=image/png:https://curtisbc.org/wp-content/uploads/2021/11/1440-×-810-px.png
END:VEVENT
BEGIN:VEVENT
DTSTART;TZID=America/Halifax:20260701T173000
DTEND;TZID=America/Halifax:20260701T200000
DTSTAMP:20260419T132722
CREATED:20260219T142808Z
LAST-MODIFIED:20260219T142809Z
UID:10001272-1782927000-1782936000@curtisbc.org
SUMMARY:Wednesday Bible Studies
DESCRIPTION:Join us for our Wednesday Bible studies. There’s something for everyone!\n\n\nCurtis Kids: The Ark (Birth-4yr) & Nexkid Investigators (k4-5th) 6:00 PM – 7:00 PM\n\n\nCurtis Student Ministry: (6th-12th) 5:30 PM – 7:00 PM\n\n\nMen’s Bible Study: 6:00 PM – 7:00 PM\n\n\nWomen’s Bible Study: 6:00 PM – 7:00 PM\n\n\nAdult Choir Practice: 7:00 PM – 8:00 PM
URL:https://curtisbc.org/event/wednesday-bible-studies-4-9/2026-07-01/
ATTACH;FMTTYPE=image/png:https://curtisbc.org/wp-content/uploads/2020/12/LifeGroups-Restart.png
END:VEVENT
END:VCALENDAR